Package: CytoML Version: 2.23.0 Command: /home/rapidbuild/bbs-3.23-bioc-rapid/R/bin/R CMD INSTALL CytoML StartedAt: 2025-11-15 06:25:14 -0500 (Sat, 15 Nov 2025) EndedAt: 2025-11-15 06:26:01 -0500 (Sat, 15 Nov 2025) EllapsedTime: 46.8 seconds RetCode: 0 Status: OK