Package: CytoML Version: 2.23.0 Command: /home/rapidbuild/bbs-3.23-bioc-rapid/R/bin/R CMD build --keep-empty-dirs --no-resave-data CytoML StartedAt: 2025-11-15 06:39:51 -0500 (Sat, 15 Nov 2025) EndedAt: 2025-11-15 06:41:05 -0500 (Sat, 15 Nov 2025) EllapsedTime: 74.6 seconds RetCode: 0 Status: OK PackageFile: CytoML_2.23.0.tar.gz PackageFileSize: 8.054 MiB