Package: ConsensusClusterPlus Version: 1.75.0 Command: /home/rapidbuild/bbs-3.23-bioc-rapid/R/bin/R CMD INSTALL ConsensusClusterPlus StartedAt: 2025-11-14 06:13:30 -0500 (Fri, 14 Nov 2025) EndedAt: 2025-11-14 06:13:32 -0500 (Fri, 14 Nov 2025) EllapsedTime: 2.0 seconds RetCode: 0 Status: OK