Package: ConsensusClusterPlus Version: 1.75.0 Command: /home/rapidbuild/bbs-3.23-bioc-rapid/R/bin/R CMD build --keep-empty-dirs --no-resave-data ConsensusClusterPlus StartedAt: 2025-11-16 06:38:57 -0500 (Sun, 16 Nov 2025) EndedAt: 2025-11-16 06:39:05 -0500 (Sun, 16 Nov 2025) EllapsedTime: 8.0 seconds RetCode: 0 Status: OK PackageFile: ConsensusClusterPlus_1.75.0.tar.gz PackageFileSize: 408.7 KiB