Package: CompoundDb Version: 1.15.0 Command: /home/rapidbuild/bbs-3.23-bioc-rapid/R/bin/R CMD INSTALL CompoundDb StartedAt: 2025-11-15 06:21:27 -0500 (Sat, 15 Nov 2025) EndedAt: 2025-11-15 06:21:44 -0500 (Sat, 15 Nov 2025) EllapsedTime: 17.9 seconds RetCode: 0 Status: OK