Package: CompoundDb Version: 1.15.0 Command: /home/rapidbuild/bbs-3.23-bioc-rapid/R/bin/R CMD build --keep-empty-dirs --no-resave-data CompoundDb StartedAt: 2025-11-15 06:39:20 -0500 (Sat, 15 Nov 2025) EndedAt: 2025-11-15 06:39:50 -0500 (Sat, 15 Nov 2025) EllapsedTime: 29.9 seconds RetCode: 0 Status: OK PackageFile: CompoundDb_1.15.0.tar.gz PackageFileSize: 1.303 MiB