Package: ComplexHeatmap Version: 2.27.0 Command: /home/rapidbuild/bbs-3.23-bioc-rapid/R/bin/R CMD INSTALL ComplexHeatmap StartedAt: 2025-11-24 06:12:54 -0500 (Mon, 24 Nov 2025) EndedAt: 2025-11-24 06:13:10 -0500 (Mon, 24 Nov 2025) EllapsedTime: 16.4 seconds RetCode: 0 Status: OK