Package: ComplexHeatmap Version: 2.27.0 Command: /home/rapidbuild/bbs-3.23-bioc-rapid/R/bin/R CMD build --keep-empty-dirs --no-resave-data ComplexHeatmap StartedAt: 2025-11-23 06:39:03 -0500 (Sun, 23 Nov 2025) EndedAt: 2025-11-23 06:39:29 -0500 (Sun, 23 Nov 2025) EllapsedTime: 25.9 seconds RetCode: 0 Status: OK PackageFile: ComplexHeatmap_2.27.0.tar.gz PackageFileSize: 1.393 MiB