Package: BumpyMatrix Version: 1.19.0 Command: /home/rapidbuild/bbs-3.23-bioc-rapid/R/bin/R CMD INSTALL BumpyMatrix StartedAt: 2025-11-15 06:13:00 -0500 (Sat, 15 Nov 2025) EndedAt: 2025-11-15 06:13:12 -0500 (Sat, 15 Nov 2025) EllapsedTime: 11.4 seconds RetCode: 0 Status: OK