Package: BiocParallel Version: 1.45.0 Command: /home/rapidbuild/bbs-3.23-bioc-rapid/R/bin/R CMD INSTALL BiocParallel StartedAt: 2025-11-15 06:18:36 -0500 (Sat, 15 Nov 2025) EndedAt: 2025-11-15 06:18:48 -0500 (Sat, 15 Nov 2025) EllapsedTime: 11.5 seconds RetCode: 0 Status: OK