Package: BiocParallel Version: 1.45.0 Command: /home/rapidbuild/bbs-3.23-bioc-rapid/R/bin/R CMD build --keep-empty-dirs --no-resave-data BiocParallel StartedAt: 2025-11-16 06:33:41 -0500 (Sun, 16 Nov 2025) EndedAt: 2025-11-16 06:34:59 -0500 (Sun, 16 Nov 2025) EllapsedTime: 78.1 seconds RetCode: 0 Status: OK PackageFile: BiocParallel_1.45.0.tar.gz PackageFileSize: 1.052 MiB