Package: BiocFileCache Version: 3.1.0 Command: /home/rapidbuild/bbs-3.23-bioc-rapid/R/bin/R CMD INSTALL BiocFileCache StartedAt: 2025-11-15 06:18:47 -0500 (Sat, 15 Nov 2025) EndedAt: 2025-11-15 06:18:52 -0500 (Sat, 15 Nov 2025) EllapsedTime: 5.4 seconds RetCode: 0 Status: OK