Package: BiocFileCache Version: 3.1.0 Command: /home/rapidbuild/bbs-3.23-bioc-rapid/R/bin/R CMD build --keep-empty-dirs --no-resave-data BiocFileCache StartedAt: 2025-11-14 06:34:11 -0500 (Fri, 14 Nov 2025) EndedAt: 2025-11-14 06:35:17 -0500 (Fri, 14 Nov 2025) EllapsedTime: 66.2 seconds RetCode: 0 Status: OK PackageFile: BiocFileCache_3.1.0.tar.gz PackageFileSize: 725.8 KiB