Package: BiocBaseUtils Version: 1.13.0 Command: /home/rapidbuild/bbs-3.23-bioc-rapid/R/bin/R CMD INSTALL BiocBaseUtils StartedAt: 2025-11-15 06:07:22 -0500 (Sat, 15 Nov 2025) EndedAt: 2025-11-15 06:07:24 -0500 (Sat, 15 Nov 2025) EllapsedTime: 2.0 seconds RetCode: 0 Status: OK