Package: BiocBaseUtils Version: 1.13.0 Command: /home/rapidbuild/bbs-3.23-bioc-rapid/R/bin/R CMD build --keep-empty-dirs --no-resave-data BiocBaseUtils StartedAt: 2025-11-15 06:33:04 -0500 (Sat, 15 Nov 2025) EndedAt: 2025-11-15 06:33:08 -0500 (Sat, 15 Nov 2025) EllapsedTime: 4.0 seconds RetCode: 0 Status: OK PackageFile: BiocBaseUtils_1.13.0.tar.gz PackageFileSize: 226.4 KiB