Package: AnnotationHubData Version: 1.41.0 Command: /home/rapidbuild/bbs-3.23-bioc-rapid/R/bin/R CMD INSTALL AnnotationHubData StartedAt: 2025-11-14 06:26:11 -0500 (Fri, 14 Nov 2025) EndedAt: 2025-11-14 06:26:49 -0500 (Fri, 14 Nov 2025) EllapsedTime: 37.6 seconds RetCode: 0 Status: OK