Package: AnnotationHubData Version: 1.41.0 Command: /home/rapidbuild/bbs-3.23-bioc-rapid/R/bin/R CMD build --keep-empty-dirs --no-resave-data AnnotationHubData StartedAt: 2025-11-14 06:31:56 -0500 (Fri, 14 Nov 2025) EndedAt: 2025-11-14 06:32:38 -0500 (Fri, 14 Nov 2025) EllapsedTime: 41.3 seconds RetCode: 0 Status: OK PackageFile: AnnotationHubData_1.41.0.tar.gz PackageFileSize: 400.3 KiB