Package: AnnotationForge Version: 1.53.0 Command: /home/rapidbuild/bbs-3.23-bioc-rapid/R/bin/R CMD INSTALL AnnotationForge StartedAt: 2025-11-24 06:15:16 -0500 (Mon, 24 Nov 2025) EndedAt: 2025-11-24 06:15:29 -0500 (Mon, 24 Nov 2025) EllapsedTime: 13.0 seconds RetCode: 0 Status: OK