Package: AnnotationForge Version: 1.53.0 Command: /home/rapidbuild/bbs-3.23-bioc-rapid/R/bin/R CMD build --keep-empty-dirs --no-resave-data AnnotationForge StartedAt: 2025-11-24 06:29:33 -0500 (Mon, 24 Nov 2025) EndedAt: 2025-11-24 06:31:55 -0500 (Mon, 24 Nov 2025) EllapsedTime: 142.1 seconds RetCode: 0 Status: OK PackageFile: AnnotationForge_1.53.0.tar.gz PackageFileSize: 3.838 MiB