Package: AnnotationDbi Version: 1.73.0 Command: /home/rapidbuild/bbs-3.23-bioc-rapid/R/bin/R CMD INSTALL AnnotationDbi StartedAt: 2025-11-16 06:14:57 -0500 (Sun, 16 Nov 2025) EndedAt: 2025-11-16 06:15:12 -0500 (Sun, 16 Nov 2025) EllapsedTime: 15.2 seconds RetCode: 0 Status: OK