Package: AnnotationDbi Version: 1.73.0 Command: /home/rapidbuild/bbs-3.23-bioc-rapid/R/bin/R CMD build --keep-empty-dirs --no-resave-data AnnotationDbi StartedAt: 2025-11-15 06:30:22 -0500 (Sat, 15 Nov 2025) EndedAt: 2025-11-15 06:31:07 -0500 (Sat, 15 Nov 2025) EllapsedTime: 44.9 seconds RetCode: 0 Status: OK PackageFile: AnnotationDbi_1.73.0.tar.gz PackageFileSize: 4.172 MiB