Welcome to mirrors.dotsrc.org

All our mirrors of open source software are available via http, https, ftp and an onion service. More information about our mirrors including statistics and contact information is available on our mirror info pages.

For information about dotsrc.org and our other services please go to our website.

Index of /bioconductor/checkResults/3.23/bioc-rapid-LATEST/

File Name  ↓ File Size  ↓ Date  ↓ 
--
-2025-11-13 15:13:21
-2025-11-13 15:13:21
-2025-11-13 15:13:21
-2025-11-13 15:13:21
-2025-11-13 15:13:21
-2025-11-13 15:13:21
-2025-11-13 15:13:21
-2025-11-13 15:13:21
-2025-11-13 15:13:21
-2025-11-13 15:13:21
-2025-11-13 15:13:21
-2025-11-13 15:13:21
-2025-11-13 15:13:21
-2025-11-13 15:13:21
-2025-11-13 15:13:21
-2025-11-13 15:13:21
-2025-11-13 15:13:21
-2025-11-13 15:13:21
-2025-11-13 15:13:21
-2025-11-13 15:13:21
-2025-11-13 15:13:21
-2025-11-13 15:13:21
-2025-11-13 15:13:21
-2025-11-13 15:13:21
-2025-11-13 15:13:21
-2025-11-13 15:13:21
-2025-11-13 15:13:21
-2025-11-13 15:13:21
-2025-11-13 15:13:21
-2025-11-13 15:13:21
-2025-11-13 15:13:21
-2025-11-13 15:13:21
-2025-11-13 15:13:21
-2025-11-13 15:13:21
-2025-11-13 15:13:21
-2025-11-13 15:13:21
-2025-11-13 15:13:21
-2025-11-13 15:13:21
-2025-11-13 15:13:22
-2025-11-13 15:13:22
-2025-11-13 15:13:22
-2025-11-13 15:13:22
-2025-11-13 15:13:22
-2025-11-13 15:13:22
-2025-11-13 15:13:22
-2025-11-13 15:13:22
-2025-11-13 15:13:22
-2025-11-13 15:13:22
-2025-11-13 15:13:22
-2025-11-13 15:13:22
-2025-11-13 15:13:22
-2025-11-13 15:13:22
-2025-11-13 15:13:22
-2025-11-13 15:13:22
-2025-11-13 15:13:22
-2025-11-13 15:13:22
-2025-11-13 15:13:22
-2025-11-13 15:13:22
-2025-11-13 15:13:22
-2025-11-13 15:13:22
-2025-11-13 15:13:22
-2025-11-13 15:13:22
-2025-11-13 15:13:22
-2025-11-13 15:13:22
-2025-11-13 15:13:22
-2025-11-13 15:13:22
-2025-11-13 15:13:22
-2025-11-13 15:13:22
-2025-11-13 15:13:22
-2025-11-13 15:13:22
-2025-11-13 15:13:22
-2025-11-13 15:13:22
-2025-11-13 15:13:22
-2025-11-13 15:13:22
-2025-11-13 15:13:22
-2025-11-13 15:13:22
-2025-11-13 15:13:22
-2025-11-13 15:13:22
-2025-11-13 15:13:22
-2025-11-13 15:13:22
-2025-11-13 15:13:23
-2025-11-13 15:13:23
-2025-11-13 15:13:22
-2025-11-13 15:13:23
-2025-11-13 15:13:23
-2025-11-13 15:13:23
-2025-11-13 15:13:23
-2025-11-13 15:13:23
-2025-11-13 15:13:23
-2025-11-13 15:13:23
-2025-11-13 15:13:23
-2025-11-13 15:13:23
-2025-11-13 15:13:23
-2025-11-13 15:13:23
-2025-11-13 15:13:23
-2025-11-13 15:13:23
-2025-11-13 15:13:23
-2025-11-13 15:13:23
-2025-11-13 15:13:23
-2025-11-13 15:13:23
-2025-11-13 15:13:23
-2025-11-13 15:13:23
-2025-11-13 15:13:23
-2025-11-13 15:13:23
-2025-11-13 15:13:23
-2025-11-13 15:13:23
-2025-11-13 15:13:23
-2025-11-13 15:13:23
-2025-11-13 15:13:23
-2025-11-13 15:13:23
-2025-11-13 15:13:23
-2025-11-13 15:13:23
-2025-11-13 15:13:21
-2025-11-13 15:13:21
-2025-11-13 15:13:21
-2025-11-13 15:13:21
-2025-11-13 15:13:21
-2025-11-13 15:13:21
-2025-11-13 15:13:21
-2025-11-13 15:13:21
-2025-11-13 15:13:21
-2025-11-13 15:13:21
-2025-11-13 15:13:21
-2025-11-13 15:13:21
-2025-11-13 15:13:21
-2025-11-13 15:13:21
-2025-11-13 15:13:21
-2025-11-13 15:13:21
-2025-11-13 15:13:21
-2025-11-13 15:13:21
-2025-11-13 15:13:21
-2025-11-13 15:13:21
-2025-11-13 15:13:21
-2025-11-13 15:13:21
-2025-11-13 15:13:21
-2025-11-13 15:13:21
-2025-11-13 15:13:21
-2025-11-13 15:13:21
-2025-11-13 15:13:21
-2025-11-13 15:13:21
-2025-11-13 15:13:21
-2025-11-13 15:13:21
-2025-11-13 15:13:21
-2025-11-13 15:13:21
-2025-11-13 15:13:21
-2025-11-13 15:13:21
-2025-11-13 15:13:21
-2025-11-13 15:13:21
-2025-11-13 15:13:22
-2025-11-13 15:13:22
-2025-11-13 15:13:22
-2025-11-13 15:13:22
-2025-11-13 15:13:22
-2025-11-13 15:13:22
-2025-11-13 15:13:22
-2025-11-13 15:13:22
-2025-11-13 15:13:22
-2025-11-13 15:13:22
-2025-11-13 15:13:22
-2025-11-13 15:13:22
-2025-11-13 15:13:22
-2025-11-13 15:13:22
-2025-11-13 15:13:22
-2025-11-13 15:13:22
-2025-11-13 15:13:22
-2025-11-13 15:13:22
-2025-11-13 15:13:22
-2025-11-13 15:13:22
-2025-11-13 15:13:22
-2025-11-13 15:13:22
-2025-11-13 15:13:22
-2025-11-13 15:13:22
-2025-11-13 15:13:22
-2025-11-13 15:13:22
-2025-11-13 15:13:22
-2025-11-13 15:13:22
-2025-11-13 15:13:22
-2025-11-13 15:13:22
-2025-11-13 15:13:22
-2025-11-13 15:13:22
-2025-11-13 15:13:22
-2025-11-13 15:13:22
-2025-11-13 15:13:22
-2025-11-13 15:13:22
-2025-11-13 15:13:22
-2025-11-13 15:13:22
-2025-11-13 15:13:22
-2025-11-13 15:13:22
-2025-11-13 15:13:22
-2025-11-13 15:13:22
-2025-11-13 15:13:22
-2025-11-13 15:13:22
-2025-11-13 15:13:22
-2025-11-13 15:13:22
-2025-11-13 15:13:22
-2025-11-13 15:13:22
-2025-11-13 15:13:22
-2025-11-13 15:13:22
-2025-11-13 15:13:22
-2025-11-13 15:13:22
-2025-11-13 15:13:22
-2025-11-13 15:13:22
-2025-11-13 15:13:22
-2025-11-13 15:13:23
-2025-11-13 15:13:23
-2025-11-13 15:13:23
-2025-11-13 15:13:23
-2025-11-13 15:13:23
-2025-11-13 15:13:23
-2025-11-13 15:13:23
-2025-11-13 15:13:23
-2025-11-13 15:13:23
-2025-11-13 15:13:23
-2025-11-13 15:13:23
-2025-11-13 15:13:23
-2025-11-13 15:13:23
-2025-11-13 15:13:23
-2025-11-13 15:13:23
-2025-11-13 15:13:23
-2025-11-13 15:13:23
-2025-11-13 15:13:23
-2025-11-13 15:13:23
-2025-11-13 15:13:23
-2025-11-13 15:13:23
-2025-11-13 15:13:23
-2025-11-13 15:13:23
-2025-11-13 15:13:23
-2025-11-13 15:13:23
-2025-11-13 15:13:23
-2025-11-13 15:13:23
7.1 KiB2025-11-13 15:13:20
7.1 KiB2025-11-13 15:13:20
7.0 KiB2025-11-13 15:13:20
20.7 KiB2025-11-13 15:13:20
2.6 KiB2025-11-13 15:13:20
3.4 KiB2025-11-13 15:13:20
246.0 KiB2025-11-13 15:13:23
24.9 KiB2025-11-13 15:13:20
11.9 KiB2025-11-13 15:13:20
6.0 KiB2025-11-13 15:13:20
4.2 MiB2025-11-13 15:13:25
0 B2025-11-13 15:13:20
7.4 KiB2025-11-13 15:13:21
121.9 KiB2025-11-13 15:13:21