Package: zellkonverter Version: 1.21.0 Maintainer: Luke Zappia MaintainerEmail: luke at lazappi.id.au git_url: https://git.bioconductor.org/packages/zellkonverter git_branch: devel git_last_commit: 38b921d git_last_commit_date: 2025-11-01 07:21:07 -0500 (Sat, 01 Nov 2025)