Package: xcms Version: 4.9.0 Command: /home/biocbuild/bbs-3.23-bioc/R/bin/R CMD check --test-dir=longtests --no-stop-on-test-error --no-codoc --no-examples --no-manual --ignore-vignettes --check-subdirs=no xcms_4.9.0.tar.gz StartedAt: 2025-11-08 16:36:27 -0500 (Sat, 08 Nov 2025) EndedAt: 2025-11-08 16:43:18 -0500 (Sat, 08 Nov 2025) EllapsedTime: 410.1 seconds RetCode: 1 Status: ERROR CheckDir: xcms.Rcheck Warnings: NA