ct&Yx &'S,7,M~;<`J2 dّi%c9Y"5s7ɛM׶ɡj}_UR6fcUt/-.voƿG ׯ}Ll_4[=~O5 -ݏXokƂߏi' <Ǜ4g7B*3N+t*1YxiwP`2Nx_dzθ'i̷|۷dޛs' .T'\t"vZNh1%̆IrD %S]8C?_OX\S3of 4s̩Nt$v_ه9F \Op$z;^tOd?R42,iy<"=cϨxwaT*[@DށXH47Ž5P9 055CF4zNC)CVjV\$`֔:a{zB FVX$U_cPzu}NZx2x#pn"76,4rr`$iI@8F]MC*Ӧ,C"f  g'%n娫A%,ฮ0P6QFj3N\熺ˍlp#BR eq%kgG!E46B˱ؽC J2;N25+"@X~8 P"̻E֯S. 섋;1xkSx]Hr/mD`"wdBШھ8CzVW n)lA*}bdNJh(\J! }+Or̍<  j=dafӴ8A=@z/:7KvVsA0sH?bF=:sޙGsc`70<;fw;JrMZ؇q \.ѼS Kx}4ȣSg0=ڎ &kZwA˞Mh"\5= {;p &`ÐYW/?2mP=x vqס:m:1#UU Wc9Qw"4cAY-/9톈0BH/\鷡 8h%q{~05bQ+ˁwa!K8":]2chV nU $S&"ܚO8@i#e 9|d>_"pyQ ˒M+e0Ykx}; YjTYmS_;k>{Yd/LNkHri"Aa+P%|frc$ӹj*Xԅ4u[jU< ןbW0BhXg ?<}W߃Zm=~Omuv!kz54k{a <4y@` fùQ{JΝg3m@!!X 0JmK "QE2Cg 6!/lxP;X<:O.0:?#Og6)^R:aTkds-2J{Q"%<ѬT=qdc44*ClnstE":8Zq-F}R>8xTQ-r,v7:랜U!#aV* 6ADt[fҥRvVV$5Y#%(%2 dYa1V"ڪ,W?&B'"0wfi (o+p+5}\r<6+tgHtuz%"8.MCǾ̏:6t|vZ#iAMcoG߉:T0[+G[nGqtcc.E:/Sp=}L&o+Q  ؏f^Ll1p#O \A5WZc_&{>|Nhq9LК,8yd銳:LDCv`K>uc}R_@OD@#pIYSs'r?DIr6&ro5yU}2ٹU[ +_t]>K<.a LX,iqqE_ՊIdLZyc5y)eRЃl櫙'=[O V}ΆP3 @fVB,wf=3[Zm0Ϥ=:'+W—'ĕ875얼ՠ =L3+$iFƲPӊs܏)ߵ {dq,q? $'ɩRF]~Yk˘(+.H!5A%c8!ΐVXS;ޮ|?rM.=cw@e2v ǎAD.'"xwgI>klm8 p>cM~q}k=g/vb ^v/{1roD~Mk U+zmPG)9!"@uLOw29&chٴ"rϧ 9&i#l~t17 ƽPoԩeT't^|+0}W$`#pzG2g? YᎦ=<(2y%Qel- v:==-!+?WxYb+M\gdpyk#mGfP>?HDcW]]Vg`!K1ȌASeLK 1=!cHIkwI'۞/ .~@h)?h7qڙ};ɭ O n˨l \aܴfKMŎ<92?FmcbLMvLB(3ɂ&=(Lx$S֧R.rھ$1h%ː[i4:{  ~Y "g7iK2U95=VWI\`/"yLU&%i3vJ l)EJmDIV9iOaMJ2R Ll勔+&c`LK&l1 TE&2r٪8*$2W%WHe o\e&fZ0TJRʗJN zQL(`%cɎø5U'Xi |M7`db̰9TƗ->?'&w Kve AU]dep`b#ˑo [20ʀMfք~܃6īw (&}_nmX˸gщ L. >0.',7iLmYID `}'"Yb~,AYA@*Ӑ+Ϋ(E4U!P .ơlk8(+JFj7SԙyKa2TcIڇnX3CTnZjUK`z j0ޞ Rn9>m2r]{!z˄-ѮR4P.9 ѻ/Vq@`upR7jA3j|Q"ɜfŸ51QFk\M%tݬ \.suk8+NJh߿wXB$ұH[!9|M]2p2FE۳T^}c9 g6 RAR |vY 7y͓~+Irۯ6nڸjۯ6nڸjۯ6nڸjۯ6nڸjۯ6nڸjsX֫nqIaժ4 {WrZ#_}P,͎k\B5 m~Bv!θ}<" zOn <ȬV]$0;cTWPe`ABQ]*:cjZ30蛠& fd^6A&_Bo B̊8wJŠCOǂǔux^_c^L &bn`$ oU7¶1\kBV[WdkES*/Zh2Kච5=4vh{ޝ8o>{vyA>'! gI~1wݪl :$!s:i_n#t|HV%iB0/X2/Z.Q='jdaq?X@Ê'`oߚ_Tr3?3JJjVܬ`lz]C2df2ͱ&ON [,I4c 3۔sڝI41&:Hٗ-x ZRf&1y 6Fz'LLdZ"ePBqҜ(RL[Qʠ^*oefFJ bǮ2*C\Ϭ 6GU\ !ȍf.bE`Rs*f::/W~OP#bAZ Gqg$ڂ!0yp_Uϑ4=ֶKvq9 p}Xb9ӼKȲ&[fZe^Kd̑8 |Q=DVud}Eٮk;XdzJ^Y>z8D׈3{,gۿٍ\j([[Q[%,n'qVexAR80&4s4dƝpy%dۣeguW!g^^YWI'-/IVW$ Wij>~K lm c5tG$LѓH8(R0,}Df0s53)\Oz b\&olIMFj2d[U[:'NaF} ixrzB!qȯ*5C^O<8x8> &Rf&8˳, %Z`fzBz\ާ`٤f@&)gY 0JZJOʦ)U`ǰX:K)`/yWlοS/˿ @>F/ `sӤi5?M:t`Hk9J+9Q:l8_ܨ[SA!+f8s03yc [_ B*X9J& Pg`^3xM)& ےcWiղPommcT=K1@mL5ce_mIpc|ڎ>K D4?)Ź hjQMב$%/Ӛ![~O!.=P߻{pSȿǟ3I}VWVM\BĻij`]S_?+ܡTz. jp]$ݓE"P"-nwձޮ\~znx0c UGz_޵7>=bHFcI0{qi(kWlۍݵqn7}xx^c*-SpTsw6\ LM皛N<16M3a7UuW7wIj >zWۡ٘k8Jp؉,<@f:Z4Xir lH6^Rz|۪Yp`J$]k7 ' tvgqȗN?BtݢK-ݽ~u |xÛuxo +nT;Gs CdB3ڄ y|z"7e67Y߰ ٽn#80|Yr4Ze6%L߆ G/ ${+vE:^FQX^lԌpCуS+/\zr`:tPڣ6+ Do~[C`tiD#Rj1;s[Mvr~d072v|>Sw~/yyF:کS+?wZXrjJ;V[}Sf_`5"+4']_kVvua`]MRN$7힣zaus_-Lʿ\ܩ|NJ+lOEPrI)f>hw fcy5iqe@Bo* :ȫ Kн8n QSG* uf+nQ ^Yu(z;TCr\˗+Zr \) ǿͻ $)=h&XKjju_s/Sb.צ_T˩Vʬv`Nnd aZ;}$].YÉX|yt#$NQޱst1]|7|),~yX;.G+zH^ЅCۉͯV;{ؕm2<t6nqg)Θ&Bm6+xg4č\.7X.ƋݫdY>:VTmMoͮ5IWu l?`RQ~,WbuC&S>`)ܳ&sر:(Ra˨؇MMyߍ;#v߮.$EPSlJ8i^6ڭN Ea?C9`z ޝRJ I| ^'-PZf~M^Ԃq`i:{i ɃF{Vb60= &Ȝ toyFWxc7U`E-E&fvz0d]:'@$y>`t 9r@eE+ <݆},VEנ4].:u``CR+>yyf/ze9 ]P#I9>`pV < d~hi3RR]rc$ 绰x\5ȍMǟ]&ysv1tgQ$>|bxAgf~Aw\(3Д;%Y?H[ 0Xx!.AS{;Qb9 )]xSY>N>tENF\n+;Tk(%l6侖_lдY8wHK{~Ɵ;7ÜL&Me"C>DŽRX7b,REtK:3zob-l+Ic̐GsNU (Eӯ,r ڡX\VTh搭$Jf{`B0YlYط78ȣTsmǗrG7 SƍS@lL/X=!-kaל}ɪ/ e9-\> =w)Yq02E.nA߷.+5΃eB6Sam@WQEEN,I1P(s ]B-Ϟ޼-G{6NPS5 Rxo:M8- ΂&! :=́:I_EHYUw %{פRHBZE -" Z8oR7pi2 Y PKq-m0#x10UgL#%wh܏7#,Q8kS*)G2Ѥ 3w} c3) h/-xWNy*Vx'!.^~%:qa|q1,T /5As%SJ!_Pʲ؎9WJѫc^~qdHi`gNL7.i2Ł^{v"#5;ɛ ;b4O_4aO[  +Bs"Tbu`UhByըr] NS-X72XOͣQ(pw wn+ìo|RR:w:dX*t -#br>JrrA+sp:2[YϿ3ϲ,R5(e@ vu?+]sD`9("tlI0O11>u40K;6EGǧM@fiv csצϺQf[6ٱyw9ȩn1|7u Mð8i;8%$rP8(tNo7E? s8wfbPp٘I.W\{ɱi.t|tu!w?9Ъ(2z7mnDm$$>f [a(9D1d$jaP| GOgГ|ѳ1Ϗ%#dOD0!ďFTBDE?e)lO|IQ= 2Og6 C;y7 ,j1Y-T-cBĒCq~zyqtvEf)1u Qv UĀ C$LbH:[XhY+}% 6;^Zbޟnd1;p;4rAĕꊔʵ $QBg4j|<=wD$&`E$oF h=q_CRvK:1!nDRMfN8<kӝl`ʏ:OlY{+vRdcioSf87S1a> g?_3̕MEOm!SwV=,F|\1>#>HَŚ--6+DB/Dzu"}jy}l&&F1C# psLa),1b9yԘG*xIvh ](svDb7'|tcaڽ.N]ϢN >i`s+Җ4rVڜsXntkN08%c9ē.z KM̈|s;X=cloJs߉bKvvru`ipygoO<ӥpL.e^q!YzzǧPnMً"#JxCܻ]mУc]QoI~yڿt׹t}{?*{8aHL.C3eZnAxn;ft3T!o)iOR#*rEiutV9-`ɶ^d?Lzѐ0xT@3F<5#.MG6{?,s7Ni RlgCʾoasЍ P}~Nݭّ"y@ax 7b9(4=ߦҫB.{`^,> IVѻq8Bo*')K7ȉ~_/ dޟ2*g1&'zUsDsG(ĆLycs29/X1)&9qlMfsE6"eFYd,Q(lE6FkJ))()E"CePYd,2T* E"Ceg cJs{TL8Խl5>OE+|8X];ѯ[4ow4 .L'!Ib- ۡ[fDƒ,k>k"f{p˞oMXO ymz-kj]veMwd@PBK [qc^У`)mfgק·d#OI-%c6멙t^s͛q e./v9IOL9B:qe<-k!suYxZkҽ]Jx\og5lYCoذ-ush4=O{^t\,ce HFKX:c-Ռ]v\Kd8:XE} 4\!\?uo=:Gn-µE4X~.i>>10x?g߁"z>?871~x[,}XϊϺ?գT(,l3g@ORݻ&P5g=gLԥ懒_xzI J:*#o/IT¥8(I, amX *rXiN@DуTK,]_c6>?-ƲUQ TmD\5:V`k"z㬣@ Ě?q`|@K$gycz>(pڧSȠDht=&In:>b}Ŝ>jN>$7q/Noo?(T?%g'imM;,{c ,>?_fwmX?FѼwLI^j8U"{!W.߸ę`":bW0==bwƻ<יx\G2lQ`a:g/?lj_ORfH2Mɓ\K2y @ъR?jCy/NTnSI7o{IbJ}vns{jo:a-(?[VݚO[QV|!k][923l֚HE?Ubې\OpE n\Fp{ Lj2Iqm@,YQ3*{[\SܩdNTnW`9ϒ׼)jO~? ϟ_5 5P*@TzbdXlOOo~op_p/[OmVOe=dbm©-08b LaA`tiomUքY;J'@-ωËLX=r&n|eKG^fQD<c3.hKKEm}gb%o5dns'vKE?G>أ%Hc1x\ "-o"-o"-oY~*oϔYZ^g [NR=(*3#ˊ n,uÇKVWtхkz33~)Kφ1V~I_q]"Ʉ//ΔJq׽.o_N4?TYaZtC?5F ?LKo _wc6]JBTS}Ow9OQh5rNZ-[W>M%xr 0Son\㯔QؠL Mv'o;6^h-R$F5֢ʫe^]Y5eWTRTԀQZ'ԀGoKCc1琭"Ggi:9J@ϦS;1 ?~uf j?tj?ԏ?4gTBC֨6>Q ?~d%YϦ++?V<nh6;LyX3!f*aiCv}sV=|*xMOJ*bdj%r<{Q@Clg㟼4BcDNI^8Gvs [qZd~Z֟O+![.>s*u4op*V9yIqұ친Շoh"cЫV׮"Ki7UNn`+y?i$ޥFZ;qwS2WTW?DyJưttxP߯TIw9&eV1Kvmg'styt8 Β-8Բ!gˎ,frœdlɒ!}Ŷ kN>z"zțh&oћͳ_/KR(e=~/O ??oWWdmipUNNꕣlt؈Yŭ:U)qkά5@8:Zoϟ?)_$,??d5@RLъjӃZ5GA Z5w+?'`w&j5@ 5P*@?臗@Rb H!B}!@^G-)o^dHasZa$WINr* L&j4lMyO5DUZ Bz r ͜EAO͸WqJwtxTbB.'vxڌEdže]K6|Q;%c[?BaS姻?׼dwGȐ0[5z@c !S=R,EiBh߾ў. >iuzߋ=u%bŢ^XLTizѐ0x8ً1pvi(k~/,خRrG *&yŸ1FLJ7h'|a߼bK)ZbKyx%mLO^7v"֐B; Q}cZc+G?0Ď$#o bDqlNN9ʿjAs/ItJyLDbQꁀHOG*>I@_i!gCߕѹ)t#I$Ta)I')]%~SwO?]R?%p_F]&~ Swx)'Maa R?%~OXtWB<fLjgھ&Wf|,,":fC)6OIשro:w@gyDt^2:// :mu@89>^5oOzV ПSש"J|wF ߝwg&}wJlߝ/wg6R}wNLߝ/wKye |w^x9;/Eߝ#^rWlfzF6SMƥ/ERoBSz UO> UOG|)T=/T='񅪧P#P|BՓWYJ Q6Ӄi^bx5 =v8`ځW(;׃i^l*GT]Gٌ|2nvu`7eNĘI;'I+8Ww`wO+{t`O=v`7OXX`ԵuXmޝn'oa7M[wCnn7QA׆mQ.߯akKwj=HdwmR.חaKud.2LDmS.aKs^><^rIn /A\P.[(Robo줠(k j% &I)[xu\t4 d8Qhc2RS>=Ͽn>{VLZXh+-WZ\`zP+TUաMVF1hQFb4mnth,F#f16HYFb4mnth,F#+ 76|-tHc^m<26xdX2yw@KY*,F#f16HYFb4mnth,F#f16HYFb4mnth,F#+T Qg?y m@߁/g2Z}=s+fi4;L\h ݦTve/癜~ f{}iB1ʧmcz:DO?OP7IdjcO_v;DRv]I6[7$6{-eσz#UXZllյHluM6[?f%.?A?Vh&WΩJ^WRWUk'RiA=D췛gl:B[F1hQF1h,F#f16HYFb4mnth,F#f16HJGcszitKF^ zS߄rm}UYFb4mnth,F#f16HYFb4mnth,F#f16HJGc'uw8X\Eh,F#f16HYFb4mnth,F#f16HYFb4mnth|U|ֵ ωe]p֖XB\:sa}-q>>>aa R?%~OXΟSw]* RZ)2h2ɅvcqڍM/v#vn#nڍ|ڍBBQh7_h7 F>_vc)3Ŀ6Cp.R?%U O'a'Zw]Gnkv5y~\I}B+{' h6DwhuTӟ\ jZ.f'ݟ_gQF1hQF16HYFb4mnth,F#f16HYFb4mD+N-$:1c6n=ګm,|I|ߺ,\KGcãL֣{줈 D A}]jW=n~%ۤ_EVW$] n~顂ۦ_v0} R_~/B_^ /-EbK $|9 R @ Nȥ4$oJs]ڣwOwLOhE??ZB-RE6P4Z/"/Myi K_E^B-jP4?ZD#guҕR(T JP_(T^B P4B/*/MPyi K_(T^~_~ ɫ_W0~i7bo,пQ:-џY@-GFm?>Q_}ߵ?пjw)s[s(X:է} ~*y!yk{Lpu]G[#;Jp$YmVbZ:isiJna=P$z';ܡwW❰MUx'l~ ۥ_w–me{'l~ ۧ_w /;%"KNxy'Ҽ^~Y /F$_w /;%ᝰ MKC: UG؜BPu4/T/Mxi UK_:^BTE!EMd;:H6*b@)b@Rmf1 mf1 mf1 mf1 mf1 m?i5:kSAݷ| |t̕z8jYvP+# lX_e!~[ ^嶈WC5U8Pnxޓ[$^67Ue;Mnx[&^䶉+ue:Jnx^/@<ɗ ^/9eBq|)D2"B5,2៥% )_h7 F> FG|(/v#vn#nڍ|8 o~KK guItĭ~Џl@|)#/#~$~Џ#Џ|B?B?RG*#K!Ŀv)]~J8a穟JN9Ŀ6MWs¦'lF3yz¢Cw]O.kv}®!~O q% wHK,^[|K6SV >PUODb޿<>Z?D_p=|87VGEIvOaP"+Sc2F{xּC= ^I~8ݱ~8ű~8~8{^['^EqW5/+*&^x^ /ثx1e{UEtK7 cnn**BBQ0_0 F> FG|(T/T #x2mERH%*T[ɩb4(Fb4(F6HYFb4mnth,F#f16HJGu0z^aoCxL{dJ\vlnWZeVV:~nj͈hk᤾mlؖ溤W߿g^Nv߳f~ӦiI_&yCP<WPjOk{'䁘k;( m?`+eZrZWKROF'BbӉ]k9g'ֻ+9="KGG5 ]3i3wK0j}(=~=/z48mTG)m-Fػr<_̮{ai3 ziH_óCf 4#_K瑍}Wr5^#)-4Cb9s>RdJӝűً$%v 7Bݭ٥sٺ3l48Logo!}=J0_Ŧ14mm濛Tj^Ix+.{ty;yu9w5N*al:y[~y[-$ϱ1OD7|W+rvҹ\zIQ2,?;GW@Z{vWzsYT<V|lOt=<=ZsI8Y~u_}O?-ڝbu_n]W FS ǰr*/$?{$`(E~a$Ejn1qgYH5%}u|K1)GIuj$OE|Z֪FdZᚿY9 ?;M,'2ɀo\rqC.w~x"wGn~]ks9rW{+}wUH $wn'}G]慾.;YraO'wb<-%f߂$R[؅]*dB^Bn!c%Ւ[j-dl2Zr [-\p er|;Mnߋ;DΜ.,7_T2S8e7<8 R^*KYr R^*KzizI-zI-zI-zI-zI-;^*˽9,&y&#KC3(}`Qcg3*Se!Qta&adL:f{O{׋o\Wj]K^wJ4>()%ߍx@ 9Xh;idZRWO:"yd6s)Ѧ3.=pW}y:-Co,);}]3mQ:e*u r|FZ> ]߯T_ϯ?o!S~(O*]śRI@;+O/;n0F;tw1:Y4C;V{{׽]=y ;6>~mJ & ׹YsI"T=_IĦU2$S,f52H\B߈t\)Z8}t݄gddc;1#r}sܬYi:UO~3rzڏ?U%Ӹ'3 Q+>&ѱF?yi~zzvMkAT; Ѭ,vE{(>4KŹu$.%e=8!lN,.t1Z҈o|^tL=eRHWOGM/Cһ :S?:ftth[.ߙ4=kxz)`S Y yGwIu{EcaY7fKN?=[R4 ۡO"Zqx;]ᚧOhg)YIB7*u)of{tE3({cQxNYJ0Je}D:zmf^F=P) hn)lcr=ۇKĖ7 톯Ra;XƎ%Koml =d/KS h3tӻgwoo;,#u˰930Ix9>?]HD5\_IŘ20Md zat*,1A4nz{ l8矋-KѵF tT笧"a?i^g%ٛ ɎDR @PP*J Ծ>!ͳ_/K}lS}Vd&3O3͠"m?s%Kj{U~NX96~rlS2l}d`{%9xH9;9NReGJ9}Nq˺C}=&aӌ]Z{Kg`KMptiD[6H-2A7iJFz93/R:?No,o{m퇾&*&T?Ԫ>_=8oE}B Jm,oW{X{_\o312G0 ><_ĦK*{"Cπ#TT4f V";s/_E9 X%-(k`Vdol_C]reA cC8}#0!*C$PF)l"FtthW/|e>" z\=(UO>ԏ?T%GZz )ﯝ~;g,]6d:OzA.^fb@cߨAo/-|$O7g15:V<{8}a }[xtHf4MZ(์-Lt<[n ati2-(v;H6-BM{}vC_~Nqv5RNO'gTJq|2}tT96~nc'7O11P|ү]|G8CݶɓKdc #⯋|8sjNs`.s>Xz#lTk9l4r>qwm\6r>wp>wTO<$`?\=89;7g_׷JnY[Vᖵ-Kwݽ>ߋ_*U]V>WiVoV5uV5"cH<Ъ+cLʙV4V5V5fV5V5Va44ﵪV5"yUyUUǏ3r])}V]2et:u&1gBмr=F_5츠\MW+K-%?GŦH+>ˈ}uuq?,faxq8<^K8kFv 61 zzFY C V`PԎ֓'I65`+P5'h!0`C8DWr X9.W!k6F+P4zzMf~p DⰺbWj RXy.6'n'A X `  zZwMdA61b-q[&m|pe61b"EpGMbUPPɕC]b%VBL8޷~,Z篴{15qdj4m6,|`) p/_vE\~@w>{W>ane{}m{UϿ|v<:`W&hA߆7$vT~|$չH%ݥ,|※Wfgd R,yaD~ޡTCdS>J=z$h C:^ͥb=i^&b汽mDJσ/*2bYGG?GboѾiq)AOVM/vt2({X |suc9޳tTelW&O Qf7,=MZ~|Pk$w.RK49pj8۞JRO55>x$xSPJ}xE7<1MB=hDt}O TrKG~|ct5N޾yzI=cԞ {4Ҁq챸:mw=_;Yc׳_KDcӯL ]3{,c84 kߛqy)b~e)xGxf?o,Yҿn_麴\ %orn2l/T[)WkshӭB><]PS.7MOo~7}ˋ8{x!&Q}ѓ؏c(R`:5IaK ozm6.Ytܓ(n1#R뿛>XOc_Sq(Y(wEQ.G?|YH(O.KX5q u׿kwJEM|vЋw%ڊo20p=XaG:%W~X%\pbބT˷Rdгio3f7S̞c¦λ$9*\c?_ټ~3̕MFm,ݗ3V"zBlbLE|1"!1Fc5&3Ijd MD;`4m+So>J{ӷʳe_, s|s~ '5k k۩-E~jl4%#{͎\x(zZNv}|CϹٯ/߲*T~R#cٝLu$o6۹*f g[lU4ųC@roDw:7Dn3Y7X9UBϟ_ٰ9!'9(+ڛ 5P*@TҺe)k7slOOo~op_p/UOVOe=`bm3©/8ᄛa LaA[`feomxЩfl:|J,ωK8 ؕ,!g7;ͭt@[\+-j3?EW--rrpq;'^s5`\R"}ߜ+eH,ߞxb|:}K:3Ṕ{-}`m2;9J<yNW{T dRmƢݮ̺O61(xdvOy:cno.?u.(]߰k^Q KGbcH Am42cS.ү1a/?=Տ~ }~.. :iuz݋|u/,EԔizѐ0x ً1viRK| +8w Cy< ۛWݚT JϨJ Ϥ6}^w٣e},w_k6ёn?Jge%` _n~k+L Yg ^^ҥVjTdS*WG%eCk]r {o(":b2+ʵZr-E\KQG/1IhwW-NwiaMsTS|(֤94&9)QMNpibMzsTX٨&V5GIQMNijb\odM*sLkX$&V0>R) jTl5n.ps9n/#\n1Yr=K7_>G\g:Fn.ps9xCpD*"=EDOQgEDO+J%z(S)J%zCQ)Jd%¢DOQ'KFQ(ѓ%(SɐQ)J%z=EDOQGDgf`Pj5 H "9 H`#s~0ؠ'h =qtD9IJ{{,=[3b cA{&!q ņ0 ?T*w u!qxOtsܾnwN?"yH9X|c1m5 -w߇ttL.sQz|Gq7qGe7Io~&=az<ַ?̼%](='=0=J%:OOAt',T1ИJ4 :tџo h$Tt0ǘ~47 00}bi4_#Q|C`ZAmI]3ҥ'=JZyEQX 3|@CB6Cq=O'K\\G75g,._E6#}x#.1ү*H &Hv"fџcx3_s;',.dr6,<jWRԽg7p/GhN 6dYoR`Mָ9\޴~/GDU< K=Cc?ϴŜ;1S6Pat;e4;s\82J:tSSo@gkO>4o[9妢 |dYJቯSg>m͢A| X=!.sFxC^cړ'<)%ٴWD^_Vȓ++ڨE-|_j&$ۨxՕ_[wL+zQwLByZ,5WܲO\ )!/'wjV' wdx-6Ԕu+fz|2~pxSg5yo04hxJ=7ţZe|ɷ":}MACZNxj exk] tP^9<_26X^(Ξ{:*kSWӿ`=Wމ|ax&흪ÐՖ{0CW+WScShng<#<2tq*#(?Q<^}ثW4&x]V!ygvkCqgd iFSGE~K ͔wyBvNkF?XĿFO.Sx׀C<,b<܎-c:2Rпequ2D~R[7FY+ %r,siлր{ݖ&Atyyh`([0ʩ;N R!):_Û&]Ol5󯯰0BxpDk<, zf]5{xs4n>]5*e*NT2ٚC*)l湍C'nkBiֿ)M3cy}[<`?&SlC?  K3p,R{-<_&xI\=նTzy˘/9MZ !'z)^{3;!ߙ㍥`ylw>|ަI_Cds{xPޜL2tٗqƭ`9͗zIzxjd钅gDG2֭ʛ 6Կ/w?2Gx>~fqf GWdo,جi>GSe]nVc̡!k9Ls՟+>&s\dl|iyP`CrR 8 =MI&#D%?A鍹:ۯg)_Jƾ1w7tȨ`|Ћ]U9VѦ^ŝ/ OG g fW%nzMmtP`:C^/ |x| &ZvPCu_#G~YI<^xA:'ApZ8x"a}H< <@x#1k aQV'sūVN*|rajy|iI';3훏he(^r|+x~]s1 DGgd쩏Tk~;f;4(Wz؀DT֤ƿ 1Y:rx9sO8H8q=ccx,?4n!}s5' /Y6cO;Ն=2,d y*_ vyT4k_)VG K|Ƨͫ+\n>a:BˎiݽN/R_b|Ut[?GW/g 4o`(ƒ1"_Nl6Ƃ<ԛ` JuzO?;Sʘ>1 %o]M_kTk-d@f8Ed|[9:&AX  ?VU^GFS?SUO x׉U)?_&:դ-2ksSe;z6~ /ފgFHE?1Љi~6\%- ~k^@.$C3'^V>MX83 ^Ė? d.#~hC|GO ZmԛO)S]tB0dXkU:ݥ}l|Ȩ:xo>)ﯣ]pnȐT4lJBV%ɏ~v*>(RQf(wsSgi=*0Cx yg8zJH{O~ ٫(I'~ퟁv`3<ȿ]\)gy[WPSCx9n(ר{O9:Yz<@_0&z`K_S6Z#xSJu!~Ԡ$g5?qj8ݠ000 sj:WO|Q5aFy Q_)@i3dSFzkJAV? q9)2 0n2[?צLڶZ:(n_<EWQ -MH h1sb5UzFtxֿ Pςg /auչ-^?;3û&x2pD9ocW:_ǘx st\5~gd zRnbtzƃe@ūrkj`=7?bmTgi=E 2C'X5b *_V|a{赮q!ܯjNo}~`0VgV_Sd';l <1Gl.xRr54_zU A.%@|IԃM@PC `5r3qU節3^ƣ|y@~E/a=pH<-7=lٗd-"oݔbxR*꽰Ƈ,5xw( #=*wzye&ا8^7GxLG!A^SqE*4ㆥnWkp̀ΉݸrZ>TE}rWf Y*<|~M J/6 w 67Cl{q~i~0ȣxJ&gӛS0} -)GBlJԳx:W ' bx,_l$xLE1(__j glSSvBxG`|~ﺉUI8n{,_:n8%N{.\?.1l)/!KxyKG.+pb'fx%=W,~[>c}*9X?Q&#ƫ4 s5[5=ɦx :?U4B/+ZVewZx)i%^B21Xc@Vп T[oiZ$mS17ECkqW8C"g.k Z"WYrӰq{xf3l0Xexə+&пfJ E.4ױ}b Y`I t<  뚏8Zͻ}d%]C'[5c˯Qccڴ:[w}7XԴyW;N-OR> 듁~"Xϴ>ND0r}1^!k#ﭟέ)=ݯg P?3M/-~\|:q%!EFīB.p 8a/LZnTȐZ&>yq%.wEWZneOHu>p|UF~o哃K{]x|iӢx,5tbRRlnOyǒ!0u&_W1E>`3Y3%՜W?s*_3`3b7Y) ?|xWl~䧅[gJ 6G}]߸HMtߟي1dw)'K5dO+iP)CJ]YX^p9puV 6U_ZME' ߒ3eyZ<}doa4{l#}Ծnb]`$ϑJ\[beфuY=[H~T༥x%'S4}-Y-/4AQ9OwyoE6 <66FJ׀+xtkϤޡjxHgExrY~= +&yPwz i{'nqaB%L9u/ Ow#vP3ۆx噻dnЋrr 1]BŻ&!]fwkր|Z&[?|\a}/xz[^F<Tؤ'J"W(z|\[L Ox:RB|cҥgx2)l(%^wpKF?TM۪@ɍe_ ӷ_QHPԿ` N< ,jՁ7'?yr';TlnxP߃|dU0?rm =ks2A bs,]S>N['hk=ݜΣ|Pڿǻzŏ:w~yX;lT_IIouO?8)aKl.wVO K u`bx$tU-E?t 'û5\M?gx矺r =D~PjCm|錱.CM$(Ugdj 롭]=K믭YTygCf [8z7%v̭jdh0km0a6sWW NHg{ixxaeī15U{ G3Gu wo/R5ejx.ֿ;\`>+Σ6`Rw2VV ;N 2DO 615=c( {&uxU3cb : xe6z=t~G2wsh߫v u$Wh-e>M39bp)\%{UNkbTY}`oOܿ#%{=$OQ]3<{ewnT˩2[^lq< % W㩩W^}n)QEԙ?2J+@uە254$/|A/_տ t]/%is6񌇵8!Ƭ}5#@]\ L? l88)«]W CA}<|8vsA=O-<_RZewC'{X?wH6 &śx>9U,i xCp"~OE,?O(/X#\5 HIΉM6̅R +rJgxQ~P64}"k_Δ[W lC':K xH~#2b<@TeO?q-rxـOw\%i05{oǏQQ5L[)?ѐe\7qPY9͗Vo*L9(~6_Sb=]~G>9 C S|gwe2}H=[x~9ш`d\ y7iSko//oqatn51*+R "w\cc+SogsVc]`X6_PZ wǗwޟև8/z/h~ _ p`~M/ۿ! )ןB6PTO d柨Wj^` 2Hx8ʧӵi(gmSZp n~ T[' 3Hd)iCd %wIB]E}5_xJ,nxB%lDG'[ϣdN{ ա|]d:zL|~); ewxb p}cA\~`9~NV);>\' }=4uv&ҥH`xtH[dV::b|tn\t<| )k fQ<@f##i:Dp/0`x`}f?>c$)aSH+]HA9*'e?{jc%+qc5@Ho#b>@ɀJFx}= :jtկfC%y>ѼvQ p}ewH?S8^?}|M)/> > "\ 2I^)P BxqYPCtgcpӻqN}wIhlA#(. =% a_>Eꀿf脣nYS I {[[`A?ߗR=Q'Xm˓=z}2^=&D?ˍLtb_~=ߟt3OLj Qm8V~@d\5yrg0E^0v!n_gr}?HQ<ߟ7Jg:rļo-!E{e`:.deGqkEwp=x׎gix#Y c=mE\^OeJHK)֗36((,#l?{ Bx4m;һG}lDew"zeC3f|x]YGX>(;&1*xꁃ<_L3^+wM]{8(TO;Frۏ4\5Ұsyݺ` aپ*o^Y檡V|(HCVա:ZO8oGw>ղ1/_22fKGֿot?t8h?j>:I oOY銏Z&Eɰ̏rֺHp*|e]z#li qCj]!y=tał՞M~V&c(ௗr>Jлnʵ?.FCO'oh豂jX |%s3.~fbxsт>!J췀~wDrE؈ C|F$ ٹTO_CB<,GFxo0q 8(^'JފJJGDD s2"\[̏2:_ ~Ѩ, O[KCceYk͇ bm$;sKL2Ѱހ~♎* Sn%xVA/j9 o}5aޥ1@xa} d ^꟧QvC; kXs!J}X%X|x#TE;`x-tyFBSQz9oUp{ |7E_rB};pLk9x~y>4^yDɠqgf_@Np<Gl}rL /']X|;IJctDwO|KSBq?l=f]R/s<聣}'x'L.͛2ު|Pg FQF؟()kru)9}dy]D=oI*3ߍ7T( ߆?#溦|uh?_ңH=\g?_*k^>o_A']cMY<O⩊W-Sϸ٧ǚ@O.;3}5qTάOI="|֟6īex*PLųlWKѹjKd F-? yqq7gkQU2IXXy8o{ @OP78*,_OAl" eA< X]㞘{ss5 ]7l ui,W&) /h()=Uex:bY2 㝷MӐ%?q'_g6>Dv!]9=g1sv?Ø;O_:GI,FϘ)UK5ikkRTԛx䤵*9;['_S12Wf QYM3ϱ;˿*?x#jP;bPO IT{N/Y wIljk6WDQH@exY[=:)kb<<D%52eB':I%x*Q&IM^@=пP"%#cv!o?qhʏXz{jDF]CU~^]ա|ͬ9}sw&+Q~"{ Pg\Z;f  T6*3x2[1'α 3`{5Fƕ u @~ v4ힸ(kO%6[|HHa{Vٹ*_&ܘEjx<6SxW[7xk6"Z>œnwc<ʽ= c9c Dxס4lX6g,0qsjLTNGq}Vm>e[g}qIŠ\h\& _f ylhR߭ɷXyf nx t&Fq>tnȓkծ@ j΍EmKeLh w^Կ(k!~_Bt^@W iN( (sرDvE-$J_rsߝzGÁj#_r_g'n%ؘ'yieAItRjg+su(mX /Soy{BGMA>5q@{Zfa}0_t䏬Bb)sP xH졧¾ U_ɱ <\*q8W|,/ά [O4w5Y~?##`t)!2ƒ@FUHyTcG!:\F=7ɾM0?l%+'xbs 3YrEOö5OEA~@WA C ̗{2VϵD>R_-F'~Dt BX? ؎;aQ}]Eon8?PP{XPv )cR Є_6y(^8P\ adžS'G\ ${㺔/._u| Ƽ[W(q 4,'axcPQ/|0~r6V#,@/@_>^%Cad(/w2Whe84&!wG/PAlau'8^USܿz,vzV?SQp=-|0>$?<:P7Pz<,;yQpf?oYVxgȄ3uxu M'Շiaxմ5ɦeaeC(6^<^&?Ҵl4{&_2piwM2מK&0f6m x7rY2MJ_p w(>wx!t;}qU'n-*vE ƒӮǰ! PrD3<:λxQ~UV_w ~V8?kx^ӭITxB=;*)Q/PY83.w~'gcg~]YVQXQ;oDQ=)ؿ1AWM>vI ]_^]O|o gNY8>.6CP_sFlAHo h??=vGlWsB}5{>]7wFKQ|V:Y81 8pX RB2Wq|<(UA{y(LX=o=mt.$Ӑsg{uG4%wT'0Ve ]ĝVx 7)orK٧c>RA~.I9o{]Eѹ[sYVfRW`*(l>_} Hw q ѩE#@^a፦(^Mx=my2G]}ߔ&m*Σ/~GR!D?`=?u4=`<\cpE/'ڔC!~Dzƃ &Os>]?T&eɁ (lTөC5C俉iCR<ө`}„3ų4VOZ4)Uų2|DoYxVZ0x( [ρjwvuҚ>뷼uwf:E($Z@ c< OxǙ/X'8Gdf66-9oVa !JM?wwV W &J׽Q?|:QSsgC/TP? ]w.uA/NTW2dn ԇX?B'P\R $`/x*7/ D#_vߢ?m]Q |>Xљ9P?4O8S5 rD9hcbPc;& |fo͟q5a.ށ(MJ5֖|A*^)V=@d˼CL`x 'ǻVVڿGc8o͞Gwn[hT-3qbwfH8 pW_@Go^|r@=S"4+9SwO]1`O[A_ʎ;wcOCNe$Cg곮;Á5@="n#=E'#6P\>O#/~#dz+&;Y`BPQF_J ibrec]V@`=}̅2l(/mGh'l?Y}]ްEO~d5寃1 ƪhztG+v#s74|TS?z{D~-[ E3ç7YzX[kBG?A od(D} dxx9x=DPcWxDE>GB8nH_O4F|2'8^͞@,/x_jXPW=rLk9GAe+i7QiFwTTeH)WᏣ3 Z'.y/@O?J6:iO.}j#o8E ^֟_t֣V< {Lcr\П?W!{x*♁{zqM'@T7kT|?ԟ~8X/|KC; @^~OBt~f;""`H Wl?`P<|iHIz'VTc[t=#UN(oM7*A^'X8^n+UFd&x!4)72b< S 1g:{';3Ɣ]RƢ/.gU8a/'PXfK==LܣOaOk0*jY{%ţ2IyAHX)W]jo /6s HWxP>cSW!e {'\'#?PбYn,8+1>^U\y0d潹=⹊g/hvq~)2<5?yI&!Œ)L2.ɸy\~7 ]uοtƠ4^y;u $i!6&{*4%MŒyN%ϙ{=i-ND߯Tf}_A?.NfJA!Ъ}(*5t IHid~醱>Ϧ[Y7 ge\@~D+=9#toȤ#u~vOzꏦJ.ez}𺐞(Uk<%)_exuyտ/K ܆w.66,o֯_,}~l-K=Gu[mi?q ~=U7_0Ků%?g~ssi 2b-h=Xm!q!}VctSGi[AkM~vюAz:GZwҿl  }z?,{e+…4$[oڇLd$#1(\pdjC_Od%59߽2|C^xRDwO 7Muf:;x~7+OvXzoˋņtz I/'ݗ)S 0_XGz 3%a+>q-DNmIfE}PSxṊ'&ީLTvT+c40Gj6|wv?;K!VlgȏMz"XY7wp$wn=o~y9*M䝻FgV:S3`,.1ĥƗvHtyq˞w(xaw;_sِ/ykXZHs*5uE(碮.E3~ǫ{OHi:7Eb;򔠮wߝVf(D჉O-/_xSu#ȇ[O{#-LVT8o_x?t޿c6E.!X~Wh\E^v1X0>!Lr? yO y ( }?n{f"s+6w4l}\xxl8`|Xdә[=fȿHGtT55/v>ybl<N6vp|cf޷g^?tx[ h |B/ <zaM6O?>@_ny\y3q[\ps}}h%xbj(}qwwǤ:n@_`y| xtWp~*Ǧ3Aװ-~^XmOtbww9˜zRZ}׍/x}`3轂o+”|hR#By<~۠Nxz3{v|#OW_byx{*/E+PH9 ?tTi.o׃yAuNyA];~w!~}>"5o~ť@ h~my˿ 1¥f<^;Oч, rǖwM73z7f!}/gh9_ KUJtY pR%\~ P|7)犆G?&wyPI~$V9FM!aS7!55j^!{|as}9 ^ e [ӷaLpv<4/qW5|+>>\sퟧ~;Gh3 K}<)v\$ ^c@>]xg~0&s m(WlS;ƗkbLԣ|?LnJxf|x4\a/2U]c ^`N~!ZfZ![_y%~p'_F! @kyByg^628CgF{}~׏,KxVͻyB ś{,o&f,0g[lDfo'[KΏl4("|ʼnFt_;}~><#<x/CU`SHA[*A_voeXJpym\Zm-"@ʍVYŢ>9şA޷{*@]PO]f5'< &v!򛎗 {9_x/by1.B@xICOĆ=Bx|~j 18lyw'R ||.o_t_x]z+d|}k=)\|](FJC gS[-~K1w轢Ȟ<<qJ[7*S79w'V+zJ;y+ zp j~ xеH9MA5Oi p._%@7_Ko<2ւgqWn+o^J }+/F PwJaǗ+[ u )( |ŷxI7Fa& ?jcjzxV7 o_aw7ZLTp|%?0;~}1k,_Q-[>F$YxUVe#egW'sM@`y?Жx_org'IQoN}{F AhX'"5qA;Za ]^B0=hC?ZK) ga Y`_hy;SjZ@;̫ۗ]x{V!޷ O]+쯹qrS|a-ЍȻ8]@_yu>yQg~mL4bz!m8b1fUB+`$gJtz:+lv3L~޷>}kOc| {ћZ8l4%@NeRN-, l =MķBOUwSt. ?unZ\Vy6۲P? w_y6B%ߔ/9WOԼvǧi|6h7 70Eh(FOtC( tֽXKAw[Rg[Kt~ןտ[@xuk^RqȎ`ЎrGEWF=ׇ/(VzN!·gJ@[|pA~7 F|pӗC 6s{8_wo ~d*{;Tcfx~ evX}| }iz`{4AA:`'w >zM>o!?@.HߐE㻙yY.@HίxEد͕%N$g6KåOFmP$x,zE{LA9&E[C0w8"4 p4s[@sRpÄqo Փ]_Ev U%G<\n{YfO B/u}{%R M)xgKas| OclyŁyPzη?[Zўw:*-xy;}[.SQK|C~̊>>(z, ZUh. >XR*-0y{+S߁y]W/ |R O~#R0#Ki_8^5䐞yC^̎Az78z8u> X} _HaxVFn%?HV;Z6(ҹMЇg>4)~yDAK?~"{k79R{ׂ '?Z>Rѯ(]=F_'?ïA?'~'J>yoȜ<Ӄ({!B_%3KhO$y˅zKĢExZEySy]O>y^Y5#ޗ_.y_xDq_3)s Ȃ0bjt6pAyƛ ߷A~n|ՒG?Yi:}NT{ל;H>.N|r

gv9'{^gy/Pr27'׷ߗfɦ;z.ǢW!?-Ǚ'x۫#}̏RO g"U=e/ _fҔSu ARµ^rY.fAOY [{yWPo.ʭkSޯدv¶4m[:i?|_<@7СYƙ<=7F8or_v/>fA_⁥>߯N:kD_xu\&f }ke 2j'xGh8_fO{ڿOޤX$uyw%Og|&_O&T4yo|xX3\*Ɨ"tsÿ}~YA0hhϙEV~Λ|e|SOhe,_Kx3:_^&oen)z̈́+ۃsd)uqGz^ h5!&7O<;[jY?kǻyP> /R`A5/F܇Axz>.+zx]\EAH(&4OB~_ο*Iz|߯kكy5ip>U" % | [H ͗E,W5>b>4{,'+쓳z^,Jul6}ϋ&DŽ zf[t}>@'IWD wʪFM?Kުry5ii#пg:c@1ˋDv+1t"xs(TD9O_{%<1 xMk\uBYR.;_"t.}܌׃M/q;{sKE~]&gG+ewY6ܟ<3PNWE<40/LpǤou_dVQky`bQ;.2ծGr5?ay?d9>ׯf'iJ`@\sH}wgeJ"=\;?dQeERo`JP{s޾o/Rhy~=<OVڿl3xOE?{r͛u o.yFTMjT2)}ţ_ߛV\ttywqlZ}Վ+`<\I3~俷1v$. `?xQO:"LoUc^N< +~CܟQ)KtjqD.KTGq"ח/yMCKusQ8ʳwXϳM~"qssuJ5$Uy`smM<`='v_OTXUlBWZ_y{R*8Sq񈯿 䯤"yxCO;5fӇg6k҅VkoY^.+_Slzے7t%/^餙 EuS]q{>ns~&9xwoYdlxBsJs7]GUiX9k>9BU`e .߈?j9[7쬺҇K+@~3UnR'xc]Y/U@UR|?~Kz<53,>|;zXf?v3n'.5Ss`>@U3^"#xɺ0Q=' CGCZ0._5>s5c}gFT(=>O]q[Y2),З'7ܾĮj l;3hnNJOy/ ='업rmZyx嵢AHޞx+)^/=S}HRw`,Dӎu{;.=׀yÃ0VL"ޔbYߖ׃3ͧo1kj7@Aɤ<|1|ig?kl{޳_jkK ^ {Yu@п4WKN@ӈ?p"@ =%Fnƒz/vxFiƈQ|1Ҿ,]>mi܎{p;5^ mR-C~RNB}6N&tF؜Uc2\=`Oa,{>[5hq07<=J[lzӇ } W'<޾\iotR@3@AZW`?@ ^&=Yj3_4{^q}^nt{ b wrk?X^8?SzvM9C}4<=#>|I(NM㟔r yl|d}kR>=p.l-^uuhЫ#{yhBm>(xi B 3'EJ6}~uB5,1m+~3z<VP?>e ?oHߢk(T΢Wc7 g^tTBT:wMZFwo[Py{)QyknO;@~poD?IKLԉ%.OwxG#{{=[W+?5'D0,ȏNZy`7%gN~jRgo?nRۯϏԔ C Kݸuȟ~__=ų~&MBo>ߞG^}1tSПI)FN9Z>@篹l%ت{^߻K{|w~l>@yӉiXx{~}|U8gPqS ēRsu\ɱ_G6C}gCx:a xr~۟?;7Z^+MeجߥŀgwM'C)IE/|O^3 +WiKL>_M׈~nEѱ|m* .5?$R.E$J9K~yIIT9%KEǴ?|^)9O+'ۅΚcf @zsx>q;|!&< ]C~6AvpǧTԮ>GH#Y^g_Z٪2| K^ՕsՒy^cT죋@~oU =3ٹ1mYNryhZU"x8{'҇q_/yC*(6Wںq/e&XdPu)|dVo3y5Pq{Wڔ]>`yР0€ŝGPP9i2FWo/xLMuo ÿvr,Zȷf`!tAx;͜K̷-bU5>;qxx 9c?3 p'*^wu^}٥YI9 >tt W"P{Q0XBޔ*B*4L~z+Bq`$|_g_{'D <ͬvs`2xM P6&AKHz޺q|]$C}bLW6x j}y lzP362g{? %mzk|71xyi-(qx zqd u6W.~8^{Re|YPn(3=#,I:+4f_8x]+Kś-VM XP>37g\?X?z~B-$ hC>D!OV ?C<}XyǃܥU{?d}Un<%6GP^QR)u/BC S|8o7k{:_GyIIMCRF;QJ gަ&'UR츗Dϕ6Xχ|7ߵx\{[[9GDver [GSS 5gUnz0z ru:zc@{{X3=ԫƽG/\a |}!5^<20(op o\]g$W 54{d9f"H!{ wx>Q]I1gꯂ5^=3Wx_yK@'gxL "ð<ݲK4LzYQ)KO4)`Ȥ_9i}~E{/>͸w[X+5מf?u;]n36x9zu^2 NQ)׼O?X?8O!%z&P+%<b[YG)rQ"i"OA3_ZWjVs&vbmRg7<\ё7gdпQ룸w}U-j>G9>#T<z~xϞqAYMjV#w/~*D}ԏH¨|Vs?k>fC˿jķ,OЏgR41cvA~Lܺ ^F=?L O66ǿgA7!AH4+& ë/>Cʟwd<+a==eTȩm%$7e|(g_o}?v67iS"w-<$+ +~VsMߚft ]|k G@'| 򻰿'>!AHx|zVQ2qy9w:'mc}P=Cּl}?ϪDMu^&q7zZߚUy?X_0ak} T x23<\~~Y^]|Q`tsnP4tJI P󟐽-by֟pzMz`*.~$@;i/]aZT2/P!⻹~ӏtDƃ a y^kH0x̜~Aw<>lx><>ꩫh)#,%x^ =, |SoBmxp~b2JRȼ2s@Jg t0//Y~ x2is/&\Wzۤ]~JiGY(0[y^s?óG㼀/xڈY#x8Cxl),zԗblC, OaZ}Ag<Żxݔ[x\qU(p2Owߡ/qdp_E*Sf'6|ec4ߗ72W(s\P2`]rdDY\|"vROo(ҩѐi?t)>b"7Eb! lDa)vǷ57}7g~qҫxB~o~ ? OأHd#e{zVW^/t)J s`u~kAidoD{k^g.!JLg}/ը, |n_xH sr>|KtyHH>4  W?y^,e!ǀ&_S,:׃zB=ěV;;<|C~>W)JͿ@ȹ,ZwYr9DGZ>σz%v}Ҩ8cыO8WN惁x 1x@?^'[/F*M=/PO}㨧턩_m{V~&/&Z_h >G@L ?ʽK*b33A-@{;тka ;gTkVd{x Ąڿ*b_zJJe hok/O7Q9Og/ D?Cn_X浂LH|G!^!_*0e~ ׁǥ{C~*tNv}D"ΧÑ<֡0 \PF6v} =Y%!x>Whz;5{#<bYF(OI"gs^qT좊T> Pq*yPşޗ5ڏ#Ȩ;T1?dj }StxQ>X<-q ǓߵJ^jB;>ϩRh ,X!_ y} lT܋}0\)y6PO>?ъ^JfCC=U>?;@~A! C=GjxGJRBN{V xs3k~Ikk;^ikz TeUZx|5췌DyaReM;y(fQrO?yW툫 1nd^y5S|q0Z_OX 9uSYU%vq}_DRD x aokO2Մ92nkB^R <K_cxit~?Xu@>f=WҪ`;@/vOBT/>.{|@`ܻp[j<&=cޑ' cM;3GN͟c?|Ph i3(/|=CAPi>o&#O,CͿbct7s"J #o5?[x7 ^#zv־ LW*{{B»}wxL <,qJZ/ʻ4p Ռ7-< OQl,:hmjG:xQ_d,znW%7pC;RhVȂGޏ)`p|3 !N-F_o/|Hb[fo9zqTz}D){-xp̤V8 ~I*y+\xPO}Õ<؇OFI7T&ރz `֟A {xP|+ o>\"5S֚>~5ޛuû+ Cowܯd|~Ccz5ɐ𬍿Eh,zmfkOw}?aL_ZyxOm  ^,"^x6$NPz?C>/ Gu oLWSp;^0D< W-OGMYNg6K|Ilz~GR0c|\FO\ߡ87YXsċJxK޹-7n#}QЅ=hxbAΣyh^j@P=hpF r:/h@KD`EU_ӂg_1`_bک)F~( Ia~6)-"ym~K@Yzokx)ov!%!O>xix;g䶕<w!YpU~6tbxc4KW_ngi?Uyyӧ,Oz9\_w ˻/3Ջ9?oƱ4ƒLV{g}Pq"G0,^ [px/nX|K}2w.Q]G?Smg7:{^UgWQ8NPmwQvԧHu~v{~p0bŵ3C) pť<8?`| #H]wlT}TlRPACZv?"B5Wx}UHI''fTߡyh:=]zʟ=Ӏ[4J&=gH5xfSe>ݠj)>HCr|ɶ1Pp8N v%.KjYllx{N~O.yɷu= zx/pڟ@niY 25(2b\,_e2pʤ7}b3@]hOD̪!wPyx_rٱUo$Ǫ7xxxy} QP E:dk .DAC=?!< KQ=1;/lxhAM{lgR(}j|dIRM cOzp=P95WNe% ~DeF#WN r|͟g$za>C?"Ⱦxk~/uP7*Wx {w;{d E;? okT{]q&SzA9x i~|p>X秸f5x;/3c%c4[J~!Y0QO輖KN%{*Ko07so+ ߴw>}]TN-4/DSklDā} Q/m[ }Ɇzyy5g֋},@/r>`N6_7ްا0~҈SNU!Q/oS+Êa :Fw@JR;WL-ǕRxjy{VBD,zx#=ƷcO\_mO^#s\䳯VL`sKorp.R/ܷ7R/ '͋?~x yGC؄T-D긾xab3˧!g{M˘K) DF ވ۠#Ţ*Hy{j|<Ri.ݝ{b|MO^/ {VgϹnF.և8=+(*W[lܟg U@>Ӥ #3:X=fi'ԡMz1{u}~id6_'S4?_'A%8AG'+ZlUP͌{]c>gAl.n/Ȝ63P^#&ssXU~+aᢋƬ9><ӼL>l~mT D 晃O9ĸ;E_,Ԏ'Hclٟ{1X5>>_zOV~<[O|97jލ/{7Bλ>'x^p>Gq?KxOZ/NdR_ɛ+]{K{}H'wyDŽI2Vҋ~kҟW٬&:>@e<Ov.,"tBL Ó^nd$R?uv6"Z ﭲ<}ԣz,?iy&ZgdyRO}兇{w»<Fq=o+ʡtޯ7^gCdOdW>E] @{?=vqApg*M.|[‡g=+3+o8{ev'YĽd-% 8"М"vcE(E^%&[VkWv8/X2ȶ-3K=mxST3Լi7OTK9nC8ҢJ( µʶ<}8^`kꁪϾ٠WxoW%4 fOX$S]=N2:'k.W Z{vY/~(Z< g<<Û=z|iGFnnwCl {2KO9?{ğfd'Dym [0>q/x=xݍ ΤpFY#:\`,ix92ϮطM2ZzQ^^l߷^?*RTyJ?x='رi5/8~֮{iL}>rqho~ߎ$+Q@*A:o7-4C7K~ >K+Oϰh}֌A".'U  ։LVT ۅan*^|ҢuZ!tZ<-.eyP<<~ |2y w*X:g >Q!ViSg;^'X ]? sru5I33O.xϽOy!^wDhx/~P}LɆp7\s?4K>+Q{z^;t2OQ%_B0+XrỤO=Fӄ=k E}YAyC_x^i|'|}xu??<0ߴ vCK5ϟ  @=e|˽YkceVjdy~%okBbrΎ ~ z[woS1jz~׫LFN[ۭ=(E/ŗ~G@z|Wc|;yfxA'bq)pp~ G?>?BGL?(RE⧞ ʼʏhv8*ջK?X8\i7?4Oz/rY`]#{|2}[foR ϲ:{bT^ן&wI1kSyؒ" wLMX*]|: =Z|% F^5O4&0 \T<0%gx!Mk޹nk:{?O42>d@sv+94zAVQ-x>?,$X>c8<>|2Thk>}W~OeDڃM- 9i>>g}tdz$KhQC;__B<%PH+L]['y>2o3Wu})WLuO0Sw4]O;VLM:{ G08iKV>KoY̟'O^9>Do'LPRD~̻⃰ y|}+۝uъd-pe)WZeա?aѼ:3>(Hl |If `Nk_G)3"wGw=ܥGP|B^} _xY-#V,Ê MGxA}k+&g<ŇvrQkzߊ-+9q\(؟NjX>A3=T ("xO^/zC`~x@?"ӆ {i$).Uo=~+[{i^> xr~e_k!t;ny|n[5`k*|70A?“ww6juh^? P' mrkKvG|"klW(a}>pV tb*ܷZ[S#d;Vz_bPv%'ރ5_3>_`5x1pe2 5^g=]|h0>˽`|i9t<7Hh pgxWH Pd_Ev-,Vh]=h%A<7#^{@1_*6w׫{{ Oo5x@=__Cgvk~ͧY|9ܬ@zNJ|_{UVgۻquީm[#^g3dV{d9 =V<|{%zga.M.aM^U==>~Ruwާ2KOcݽߚ%x}f%w~iodT(>dӺo5_~24> "7xx=l>վ=ڐR.F>!]9CHĚUu[~H~_1#zYgEU*H7_x's&j4/qK.1iLO<W8?3=9VkC+O"_7>B:^Η'Ap_zj3|_l=<[-m~-z^R_'ћد5C'ޡBTK-ɟ?f+>P_[`8H] l2B9,_o.Oi/a|s߳'(чOF3:n=|w {gЎ%\-xzI;:1tޮO=,%TԹ>g9AZ?X>gEΔ`5yb:W{ -뎷׽JKюo)>(ޑ ! ߿g_N/'ӿ6_F]w97v__~w{_{uۿkOvk~{[ml#yQƪht_βVj2}:{z`͍}ׯ@/;IݧWq|QIH@j;evDw \\xf-"B(.`OGj;j^n.Ndej.ʖ=+.yۜt23C4zM PwZcjՂ >*u\*mR.uNIRT"T%\u`hd bBӥǠSW/r>#q@>"(!u4wQ䄹EK5Tq`up`GbR?-` pFѩ 6ڡA̤1 th0<@f^PܪoO: J ApT%3 ^KW<Gdima!3Uw0}Èyr+0oE,icB?&=wvR&TQB j2l*Y(7}̩4s&MEWIDKۂ?TE"f1 )H[u1/'@ٔʭR `\\>?0{`)G oye{䯅49kYj6qKj՞q.q? +-~R Ax|X=5NSP[aV{Mj>fm;U{P6&o3vUjo#`onAуocdgR}Ap%v/_~QqI4!D- cqUtժTgU ,mh ڶTeτ0AY,+g:=o6fc nt-2!!;U;DXu&ODMݚ@lR 36Te(3Q6QSeTG (,6i_+52 Ϩ{D5Up͚_`JYr)F"Q2!6Ei3wʂH<[1 |_xEK,dfe# 61Jmfbi5 E̻6TN6㒂f-{ N4۬3%q6꓂>M ֡š2LhJ܃ {j_ $׶JL%i]_/D!< ȉc(>KϿv3*[,&[qJEmgU$t3$ l\ښD$u,*`4+*I0<8T`*YZ)$`U}VTLK?S}8[ShրB#}h=+ZSdzkU32@_Y[a m0}1X!^&ji#f>@Vnd.5U85 F"e7HMV}2{udCvu?#2 2}NQ2Y$f\3 LkfLdTT'N%qc8B؜$eF`KNR%i&7粝Trɦl_!ڸu]+8;|'0t#Pw]]&Nl=m@ //$m5wq:'!JLVaR `@agEY<$P%DYVPޕN<N|OҶu-:,FmT #MptסƔm EybY$+{},æ]pf7bY(.@:w'9l8l}]>B{W2"*:u`3`~oL ] 2(K+NN2!N#- )yU `<;,-c֡Y=5V^m}F^eOQv-gҶ ۃ=ܥ2ZX  O"H'wМ"Y:03v}т∃XGH46&8ngL{_ONqN-jS0N`6B %pAA}b'_ Gh28900^t{ģ$Qݛw7u  tv*8CK/1IM)(@#8/;WTGvAA:P%\k&a/GMEUU#Sy#IJxb6` Tň#^|̱E}]R݉8Má3Z4fDBdܩ# R;)>QAP'*p#K.]B1Ar|dQb(q R +]Tbtτ m~ U֣t@FTZ@d$z{`aD߲vx?b~1D+FHoxw&W X7?? 2g50e#a?aD:+y=2oR (vqIAkUoǃX2Əbdo15W ~.7`fZK*[g.LwK%W6#@B_s?Oxb=(+}jFK<"SO$jRn &v]?TY*H)U: Hy,+)WjXv Mv%Wq3'7n0`}:V5^1*g[ѵswal-cѨQNj>\hp#yX|_c^PKe2I#2N7`wY40Z0֪9c|A*;.gz]SN&&gcgsUCE3V)eIX\D\}pxҀgr! &rWW"-_LVK[uÓ**9kZ.T#{[9|hQP D?%Vjcu?+.ߵB5HKҡ+/j#>in[&,?oa<+Fi[VOgla,HLɫHP 3A8,*Ҹr0b`A1K.s$+?SUcYhp}Az@-T$͉&M3,:uÎs-GgC%YT/;.E|`1u5b٢`Z1j&򭕘j +UC"g}_>Ҡ*|u{j֍7}Ϡ󇽷޻U f>+A2 LzzDĶn_n tb^ xl”=[ O3u\Z1wJ &POm ;p)ՀÜ5f̂.6~ S[@@ؐhݣrHq{6Qhyoh[\v-~&Rl߻;nO0l,p͎"  a(\e-[u#RO 7ܺA>@_,+C|[i[,ŧήSckˎaa.˅p21h W0v`TkX'ڞOA](X=)_vظhm/Zst8sk?U`Po8 庮ȉIc((rb,#Pa<>=^ɱP ]À \sAu3.{ҳ&ܺ u3ư0q_PXNy߆~1f0 ~~{hȯA*SV9H0^H.SLѱ! .?6sHX ?(vXn{(ou$lR_q$I5iv~jD֔JeN)IY5==*%vR 3S=ktÞcf/# x\E*C)@=)G_G|%0j[?&|e !g-~f |_ _S޲/:+Ȩ; o++|%|?N= 2|oS/S(3'sO"R"xt鋭iX5(.iZ|U p"Ϙ(~P1@d1!9U|;y`uly,EʼK ~a2=UD!;ˀ+R?DfAJr/~!͈|v`>䨴Nw{KcC.`I@Y4>RD &(a8{ r&ӊfwĠ7ѡC4d ?2A>Ff3nʤm֍3T=WToh`aj lr˟mLLؓ/SuNsjգV0H}?0ҧh1zTUMA$*,0;y8UϩzK0@ɹsS%}wHЙg "jʤ"fɘ=]n=ANDG]Ќ$818ScǣQ@ Яhufh驏˧0 NIEՅ/Y oR yard\4`F)}rb(=Ye I%qǡIJ2 }I}/<o 6&Gҳu?cW:>jэhH<9ʰ4CYc7Zo'%aX!zmw?b"e者3. ۞mJ NKl1UBoQ0~㭅,i)b<OSx-ÓO<x S|;KK,*?z 6fC8XO Zj7MިbU Y.S-OX)?>:^@"I#wݮ$UuYi[U$5j]&N_R5oa|<"XژFDŽI CI´8XQ+Ca]Q|UX|u&=tfGw,(qP'j,ssV֓!u: @&ab{V^:}P@6άK)a Oq8`!]xzj.޺{w>wZݓ{c XtS @tB')G%ꀳKV$N^Fp2Ĵݘ9|pGe8bjSХNd_ Um=Ȭ8`9u%`l=/0`B i:k%`U1D,s~e]p(&h~g=fNΰ@ ,s&Fۮm9xsgmX.9փi㽌^vTi*ϕ[gR1gˌ`u}Al`̣`ݶjTO`(+:ք̬榳`V,H z"q+`;oHOTښZj  @P偍 ,@P婃 >s84bȬ=  +Y@R.sR57Jō*O]^ݰjT)>R%Pk_%H0VW屟K8l*U*"ku3^Wzx1 aj9 52"c2e(Ė+,I JjLj,fY(aVzUG3IovT!`Bb{+7 3hvjiAQ*C#/0=wB`]O$Y}3uUj" n" r8vk(k}SQh OReE`jA>hUj]KP:'4]`DE=i{ɨY`JN,bwL hL ^ kmj&ǃ7&sv}ؤ-Q*mJeyUݛG) T=fhjU ^ Xՠ1ATJ{Xz-]DcdO4fW[4Ut,H/kSu"ߙBc]5lWjBwvIf6tITnDQ;I!Zr(I6>?Ҫ,W/%H<ʴ4԰`̯7ޒVZ0V@~/fYE !M/޽efuH GR X2)Vovxl5Dd Kcs?^fӠ7M"fܤeM4ϳ<5#' 8:rd.<-t'c>U9:g0 y$^6HʸImg?>:#i0&oLjΌy^4WqR^өP'5i]?䍁p&l ma ]h:%#l2ͷ|Gf Mm'lVl|[H3-0~e) dDD;F'HiIhȪd+,x%:y{&+r-i{GaV\9R1'g?&[萞F;٫vjЍ8ld upCMfv&N0^_ߞ'tO"O?~kÍ wdV0Ď%}+>N.o 3S wqQLJ>N襠g#{Q*.:2dM8!j jRc+HykHH9HE*HjHU*? ad$-B|#yqjѢG̊IK XM&GLҵ}B#YҚ $)Zr0˗&Έ|q'ʨonN73;%]-ڢv^ݍ&xAjQ`Svjxs>OMG`^ëxBeg(<$)2Nj/V!;_ݖms+Ii\R;|$[ o Li0s Bbn8ed@BD^[M;K.,$"Gs#pXa]R>zsied!^UO~j/PyaD_hR#& 6J&}ru i:3;hx | 0 #N̽cEt [{>3(^ 5N D ߉$WZp+x<5@lRy;(7Z}JB=啾IV!g쀆YUR;9ro\q7=[5Tɬ;?_߳Ϟ V E𿑟4r/lYJ>  )QoT|#;bKX]z#Cvt=Q7b!Ee4ѣ&[8[֙ɴp`kLYWkߠJ_%U=R#H#^%N`O-K&~xO,(Ko)= !lK`:n/ oa` )6ARuim|%rLjN0뽮 *MU_fK.*x8;:vgkn`wY39N_seGǼ^M_ >ogYܻmg%GR#]?2%|\>1)HeOYG)zyfUMSVp Fu'IJV[  Q.GؼðJm|ODӛ'7<0=BDz>e o+@7g7ߟl!x$e)'J'-[Ӳg$!'h8|FA}R)tE/ÃuԆckg_#$1T_x {ߒ=~}~$+طCIA/q([/ybԑ􏧧⻛+&il;h.+y˷![6^o#; s{? _nt_ &^8e#тȈe $R&-=CErsCXH?Q6%Gru ?:۽oӫWj%9S'g>9xǐؓr!}z}orz+/]zoJ׌M{~a>Jz?}zXӯ읉~oԉ˾O=s/6Z`@2 aO=t`u認n+$5#h*%L2[9y^4F7בV'.Sd8CgcB}>&렟 =Xdϗ4C?ڗ.`at>?MO`8vq=V3u2k_fgZk:> Mƙ8eLHET"gofi@6LQ҇ȟ۬?4#x}(O D\P. pgr^C}fP?e?'LN=|LDd ѴN?Mx `g/CJ΁;Z (hoO7#NND/K\6xOgė÷d h^ 0! ]||9#M"KFz/ FPb .DP[%me45.{7?JOO~oD$T!=h-f_^.PqT~/ЁoBAg}1j4!nZ-%z IX]iZx;~3 h6)\Zo~If [P`k*k*[;QHw-0sc[yҥrfUkn6=k-pU.}^*wKަ0 KpF]?UMgww ^H?ȧՎH _&;twi[Rx97 x؝-.cGMŜ3 [y8E>#HHB7m~HZhOj6 >lΒ(/OLi/L{aWmgw~Qcǫ%a?p#$"b."sIj]4=V/mulaZiĜƆ?'V6Lte Ym9d_/M,/'l9@qڬ2hYt5~_imR\/1,.;Y>$%j 3=8dB$J* oa˪M-e)k$ӛ`H>id (_Ii  6.n` AJFA?P΃ 糊ǯߟ9=t M^_Yn9H?tAAK b{`K{ZVNBV yoՂ7No ||i+Kx@OdEoV=:%Ӱ!{cJigtô#>t[x*-(kxҁ 聎58B5rT3M@vxd ϴF 6 pq,d{,}Kq}laũ9F>"vfGGQ`lHOK[k+i:gXl+ǯiNV\P{\y0`@Ek>87V8}fc,8VK*qi/^1)E['3荣 sx8фFG]tWk?&WN$ϟi֗(Zc%o>sW3__y=(y.$ww747X/%y"H\7qvuӏ޴׽)&C{u& aٓ?{B?{ zze&ɵ%OR0)_+>P3\MyKPDŽ3!$L`Ӕ kx[%P'|%53v'-~e|O·י\G_SmWe e3|zIZ#Q@J.}5ikC%MV X^$A:/XL>{CV1#Mh⣔> ׼G"e%Z0r?y_@5*qG e@9x|3 isVAJr/~!͈|v`>dwzV xN~C.ЎI @Y4>RD6(a8txd ([ oN00hav~G :Jq4 Co ?2A>FfhZ}tPPtZz<e}xwtCmE RczeT#}^l`Gzdž~3uڵSw0eEy > ףjp "Qwe醩Y|(PéOP[&4L:v;$̳5eRQLd̞. xQ hW>}zj@' HJK i,0aaqV2Ir&_k h7a01QަMg|Szu٤2MzO+0˭VҔxﭲ(σZKqn-)͢ZE>H&^h~t ;M3ڧ9Vf.$cħ]%l69mHQʦkJ+T7o3uza Z{YqűrIV%8QBN%D 9QBN%D 9QBNsg4>q+Oxܤl8*9$ةf[BV/Eyϔb?;׽QX PTM<8*?mUog:jO1T-g2@5YN:0|2Z<  nV`dd GNÖ2.yJq bsn~BUU'5r'@mj7TUhXOK.atYw Doxr*ɕ<3]:=|wB52xڈaFM`C{Ϗo^_M{Ǘ'?KP؃?p^ \JҸ֌51T$y!v&OH?Ql(i* +<ğN' `y-ngN[iYy)K:L1uO͞* 0&Ү3'͉Y`jh~qlk/KWo^uM2EgQY~kNKϪ"e 7*/ 'zbxr}4L Ε۵,oْ,PK% .uG?u/S94?ScC&@ $@_H5&za ^'_TVJ炉8̳T|2X&ub`l[]VtigO[}:X6Q '<+LrJpb[ؖ+mb[mto.;0]/=t.;G[Wunݝܭ[YmEVΪKo7TFeE[2S/H3zR&`NzX;?|=O @Xm b͖ëxk]!8Sq$ >0*AI8}mÓp?==%v$G\ R5ŷKSGMDv#$H} &)O @!?#Zhӛ^Tʣȟ[:g q?Т\T\zOм4WUh=sMи4Gm׋ℼWAҔe`V,^T.M؋$F#5A4>ϣ;TCodO{qkB#R IGxDQ{C`ݒNt4o5q"anO7gMղR3-WVTSAEGR(ː/S,OU[yWoyQ]~E33St쳪>t˜0GsR'SݧHן0{& ȑDkf `4]: Mf IK}i86'^jl[ V0%ZbnjgKYlGFJ{'dI7 5SbjBFňF y*aխ˵{3XBQЏ?npdnN,]㋛?˭?Gbk᠃1w r2 4?[fd'ހ!%Y:x̍ɾNKOS.U>]7@&y>do_)8-̀nv|$p _%71t/u=fc]: F Iir7YkN&LkoDXX :LYxy+!G5p2I%y@E$nixU+^?7YpɓGGd#H٭J2m6%g/O';qɠwsz}sӫWtjTzeg߼=& #L#WdAqW,u&)a0p8z A}d寠6)H=x6o0"ܡ4@*8N<ɝ/d+a)+ȹx%02'ctLUE=:D1%&*zn,vHATaO#G0A:8^x@?B #A@5@͇DV?ұ&pSdhޒ|CzF燛oJM z2lDb)Z]k)Ň:oJƣB@Q.r ^Mo ijj%i% A$I<*&spp=>)%vS("գI`Gkvp@וӂ%ZߔеƦ.֊2SBϷVL"_ LjhȀl.Gf9 ^jϣaOOFeLOS q} ?R8\hZ]h 0h/3)fÁ$&ux/`r#FhNĠ-4h\Q*-0ں>K/dfBlNBf>!Nyvϩ ? A;;^fnNV>0.!ˠc2 +@#Fi6&M,EHRsbxc8DZ-ˀMG9#yF2nj$b$=;ƕ30\`2Vr۠I1˞Qk l]241<c'aE<*{ʊbkeQ͉p[B}mr'j}ctx<RM#FgӜ3a23,u9=ن~>oz+70W8 ,n^9g+e招цt",ͳt@H Look}2#y2cRw]-Dcܹ':tclxsoJy0odKP1RMȩ9Ѡ-Nf{brarN{,AFkx Wg&%GL`8y3tg<<|m FxoZǫ 7013Z?j=7j;߻kq K<6d-Y=99̛庀'~N^d(3yymGo0z@}}uEoJE6y'LF v0^ m3d@0-a ´p~{okɉK@3`8Z1)i?`q0ti;3>yOOĈy~9{~o2CyA7QѮ^FM 5ZXvtǣy&|z9ȹznr/q_94)+29 S:e^V3y?Drp,\V[ؗwܒA騹`UA^QsK* JG-N3(-_ d,|k@ɜ,EvfN^=*G+MQdG(Nѫ"%gL|dG@r!vzn)\aoW=]-SvkvLUjyDoİ['Zr6)tx*kXaf{UUQ ;aT%]}Ovfβ N5#9vgߌoY_,]hY"33#Ca# 5x8z6ewLWl^t0OBGT-5g9vYfcOY4V9cƼ)yf#B*gcc%8[,5;ñKo6:.q6:tQlt31g䜍|?El1‘Voj6r*gccg9pn+"l竕5F8܆#p,KsWD8JƼnUJ䚍""XUDlt"v#䫜E8\ED8J"lUEc=]ꟍ*z"fjpf#*"XcJBʻ-ll6"±.E8\MD8Fl8A٨5p5(53E2#uQ yݮE t p,UEc'd#/hgOo[QYAof ၞo|Z^< N Ja|Gt;T#X-ď< JZ'otLm6"; cy?'?WI:c> pbe('XM19E skr* ?y0\gS @'CXY; t&r~|B7E.Ay"6z /<Ћ U>ౢ"OF.Q09hLϓ#Mp5YQ FO6 |Z`>z<DoD9Ds%`<0AxF!|c/=!v՜ыc uC A9]AQrHyCa 7SD|]ҕr""7(בIe{8X1(Kށ:%=K΅x"'cgy'uNgWk. ^Q~6glH̜apѠEtO> 8xdeθC?7X,g:0 FG@9}fBԎ8ɑW;Ag^:!tAoҍ `s7\zhxfo22 (xGM:Qv9yS8[*> $ܟ L#Qgc,A璒% c6*˹)Oeh% #Q}H·"݈MlE*Ăk].Əwq#:-S0v2 {6; . DTB$In]#vDQ_ DRO$/KC*"HRv)HRy7.Fw#>k}9]ڵĮR">M-k=HFM-ea-Ks) 2"ɪp5ܬ4ܬ 7KnҜfC J1@إ=DGF&O9|8h9]J"[dhnVnvÆ- tipVF$95nNg]DOeQ$9GníHps5ܜ4Wh)8Q$/-x|F^t+R? $<>xng2;˚Km ]  :| 9!Y]!r"?> y{egDg~XF>V+fiqM@0~$\UG]fHOuՇS2bΜ6/߽yoϯs] /ܐCߋ_uy߻kqK09-$΍ o⚉gXtЃVpB+ :߃/9dU~6wqZ<9^8fn_>_}%/@-w<Γg8sKܱ-%c/p0;yܴ*m{}P`Rw$/YE=tD?v0N$([Zg_`v z_1ڑF>z(ˬ%([[E53T@ߺz}JcĮ0;0~:.LO]3TP`?u2&{ 8r0Q0z|UԖAx{6Qn==xa}eG^(+Ե4N)}ddۂ`&C?,E {\LbOtycF<i{uo|ԥq̍6I\0DU~r.%gmeə۔~[ZOdqttxgd^W|p+':źJv2oΣC-oBjs .a=0GE9$bAxw)z/Q<9Xg"|g|ǵ#GFSr4#?NjG c4r|:Y4g Lt!s]rz vN <=gJ=fJ:v#}v7֟'0ssſr%]MF#++@!*SO,U%%kĮ{|Ƀ Cx96y^^ҥv?ź:>9]10 f;'$dǢw]Xa4Z]ۅ~0MP[5 Ci'.rC{+G5B'$rfל]$J ^σ̃Zd3Q|[jRAtcCM Ɨ02At"r_a&%fo"qd$} kT2}*Ga`& aH<)8LO)@5}:F'xG'v ĂX)MY%6 ^t`(0 oѳes g~hNc٬h,;.KDIXbnb;QA֔saW7G.̠Fvy7s ݂ۥ#9hVހ΁vn$^ng~ Q|a!ۥ#ᅨWEhqW`;E˝B¢,vi2SɝJ] 98 6p9jߘ41ǩ`c/ɪHUp?{6O! A+NDD?wKW1-@ ZI6R-Tj-6gO#l\S`U,Ş:?ʛܸwf27[D1 A+Njlut]U6vKGOr+}V?~9VA;-F"nx`n$ rDϭ`ɮ(x byo5 wKy[գ*̜F"nH87*:GUVu#Qptbj^TGF".G&<&5701YKa7V81\kQXumQ\`aRN#YetKtDX`hbEY$ȧ k+/HdžEo(x`0fx8 'D6%?dm<ħ}?3uqѧH(eUo]5jE٠($#m@,YSx"  1BSILTI*0)SLEU8ܚr r^XZZF.I jqbyC.Xy3ESyvqhjo$YPUDJHD/'R'XѸ2WUU(KDjI_֣0ëeW]<(3Z }cEW(Ţ1=ʛHo#^Iem\T+o$BWTa  i6n*:NH$&?$G68s Qo5[9 ʅ8s'NX+*HX,Hϩ("?4tC*`Hq5a{'TTBO,H(ή&0?m*vR).Bʰ v}7TO9zUJ1lVY%ˁ 2]m"Z> 2VHʇvKIoHRVgd]pH>u EF5^ov#^Fx:"@ΟPAW("2,cW0ڕ#vq&5<+`@&G 3?]IeVњ ].:Fz#_l7LjD1Wf`sq&58ǘ+GU}XhDm(}XP5!}dhDi(}dPVAPaՈ?b_j/$H} &L2cU0)L23J1A I YyGw.]݆Zͮn? _)#?Z^ Mk=F{`El7zV>lYԄbhY*F\ʰL'I&tMUdA7KW}C~Bn?0?[&d=æf#aStش8(?9PaBo;i;(MMǥB9ˡ u0ju0Ko.B UB[kt6.UA@6?Hh,O'@Q]OK*ˋctvY~^XXVUϿi2>Gqq4bNV 8J6t⪟=x s򒬊qfO#[9M0rY8UU4b;-x~Ъ՝lu|3毼_ 3~sjU~ρv@QAts[!*^|HzrB@ݏ+.>rmrG._gJoN_a+94Bq>e >}NI_<I'$ yeUb}Zė w: Q;~C` 4$2 B? c퇋_;POF 9\I0J&Ny [>Ms%@{F:[t{{ 0׿7p7%iHA8͍da0aw /(>`hbEY$ȧ k+/HdžEo(x`0fx8 'D6@w<tN>{: " _xOdM?%fYrE{a7B c|KfzV/!7XTuJ~syyo.tF|nѼHG83?4Ռ N}*ΦU{{N2yrpUAX^"@Vd8qngV6r*[Tb4y7RJgg2~aV eUP<ޠ NEȅ~E)& -^E,OF,"r#٘[v6cI Y ,$DQXʪV^qȅfQԯ6< ğU 3 3?[YkyMBI<\*aRic~:Ĉ!=?`_iO*",,O᪂E\YğUEYHըE#Q\Tk0տ5+X4c+ʅ!bn>$]LIr,} ؈O5'#w C-ˈ|?ӫr(ŞU$+Vŏt*@P=9 eßP=Y ӈCӮlªlB+]TQ4S09M@\5oʅ {#ev"z]~W)?eS^Uq4bS=eNCoU4&B f[&cGsVjlhPYVUƙʟQ9nB\mOBl"+l|"ʇ'jVE ڄX9E,jŽVvtXyU`KZ5ZIIlljENKY=Upǒ+;2r+dYyK*F.| VYֈE.@ wUźҕ*IXk!M2,+W1gX~?F]]O(M*uGM K*ɋm݀ټ&óZp%_Ug6I܇q!*8VmLbZ cWEhkwkK0M?3:iT4XLkͯ)/ǿTWHZX*%}ϲ,Q눂nvw;Cy3 {2~xuH^Vb[^W ZN73-xu[,ueՋcQ`7;sW|RǗ~ 2ڟ{/x~Yƃo={?}WUT·Ctˌx|߉й  B$muw?UցaůMHWl"lWC w?` |JG_t˷; "@#`o!p{`y)dp]ZN_̐ħ}?3uqѧh)?Qʪ B" ,KPV}o2FՁ]`oI !CQ/2*B| 6 ?]O`ڒ%,LW.Z'TtIqMVQ80'x>LA_H+'X16Q4Hekʽ&SrmzzJ jMswAtfq G1A_sZ *]#)8m؝[6ne 1W'p.K  AwXm `F*}(ǏBquz8A@:7G qB^Gk1XE1A7Jh2iy{9Y3H xHPrS.UMDE+a=%%X`;}#ͥfb$jbqJɣnR1$>]ahеMۢ5듳*XhlrZ,Є͒Q9kBĪSڴ*FMr풳lᰓrn,g:+HwG#+)M͂rYjr֡I;)gREYr쮜u7V_uUwErU䬫֥wRκtwr֥{CQ9ʎ"E7@g*my䬩3avQb͚, 9%rn9eW'g Mܧ,AP;3UY;)gUpU"៝!rVM{,ĩ3 -@ vo};߀ 9vUd^YI, E,B_eldG8*,p͐U9 BdϺE|"rVw@겭h^UrqBfaeM|erv&DYQæ^Q̦^R]zMvACzMvԻ.vzMv[hSnͦ^,dJӋh7+ԕA}2:Tr:jېʀ=Ω)cy ДմwʼmS@zmԓMzə]aS&=&&kS_ĚinCCknVEMo~^ H]!%B$s PED,B ~kɆ"^w\ q4W^kjN(bmY1 E,_HfW[%bmZeuE,v}_iW!bSjl2N!AR뮔QX׬o@ uy(bz^_"֡ RMT"IܺVn*/bNb]Y] ~6}]""֕m{tD,VG"QW )Үk%c8DFA%]6v.HR_FCP@WӶJĪ.XzuRc}% $ /񶈈EOW7ݎDl!bQɆ%)E,[ JodGE_,zŽ^ H\3&buY5; Iv2 Хluv^9ZC;t:C]Jv2Lb;t)\mvڶreϨ%huέdDPПPM2xSG-cdqN5^kt”yۦ.klʆ׻&gfvYO哀E,"&ƚo[%b ؊D,v G;tW5ۡ)b7e~"=פ5 #,ǃKŅel/65Aɪ4 G> C r4<2fx lEV,aSE`ý枲+y -${ndҚפye\͡t4y9JQkԼJּyּƖuS^dGB˺pKYd*Z^%,|Yĭܕb~W^2n5 Tgma&Seh^Zvˣy*ǒ׸eeҼLRlɫy"4⚗5k.*u[(bhܚCe]V*` Q u,ʰH/9Σ ]ǹ;6&|Ǧ^E5I[ mq&qORL➯0h{l{IYL2kL* ȅ~oш7h`4 0ya 00ř-J1IlVq0WFIŁ?S&'fH&'T՞a6a6aZqyfH&T$.=wv#;.ʻrwg7s9}wN#;lg.588+N#Ӥ48+n#ۤ68+nuÚU{HC#A`o@6zN6s=1fLbMy°ҵK00Io䕥#LGgAIΒ>+膻Ǹq Vͳ@Ai /%%@JLP ](ÍR00 ۧI5 Ca#fe6c5e5R6>,чۡħ$ >]̜`J² li]v~7"<&CWdk FX^Op{>8= F#IfJ)KI!\Ү)5*@7N 2~eҥ* QnuEHo%ՐՅ.ɇkIV zDVHv_?+ߒx}w*?CTH-iDerGl)76D %E͇X/c N;8Ƥ"7r5 Fdj^{ݏqu?"0J@`{`E-IFȗ4ڗ~0?]o$ Np:;$AG6uB#cX aÉ )43b'^4z珀 {A>x  ccJK2)j8Fw{z3r A< ~bO\}8m~%ק(\6Ҏr~Obd=ldA$sKtĈmbz0OZGƴ&FMoP0q/J9 Wd#㙡MrvhFHІv>K;S7ͯI*s30sk´{I&oo0@E((P~##]x ?'o=x2bjh&jS 4Ifm*wn YG]\N 0A0 %vTw^څy /s+l޿/_= XkcmY`0POo[W((W1]Gdԧy:w'$(r m/N?o~WG?z J:yt) ;& ;!^)Erݑ| ҟ4x77;˚KapRpшG= Q0}zv& zA~xx%{ |܍o>LMIEFDշڲ"^(-yV%ViBbN"_kN |{x?`Wڛ`GJR8i^#cZF{ ɗh^D*<uJ{:QQKN=SK7Dl5z&"?7oNz;'\:)3} br x'x.%{Bf–<tS|I{oBQiO&$ z9k`}@Q/6N9LBj+$#fc { he4HY 6$=^UCi' j5!sQq0f}1j_I_qSWGQ}3cz;n1N FmB4M=Njh٧,ΐNj[t|"SITNI^b6_AZK1첾>,^]v4e0AOshP^>$ q{+ J wAŌvAB+g'OHà;+w8}ԅV԰/Ou&JB^G/Mta LO%BR3_*V3TlvySfm&m WfU+MUcĚsLU95I-A&ʢ>j9Hh:8 ?@I rm:{"L%5Q|۟7|y͟7οo wѝ=yu4:\lVG4jZo*\ hedV܏?xP!%+m?KzAY&jBnk0Ƚnde+ohUAR*{5?_9/s$͌TKV]Ymf0ЏF=jn3O@}en>=Zb..кķ$od F I3 »C FC<#&W@ao112hFןҭ1]G~d8R[1EڻHp"D/Y'?;a_ -?9OL(v/17_[MնogKP{fekPA?=0ng?"/?iԇic3}O0G0-=~0_l͓視_fusG>-D4|U'=9'֧!d@¹(A?>2h@pp9{p?y  KE _7.jO0t# GI/xUGr%^S1= #P$gi%[l+B ^DfO~5#3L?'Á f'=vOE6 HVD' w&_?Lt $ zG^[ݧ oGm>eږeI縼t0Tu bA7$Gۋh*4Y_90[m^ٚ ZE/ZӶ%؜9l$n~Xm15bm,b:(lfUT^hmg FBJ)0an8um!No n 2Ѓo=R`dMoVT mJ mTJCCoF#b&`5UA9knUæ96`YȀ!`jkz5uնnnjqU&] 7]Ka0KNDFXf,@tL/ 0UfTfZPrJM2>J3`b"̏22?XҜQ2ːr92rm9D]jDA Ta8Mkk&H/, DsˑVwԥi[%OF0O}Z0za9-cs'`fu f#/ OH3[$ >rgm?L?_',,{q&+L#UI®@ӬS9K2#mSá7Iz3x2$֤#II |7p+LX~*ďaX4mK5m6o͟/O%! ]~x}~v"lyCoJ77&ӋKd~I!p/b ywzsL@W/9DZ2Q{^/1m T~HC( bIjKá3a!!'h?|l}?~)݃:,R$r7^Gho_O-IR3 wEwlH4~rZ|o[ǯOBww; B{>z=EJx׻<==\7Isd܁R1A&mG8gw#54W cEw[Pq6]BBlB~$_Gh7+z%$9@³$Հ>9xǐؓr!}z}or8e^bޔ9G7yI KN_o'hjU3٢3[ pžOSE# DGAt`u認 HjF$TJd )rwzin# F]Hp?==;8"nB$yc ' b$ѾDvCMDKiB: b~;Ly]/35jtw=~Q:m2{*77XiÇt1q ƤGd"!璡Ga0" ^~|C%0Y)BV#_aЛt$-P?e?ф&B&lq=Jޜ8NȒ.li/NG?k5%#L{BXQLF Y)x{@U"Kb6%nm7GQ"˒0:yL$j3Y+5{Mg!BRb7ӓy63B/T(i/ 8xXNj*wd٘ ̊%yp5$ `t^:f}P15C^~?Flh?2 6 ΎG)\,27 eiTɠ4 j79X ^dnL l^nvztcWqt w-6En1`S:;z݂9_`n~;!HѳT˂!D>.^wKަ0,{V]>?OVɫ/Sq:LiՇ 8zrn$i{~?K?+X:jGyt7&+@ $@ nfz23aes{Fw01/Z$Y>¼/jx$\2>S3'Q| ƈ8$5Mi"CQ~1Cm82)$:91}},khgl- 4yЖdiOO[.x6)FPV98Iq t䰤%c%-.ɦ[ +4w4x%Հ[`f'N m)kcӛ`HIid DDjDzi]0.07 k^YX{$ǟIUcR87.c㋛?˭?R?t=AAgpi!.oXE#FVCƇwۧ_%x̍NKOhɗ.U>j%-)M4u3}ޘ7L qZ0H>#Jo>tdi;3#đacu 0y&۟gt+'U, ?{yfʱ{7)4O ;u6Nk-Ly}Hbz{~*_KǗgG;Z3V.yMfy ɃEH*Gcj84d菤}E.Dō'!N^/t!R0dQQ)!҂LawOd'Zxun8:ZvdҖ跟!&}oXԽЯ4imE0~ Ew'c%pآ@Rv{9~bI$iO"WDO40H/`e~\ >$|>b5̀.YmFgRGX( >UO^ڕdfzpo,ZKߟ%\zL%0~^/|wQ}xwmّ,pKF$ f=nl^zܣ)":1V;\gLT}^ <;!sf֧AOG YI̟rN/N_{St4;}fܥ7c¿g 'ޝ]O *B$O.o~>%.N[>y M㷷?^$:!ڇxw֏Ǘ/_3bji$tU7a|3tô ,o#6{~#3Z)W~{+ës:uAt_i=ӂ,8aѓw4cT- \9ȏ_'i>J|wpH OIK50a>@vFRSY,(%qԞVRTΪLkUZ8" ƧhA_US@]`__?*? [O_&00X*4u]M엙 [\#]QE!wcKinj*4.&lVvpTUSJ hfSnd3HVtCWLV$[uRHc[.)mihGrigg T|f4:3}·]8$!q%?J'L<ͳNў8֞Մ'l `1lvz~A-l' aQqjlSVH{QΏ }J?"=pkHɋd8ѭ̼Ig&S`%-+&ؚ%_%_vt%#\ J!(Y=+!U5]%+A2^]r-%2VEr'mk՘պ2՘.lda# YF~6ַFHF0f,YE\{ae)U>Z3‹ g̚5ȴZu1s2` 3wIdf*4 Y9&م'wC v!.PCA:h еM{1wX?.ԃa:(TEQib[h P/!]f{ X8PT$W2(/޿ۭ @wn[z%?m[g܎ɭ̀!uS>MsqgifPPN.MmT,ȸ%]q[F[κǍoEBqn}@Bjgm>~ι3]O`ο Π{@fEkh~|`]@s镴G?/}þ\ޗ 72ի̕_3\5_A$";pv|qz%g9u|HLΔ-LW0wO'aTޒEdKե\2x%^2x_2xhUWa/Rß~qL? [s]콵(TA'-K]P s=_s#_i0 Xq= l4`YRc}6}QĆA'oVoqBfe2Q˦N jD[ =CU`d0`EgabsI^a>9p%%ə :(HKW" 1{䋔oJHmVs9W|^U8Tto0^\qz.:m4ֱLt6P}3cGJR*8g )HaE +RXaEiEUIHCj2k Ԛ0")HaDX&UyzG5mW@Z}fq-a}x8y=a tĄ!!t^šbEe)| "L"-봇8#m2IXE/,畱Mk2H2֕u&=4\^jZv fZeN qRb; k!Ef[O#}2Oj;f $R[5 ٖK ĤO85eYXfHUV-謎oʆ}6pUׄ@8Hd񴾣 pppp8C0,0Yf-u&1գ5]a }~6gF&?YS~zmjOMM̳&~n1ܮ5Y[;nfH%fKf“Xmgnza~ SǾs%REJ0瞋9'" cngVj~eGTEў+idn.TAAҧEic݋ᅆ8YS$u &Dbbʕw-Xߋ Q0j*bd tBAa8h8">\|MX꘨"W:+ [(J3YS vXQY1702 ]VKQgLĔCވ>̊0?Mq:ƥ3ZQRsˠ]$/oF2h ȘǍZ'p[_]]vc0 cCGtfwPBF?zo"mݿfr6{O ".) / |>~Rv q:ԯj%cIa/O,zd{.|(ek!!Jsk:bQ"HsdK@âI6 6)@7iEr=. Xtk0>bb zD-[Cll4wNU;3*9O]g'4<:(_߅v`۷Od~Wd̶k6Zoڤ)jqgY=빛qiu)^;nrݬU&`Îc\ؖEIf$OxIplEIS~ɖOt)fںK89ԌLt-Kad}grD)j sN@|`|I${@#f"`Yw tP9o?@t%T̼6›Yj&PAGC.3 SzZNu-0S*4N1+(LFa2n8hh E89MxmM1(!!9wPx;̛hȶ_xYG,!yT%3[197GpuzߏG[Y ;O:^D?ޢĿZpur۷qpK>92A QǏc>$;昚TlG~Uּd]-9i2i/qEOMoqE3n׃/O4R:Khϲ$p:nq'1AU8YU8Y5moɺsn:-C8s;u4*qDVhͲ%.h͵ 爆6g.?J-Q8<uS$'.]W\7V\9Hs'V=N䁡e쩚gvsЧ0:JnFFtn+af|}\37 +ӏkv #? ;{lt莟Mhjnnf|؊ArP)џGO,^QmЙ oNzz21Fpr8!i˵HP-a _]]pAqф(>L瘲RǔpK pK Ԛ [2l\5iq]jq\r<OKsgca+N M T0$M6,)$C\4%j醲mU. szfFSN"͢'u8*HUE6|a) 﫴Dք8OdsMk\{BsmN bB o~xOIsxNÐ|% ?|q{""eZokEn{ qMx-.4Ђ!`AgA^gc }ދ ҋʔl3n4=%^dfϣ(} %ҥ}vJؓsʦHɹ3kK˗"u!u&SC2cI.3B hhM͑UF"9)-^ږ~l&`%vVꚻ K6ˏ@hB3MS??ԮtU4GB3hkk$Omf:MꢵƠ9She?T˲mk{ \Jfd4#YZК/ٻڂmfW.U6Uc0M~_Qoa ?CcXliE`X]Ot{6n ³%¶* d Vk "T)M,d{>J*v'n]z~QʪpTGpTGv8*5>qԵT,X=zŞ bO^BaY='     0 ///_՞5}G8A8A8*q0\!@sfG~KYUqE0G#иC`'],Ř8zuI>q([q̛Az}Y n[jO Atڠz܌l)D-9?c81r'k (׏g=Y[Wh Xִ$20 t'?ޱ ᐄޙ!;.)1\xEtvq~x@ sNWI$GoU4~CB<S]էVʒw CP5O@Uv kHnS'Z2# 6&'t $@ N9|7 6iyf 5t~+hdٳ/oZ:8Տ͞i'ӏ(fqpv gpvH1LE񅷋,=g>gWt/S{:CB$ԃT 2B2Ay6K*U&KF_DK{8D Yż- FR%t{\ X>;l徠*H[ %<#<ͳnyutW<\LSz%"J}e"Id? p سv f;NN@z'Mkә&0MY.1d=Cѳ4Vj6w#$2gDpp|}.yqG]l`aTęg-v]˶lUk~6׻cK/!җD"L4a+!ɰR(A}z*H_X 5~jy"}C]f666my;fՕF0^'a(wp+&< <_2DrkȠpvMV]  <9sG%!Qny^OQU gu֫l6*H,dbl6kSٳO3N8Tau;+BD%ĖnbjD%Z%V_o`0D!a⢛',6M$l"a=M4MMTMD&be~9ΎhUk9e'+L-pkt{y]Ӊ:]/B_'0?^<~or`c{/v)O !YU, 8YG䭛v-z]wݒ]P jVG0cD]4|/o_>u@NٞK\Pw@MG!hjӪzĀ%UaB>Txe胾uxQou^&kri3Y:'ˁ#GrK/aBd;ߜ ܖ`Z眲x}"aA8D‚p#l0k6^ʸVʛZv4CSF^FH䦊Qk5JyjZn)x5`hَszM$ozIN +zW7Oݾ=jA,̒A~|нBDNZfO),9^0pQFgN< ,M9%ٍ*dIhe Eq8钾^sNBé&oA&h'u/KlT /co];"r_r=xhSȗʗ%iP(D1Eό0.:J5/nSP5)67/@C`=@7'F Pɏ):Bބu ^ td>k{No@g c4$\KW*ÅIlO26c0">Hu@/4UE,A  z 3 p= @?lS۹3GT8OF^ﯓY$ K$&Μ%'^6xzRhB`˭5bJBD \Ox^uQYAq{z&"D.U, .<5L-^&6ca0/K*2e6mƱO\$pי p1]aط%cv6I j\EU* +ge,-"/[ןמ%a}3կMh K3\-d̫YmgKUOZ 2a|b/Pf(Ҵ-.ў׷=6Miع/|M'&f0Y-jaV Fz^Of0Y-3+6 ]ņAUg[Q~s߳܈*䤐f]WwowMU"D2U"K+q{k-J!DR[^]c #OyF0'L…nhqUh ۪P[Nܵ&` ^+ Z%fù0. :3e\3E8V"+ '0Վfa C+1E8VhO[PNP1EΠNƦ06mll kSX6b]K1&Ę={V{jE0jGh'>i Ѽ ^bH}HG1"4%|!!hrM擛 \̄MN%+T?tP͊E!Gv;=wE!tzcB4lXbLJyW}UxĘAcBdLh~_bHL϶+ƄixAh{bL1 4]0)T UYbL1ZWcBTNxVj2&>~7~>y+:w1ML㥔[4'{$b}WEQXMH݋ gr!gmac'Iqn )[7#Iw,]IhPI_|KIC߇GecG; ʭ/co/~ E4R A34Hc ĔPBsI$4`.K:&3!;H&a|O}M<wvhb#?۱g^;]v%k_UxM[wzFz ^>9OV'el577F*j$yb:zDRkרǛ˫S5Y6fAGl=IWv^clin\Ӡ~j tA3UÞ;N%}s47LU,Phsahju1Ơ)i@9ZL&KלO6tu^4[Wh ^ r];^ v]_Suh\SuEIx]6VF=ӅEx]Ex]e .3M5d#` }6Dv: "Ū,v\ wph>soZ-"{M[E[E[E[e{-:\ĞApq^p.:yjͼv.4A#4_fc+GrRo1}+Gr+ej,$@0PFvF7'LT:sdM@+T~tS[$Q+F%gW!6Êv4PuؿGoxqD&2ܼxFJ^:,s1's1Wc.UnXBR"j Q{W.iU⽻IU;NVKwӏJ~_lt-^ȰtvuE55,Z [c渪i%D"ڳLdӝfvaHlQL."XѻbwzʸCyG?ֽcű4CD8k?S{ &RzD^+E {/Joy*Sy\ji/KxMy.r j#֫WϠ#𽄺hy> lUg@3MDTBZ>=lw:W5ԁ<ߋAM/(ӚQlkA0H(80Y15,l/,xp&FƜ6Xa!ҦHa>"Y^X"SBVvO}>roV,8j<7YTZEXfw_g,[sO@Wd!nz_L%ЫYg怮}OwnЕ;Kx<u6өkSAv?WAǖ}j hP%hYJ8$&R۷5LTTZhEʭ%֗!/ɲ!ZtN26$ .lOnJ$c*<2ZɵN54U-%נs[3t'(,xU]#۳z ))?PRy-: [P$b>aٹHME%>\tvIյ_[ hB,2ޝz'Vx7bgk^; n;9K-2Jo\^|dPV~X1"k98a[k[iiR˫ϛ|Q8N޽G %!4i}OHݡE^G0p@´{^#Ic?5d4r dȨwpt&x"*Jۚ Y1eǡ7|)dcw/v$H+70u0ch{1IAK9@7&!`a듫˛$˲>ipu?Vd + $,tqG["_ mRIB")T@x]M1&r bA?$ɣ+Zpl>bK$ADJ&;{vWź'1uJ~yC@҄>C '=(kǵ9f H8G0AlW N4+4:a!~ˢo( dhҬ K4Q|Dg~H $X|I$Ŏ.X<&oq0[tpMf{C'%cr ~`lEtYOQ7&0!H듳3".U/t[S5B;9y`h٧3,ΐm@DF|xi;tHG{afWt8'Dg^Dqֲ끴#hᵎ[3pJtLCܻ}NП AC·/mQ:p wha@wc(Ԗ KCD]U& $2|0}+أ;?}2(NXp}?m/<]I'jȳ23#mT!d!k(އ 7@#t]dJvٿ 7$'yǷ{I~+fmK0[sAEq`sږ3 FBok0 -΄mmm /b7۶Y1mYѮl}ĩk3qTp[⭏`n@.nU nNݶT ۉ$Ip)|T_w=H"35[Yat3g~ѻgs}}~53w;W!R*En~377377Sa-6:lA61!|-V63M!B ˖7>1V+B1c.bQW%1zn><Ңsa?`o~a z]LCIZ!cKc%bf7!?(k?<Ia} e<ćеx-۴8u?[x j$(^z<+}ֳ@@Ϻ>f\Bf$_- ̢ '^6CMM3}"I GGuFD' YЏ u8fڜt=V-s_eBC{~DrAePB$Čr`b!>V 8CGHZs&Gp0u胑"vPtb|gVr}wsX8uY?8\0jWL%?@2Zuη\E=ۇgjv%nɁ&ALoLg!!=wIv/uXZN"E|JxU1tKs H"\.zh"*YA >TLn/88?N?~|Vp/ ~7m<|2~r-?Sj %ȧ!XyM~xx\ <#ߢgοf]pa+o3hX'R)͜Ro?|FysJ5*U%: D;Hoa:(8QLfæ9,JWO]صLZ./WsܟLUN '$u|`/Q ^wK{|8εgZ+Tjee| =*&b]>h'XBm|lAmWcJBBٰnouh[}}6$Oߠ۷#̲Ѻy"*7F;^F;Yvbh/4~A6֑#Yk&9#^|]5ª?dB>+z*ZEJ%, J"o㳄H^n5%_w>XZ5.Ad?7o>{ Z0Ԑ_G0je_qCa#+j,,aGؓcφ @/E68OZJzS0:)4O % +B\{r0w+{$O]zN B{GieÎsŝK-i[ІOb淝1)WWĈLkL$qr nH*ѿ\&bGrD_9ہ[B4ծj0)1|881( E5/rrT؉Bts?^Aեcm6 oΑ'F>|6Idט{i_<d|·pP=bϮ4)L X Z7"7dkSMhR$Yl}`/V<ӐDF`9^|kHBjnVZ~ag5 DW֚[r|-1h&0]Egd=gz4\;uzY P.J0>jm<>J&s ő9uv`؎2ǰ Ӹ YDH5x/jx?f?HŏB%Vh{/GlJ.X ӻ̘1_S(R!n?} 'jD 5+Tn]8R]ZX$xs/?$"}"'"c> le{!]!s3dkN_VO&9I_V;^_Ztoa@?SCt 'B3$,|®{e=t xW1:(,ͷFg&+`_Jخ3,X6ra\vr\LëN.X7R\{VqZ0ïSy /Gԑ9-v eX҅%nɎD%r9"r S Xe& 8X MF㎯9ɀk1{YFJ7@.CpԢA/DO⁕u;5Y ʒJ E>L+m،h2iv`űCrÂ@߃R9qڐ dVQZB nTNPoy&4X!˜gh@w#l{엕çJXT>$|Z\r~Q$}r>f\O'k5}r>f(ݮ#6;ۋ2\+KTv~H?r%u$%= 'W$_G/tT.& 潿=_H+yKWR}+B995bha[xF/aWw1K8~/wbo ZX+ϼW|x_D;l gÇR mKHN:9&]x 4V)!Gԙ(\/@VGW|Ggxq~„5[`Y. >{8 wrdοјSꍀ-7tNMh{CG5\Ÿﻖ?C;|phsK SW!\[zH1(ʋA&O(pڨ0K(Wy6DaĤE,}r8獓c1`\[MTR>8> G?u[ :Nphޭ(aWm6E!,Fs(;§Ǖn}wݏ?5+ Ɵ.;' ?acZkKπ P oe ;] ඃQlCm$rt82jf4,y +sq4r 17革c MkF~Ԉr3ZܿXx,xYرeN&&νK YN^=Ht/N5͋fJV *(FWxu`O5I" FtG swc;k͡a⽬r퀔dv"p#&m']xA({24fehgn~i5.c(cJuJ5onmr4y ؽTc#,BQC_(CS9c=xOtkVt%_ L"jNRNktp3zP(Q̰Q({MmgE_]Wg 2C>;Zv7+ˢ1/ҞRQ]BwR/K7J_R*r1Y|HO~&n?WsN>n!,<b~nbv= $s B@z>a棿,&[|OԿ+l$_5PJ@^ œ/XX~y_/3ē  ~L,Y%ެl/sVVHq_Ե⾬DG Y-弾/DcsdͭWrNkC.p{'~t+%sϏRqolZ7<SK-V`Z 4AG:WV@PAAf>i P:yH_h9c36Ѡw@ Gc1?`)^4&Ú:rT>O'q4t_f!MX:V3^i[qSW{x~C\i`_"ee1s#|QQ L@v*Ndd_M`,m-,n6ݶnk7za3([`v{mT<FWL@d<,|c-t3ٸ!:AOp|Ο,$L-W̖u =EOCeSTY`Nò:I+eǖw|l] sKb09Hcɋ*'[ k_RDW؈֊Y2āl>oWI/1u\:)x~"󐓄a7߸i`9aY2"w<*r=dNg\A dml }{H{"m>ڴuQ<\ٗ4o[ #KY>©󞍱% 叁O)E~S Pp<<,/dLq-Gd,s{ mR?^3[}4STֺSDɟ4+?W9O ܗl|׊)~y1QX[v׊\L?nGVd; 03Lv8s1~(gݺ?XxV2iAA-7د,P+B%MC׊\N6>K@/ϗ g2Rl3zrG zzVOކ0)F(Z4^f=̈ 9(f)ճ.$0-mx:cJoĸ)1nz\&?S.[žN& <ر332*[Dg-Ngn&sD|g0#W:_k &j}.&aKY:Bv]`:l!<><3DA%Rq~7/^Z|t4A F$,`Tc-/#=>C^ GY/_9؍(:Uc8m4 x=sl}8 VKN-'!O"f!+xf_x|X*K"Ϫu.>)UJD?.,UrM_9lqV,_Uya¿/k~48!Z_do̊o|#DH"s"%_B˘6Wf? \wP1(:=rbVI-']nŹp1 4^ #p ToE?vT-@Z$kbD,yF6Q%jD @[J_}R5>$sup_ӗy~`9b0+[#|{#7D[6lBm3vA% دae~ؑ~퍸K&q__cWXzW>fqyN8(ӓDcM&Xu!IT$*bыL a)zT+@fx\g/K @*/6o5܈a=oRx%6Y,j&S"=$9g,;)6~Vٷ>ҵySf]9=֟/  mF$kt3$^Hvo]ǰ; J3rb:]xgSl4v BaUR~VaOzc'`bU@1 U4m(mzwѿ_H|u](q ѿJ+cJl)U@o<ט/ 7zr) b_!9@4ǐguU3gqH!> m>r84F-B3\8~>ɖdLN߆;ҽh@%ϻ>8yg.A](}'!DHR-P܉ptNme~v2nޜITk:Ċ&c,Om$1,S.Ì>t}JR U9FZMAZJQ$*dycsLSrq > _\].#)}lvglٸkPc\Olb߆77 $3@2 gN-&}qϿ0|:4)Pkp6@wi&+IkIrn%( EsV@ 8*g %- vNxjB6 qBh_V )JR g܈4-ދ%7W~}"%zn;7$ptN1:Uę)@\!?/d#Ii#X\xo^.а#j.#"_~ ]^RhО.Q!ݦ99J/>ҁZ$>&D SԜ]ȘD3d5.R 7Ժ<-Ɨ$ v~j3l"tK*¨r*r~f8yѾ88Eˮph|6dWԹF2\c?XraS,ҵ?֚Li~E 3WOG p_o{ Z1$,J7tn"RrAQ UHWyVS ĴLVMZFypIuFmh-I$ZK%֒DkI$Zh-I$ZK%ī'! ksGlr[Xۙ%uEWsL_KM/{Y!r*Jn]wL7_]T(D B4>s*1!uit}p&: jbY`iwvC(+>U/#?6&ƙq03?+WK'8~co3{QREJ  Ǎ1KE+~juuC@!_Pц FV}EOS [әhy?iHݎr)W*V a1UZ(0/z';}f/CXౘm|7#zsZ|ŰbgçϛR, m'Oߖ@l+"uNvtln> ;Ic.䎼ܫ#(Lw^cfs]pOv1Q;3ot'RAqy5~Mma  Dx+a33] tgV~+a_[ʨYK^WG<+E,06Jwph;.:` v r2!#[/z"ޏKO>HL+\)g{sқ ̉e` NŭAuQ:SuDo{g(H'x#яV .!KH, vyK[X7D:oDAAr֭-J^O 5w!H^N o)??m,X2,\J6>/?g}8 ؑ2G$g3D|Q??>,v,lxUIx{-׀#|(4=rxX^ذAK$8&.2,7ndXa Ȱ8 lq`͍g4?b/s+XG0rJ@(QB5azBR ˼ٞ$cw>H!>7/Ƴ}Hu͘3 ~:sYR"%9uYExjqCe; ѡH7fI9Qrq皖b^P؜Łow6MVj, '4k6)΂16oqzB=iz7Ra&.tJco@@6)32J>I]*Kyڏ1Ww1nQ_kW״/ԯS&4"/DVEͺwһGY3acQs|^?ӝ{Z.]c&~j5TKgF11 bm'5Uۍ)=^'Ԣ%Ӱ( 7l`X6ùA®K3-tw 1g ^?  8գ^Ϲ9Sy! 2#K8g\Eu#`V4:i^w̓@aƜB :3z,_w=ec 5OeY_,#24;/1B^\:L9y R:Yv'g'ZN}S YxA@z|ZOG_Z'lO 5eifs^?kt2xdWf,ӋO'G0Esr"AEYsy n9p/Gqlwtj7p?5)OsvjL}}hD l vaL?ΧӋ)[Yܒ2_' KV݅mc^f܀tӡ;гսgAY(/YǴC.Oޤ~}Qׁ8\^/}KR@ŬR`?72Ykmhhh} B;RېUDw 'Df8aID,8)y $5ojj `Ź'+󀑳QWE;"_]֛i(?5ڭWT9n|9mh#o\|iTylHZPC>aY\h Qx줒:iu~99=rx6-x:a"WG!K-t: hK +G%*)Ơ~z8|h$!l%Q0NsQ{YX@` p@Fyzv E pEI|bK)R+| M pKN-ؠUko {=&aFnZDJ`f:-I`G=!OexV;OEVA! 9eպ[[#1:>Ru+$6>-go.Cj{0`nPZ]GCkGdէ#7f^R[.^M's׉[(T0o(oRM6>6ؼXAtr# 9,#(#h@|A0lr(-_Abǟ?;h7o3Mu4IYk}8d򋳱ƓIa6h6/},\SC3S HGน3Nog?pJ}\uRˌ5ӎ<'^q~u~ra~yɅYWe՛:_ F_͔94bA Td[m|^~Yn 哸OIܧ$SU}[-D0/* jhb6SPJ/5cQ}CE 0a˙L?(a|{Q< $Q^=`O? x@8JZ DDq# 5PzjW/B jDOW$'!qDǍ . x1A[|ٲAviKW׊_ oL f#-u4.j>20[B7 ].h7ۮ?*\q7u*j%s('~WԞASh{ߥ(3 g#&H>'Ń!L>x/ui޶tgd#X}lgd6?6rf85hM33BЋnA< ML6X@.qI{ƟZ})mk)1Q' UGRx=Z1%9|X1|^A+|^a2q^Sң |Hşb^7K+oZEż“o^7%0lux^E[?5|¨FwlN>Ҝ x v%&_W \a;@4[xtH¯tox]mEҕ X51tw| 3yH_ŐdhЏ; G)d{ 4s/M~aMf v<&c{B!69X:V3^!tS xq> imlzuZҗf+KWXІ0{ C& ,A:⊺B&=@9XT]_e e! ^YZUa/ ^fJ1` , om@TS^Jv/蛏 {/J-1@BՂmb\ی!B*F|99"kKn+&uivg XܚMY܎p'._θ|s4#t5f^ L+Dl;>ce\14>6_ CŹrΡR/X}1~Vt4T;솮pl]wcKbS`viZmb|,E`- <$lê#IpI؆$lC! ېmH6$a I؆$lC! ې(sT.?x9XH[S5o ţ ݺеto-W*UF vTgh#n {16>ľ{TG$E4M!)^^jXo[wy }ib.Mà Aj# DdV-ĕ˧}?1,jE_P$ҷ=Z= sCXaRw|Ͽ߿FX}b2[,<xv ՐWPNma@ XYɧ\A5O6^^Cd24F ԐI viS%[홿M>f vF~Z 'p7bsKXa EAl`{QPoQ ÍsP|_[ll^!ou }c>}BiXT]Z~"LXBhCpCĞ4{?w Gh`KKo[gg6l1[Va|ئr>۶zv0>KvɚzPRVnN4Iښ%"T̛hJ@iIAK_\sixNhcPnDr?pSOD1P%o96c91{xV l#'/ɾ;YI zeŸ M. y+)(ikSSZpgmh@gc)&J cVh;3%kb:ϒ v3QYϩq\8*M`b"g0]>7L#(G.g#ոב /EswK7~J;8((%f'o)lUU[+ 76ε/TK2k7h0gGWUox}eυp߀bYu_-1h׈|55dx5P&8b3V.W|R?jC,mLfQu;ҬjeP@ m3Ժ0inS^n _5++rXL@H5ܒY:[]*ZRD![A6>vA.2Hdž|mFyNfvyg;s8H*YQȆʒC@Иb*vWwyՄ?8>tО,W61&@3݀=_Q#|d+̱j䳥?6*UJ:)gEea%V%_+3êD@H0V)勻Y)#%DxR{'Id;%C`x m@7Y|jP do?ׇ@5W-|9 N?ϟ "2r(}%)_TDc\-(U/?zp_'!Wną]Ó=EfLuJUUDob>5PJ@P %t%3 ˼ٞw>ľDOD|GLdC"?L܌9<@>$U:Id3d7[HC` `j!{E?IsK$.07Y|];4Ul 8pfY Xŗ&m̞~ót'fX)U9}LvBrtq "q{D:>xK< G`sH~+ڂm8#w\fk!Z(ebfU֒ʨ+njʩWG`AnvTl-tOGl 36MG⫵G=hL*3*[5[+eh _?b6JhU-ԤBu grfuz1xw/C Fofe {Ȑ~Ć៊uʡBˈ07j+Oǘ㟧o^OJǃo1Cd." _B(s12̥P|l3ܓ YF4t79rH#QMG|!Rx]^>Aq3ӽ[Wr ,'QTPT6vdVtc?#)JĘ]tZimCv})E 6F<6sR/k\J*`Z*z˥^W+{{BusP9.Ӣf',F|^YZUgRGlmWr|Q/+_W`ho5+^ҠrU+*ookp7+jnA=\+noPtRŮ^VuCZ ~~PAkChr{z'6W-0I|>S/cS xLZm{0rJyj!Zo4xGJYx"chJb:/]^8P22L!GKc ; |}+W2(I2&P-P aH!榸ctpPA wԘr8 ݟ6]hCMbb7)VR;\ŗ Q!T6$eyRðgOf& dRXҥ*z!yb|3jI &W4js| vD{͗c~ƶ!CkATW,]M>KV;^ӖR 0313ʕC>-ba}Rh`p/vQp*\YWzcoY|/ h}6D"}uJX4\ P9Vxu]~-[XR=Ιxb`I ͫ_SUit1,"d,]㺂+WHHt8boN'˶r}%u.7pto0MYIq(T+ V&>-rhwzo'Ņa-VQ DH;1MLʉ?ʋw=[[L]@]v (Dm6W.VYEd-;/ӏ3'#sY ;NFJXCLz Yӭ[¶-Hi$ܔDNofoiO'.O#m {؉_ۡtk =iITAivxoJr0PY{ۯv] ٹrsjwZ廽}MUZWVK=]+{]mOWAW(m4 03,ئ֛'jL:β7/ouxK@9F3ȏ2wl_!N,~5&l}޻XvDM}e,RǷ6=+C6YInoڇئ_;+@5 :dD##rvjDk"|) ~N;'zeX[Z\ְy3q'_uifDo_߲ڨ_)Q*WC^OG_KճWWc'+ۙvha'c茧KRČF`}ڵ94 j[t1"'@Fi c~qf~Wkx+ϋ<׈sn۹^]>tJry雈s]0]̌jǽLޒ. ) us E)@|]n hN[V Nx򺖘+Y80vVuOT*~zZ;WVzjz{BP-b9$x|/V5t*{ ꯚԩTRN˩AJZyWԋj\V+^A ONY/PSE \o$KM U7MgM0KWhj[.!'@Wjx%uƱ.(U_rV&@;/ .\(_ emܝ>L_fb.n IqxXe5WЮ 9KOC hL9 ϻX2>~V\b酝˖FSjf|6"Dg&6RBe&si> {=kGۜm)k[Vg?5C AٛOIG4_WM-)B 2ԆIe0xY -ֆ~l6>O6sikcFG3dA{(x`Y}@ ds?v&Z5Vܽ6yp51'&&g?&O}DzYZz}:pڎ9%ӹ};m445٬A& =BEup+EUMeIp[WY??v}ʾCsB*~<]-1a4yBn5gB=^tcgT2`o-הѴ,Yoر(Rd2 }s  G|}q>4Xj7ZG͓9smx #af"p5g"mY(;@9 g^":ƹTf3n5fS ˢ3rγ{Mġ6P1MAbo W|ةy~n-Z M`ô nX47R{GhalY m=[̖UXjl5-y%Wr>۶zv0>Ѕ<~-\'^KښfcKs 6Ia%)ks)+QoE%8#.F_\7q) P`cb ImـTS(!1:Ot$yrbYcSv@!"}x}8cGqP#>>tkJv|Cu4A:r. juXW_7Ruטifj@aFmDȣoeh^!mx3T'~3uY?zi^at>>@}j[z;G=J>ϐ$EhXK HpF8#%~|Y.~*$+at!;.p87:Oxm,oH@4_1qӅ} FUY7!̢g>;K<Ӧ96GFmRVeV[~~| ^JO- ߱LQHew.oQ3DnAдCgSWj2[̟T*auW*_*/j1;L^c0 g+C(:VaXtBf U{⛱?=DBo2z~old ĪZMm馴؝ 4Zw/ƝOY$< f7l m iI~f3Azݓi ؛fw'5>~}!vK#;I#o{on:d! s-4wiA[u;4;]Պ]V~3&;H帻NNEri΂uՑD}`eq ju߲ggH?I97lb.Ԓ!r1@YTl TF/CHE% )# puhBZ2;4{2 5W׎LwҒ:|{h"d.nKUw;zr39,퀠+4o4odyiUG̔0#<;BxvdI8x]2 ĸo{ F,1ATY@EeٖEM˾N~lW Xt_B?bl8uyg--ƸHc"ei Ҁk0hWT+VAQU%SM9%v\49FJ}7-y}CT*I\;fjX|%lU(V88j|`h.l.xyBIɫmic[3rV<\V-NC)冦iJy47}Q?FN@Ydnv$۾;Rr&A{' !Oڧ@WffISqhG )˲p~umBIzzr#d)}x J϶wK4Ca.'`X~k(>NjY12fу`uHwQ뇧 i\g3aޑF߹߿c](Hh4} evld*Zw5]/Oc32pN>{E3>w?k&Ts4 rIoK(BVMŕpᛦϦZ^\ǺջøkOޥo8ɔBDoW6/Á-q[(y0>лs kz|n7b)iCO֮[?E؞?`_N qd{tKP2NJ6`_LG", ttt=aL_$=M%NTeRIwXeD\T@EeQTD]􇂠 ,WJuNLT`:z}! RxE(H!-~X1V"K~QCf@BwVA؏Pj)`LKuĪ*|E9'4bFdz E -+ T;` K[y:%Ђh֦ȝꀔ6JK̈́TC!Q6Z3F(x L1Z֌hf8~H55FX68uȏ5Iְtd4-]JF9)1a).e/8@gg^JVE. ̋v^>* ˔AK~m0eE,䢻㟸ceJzD˰gyyi p /2IIo)z $21M8.CJL+خ:$FhJ+8O ¿ R[N:~ZwنdU/uMk7tog´e넅 Ňj*V,j9q0  JfQV-\sD|Lң9%o6PT>d%{ed@f~ժ{oOM栕$T$kt^8ߧ&wAV"nWg} fDlO0˦ "SwmV5§jMļzye}ʩ"*(S:4P>&1.z+*ge5UYhscK6虹pK&sZIa+\݄v=r+6jl4$KH+9V)Մ7ɏS& y¯,uˁ*$ȔdÐXCLݛ 1dCf=j`žbNZ~SaB'.D"B|{YN@ 3k@(P9d TÌd\Zf]4TH'kQ?s9V窗V:NY+9Zlt+vm5$\I#P9;JR9BLrcfTT&fjm I_rSǨ-64ۭgn)4w`\q[1 \1x"EG oKjic)P!;40&]CGz C458]mJX~JBne=0 YδE8hYe0\BL|gSun:'@#/%Q$:|҈7aHn*yKDa;rHhE|f>oؖܒJNH.e0<@ 2|{veQ8jLqaL(Z|8XRRiAfLgcfe a--g3!d4&͋'d6{,fe-mZ9â&|5r}W55!ͨg݈CnG9Yj7L'EM( B-c:ø@#-谡$^9`a8hK$ꁾފsYQ10 }=m.?V 69Vhf'Hv=YҊ痰R|zTԣ uAFaV)AVb>l K\~QP i9ނѨ?dSU4|ՔZdYRnJxM;LgFȶgw5Rd!|\kV#mԇvTv8bE[=2.CК+#R"Lu+X"5}wD^Xo6쳹yFV9q{=Gܞ#ns9>PqW7* Ĺʎ}svzˉ|n_>⯻ t3 skz|_W|v99wT-x5,y%dN>ë,0g]t:8㪳q0n,s4x PqjWR`P|9A} n;'@^62v{-|岺O*S"*fx@bKNe?='_yL|J"a0 T[\׈H 1t8$h x$Sާ; EV.ѷe (Hb4!SEGOOgre8f;c8k=DQaBpYSZ!Mf3M4ijͳx^7>9Ev; t )ފ10j7 q8%҇gv{@g}A>F,?"b7`x <°F.nsU1OsRIBREo3:'\87&D;gw@"Li)'!Dh{YI?B ޱgfa>ߌ35P0 y!>ο ŋZ` /lp{ݣ iZ_6JOOpW;䶄Jjtfc^S(z(Ċ1*ptBaQ٥^)%L>CQW2<%ƥPc_$>/ucr"ū֠ϞC&I”}Yzzx:aFWD zJ^SRJB7 e6zazzYf<4*1 0f@(!臑-"ՠҤcӰQG^tu/_pms(_%SޠJ^fWF(ԼxaTsW0n0Qn$,p ܀84pɎFLWA s8#nkn.gԙ.>LfaצЛn0ϭ|7vL`gE5A6~| Xy2hRdb BAȒcZh+Xs 0*6wRIR`$,d)6HfR#RCZrT0 a+-qYK|cK8$#RE輒G@M&+!uڔ1WxdJ@g2Ftnv=J~n^Yqcn@Ayŏt4ê~yEOܼ_l^Y> AyEOܼ_漒f-Yj/&b:2:L,-O#냏3HU¤"Oa#$Fʖ{KO$/Z괜֝'2{XʊcTD)5qqY䬮%2vAF`NGSv%{9)ʊJz.es&HƹbV{ i; ރz>Gp^&Cqހ4 f }y$:nw+z) ^yBC Ol5u 1ƍ\i&5#yhxXŊz<ʀPg Qv)eZpW"!D©r{5 e8If܋e_[I/e hX^I phߊՄ7#UB|O E:jV64i(Z_7]G!#\f; LԹɤCe_-lǭF$ΙFuos*O,[F#?î4˪ Ɍ(!M n{9LHI]˂40xߡb\΃(;H3BPk*5dA"= ^z?b` uvt`3(QŬxcΤ oVD5UDOh*(c\"1e UL5DVv|6{` m2F֢T(BX}ְbt@[0LYa$?M=6X_@ C#ƃˬw"߰h:Niwf D䡑~Jfi&yoTyaFz#xTa{ZU;r#1 }uftaE&اq!4U>l },,d [%*[O+E,v"O#9b _a;5Z~=k.'ZYXV;F_TM39WID" |m ˄YǧKԮ;-K Mbq`MSpT͇ӊlL[R˦}IҘ8|OU#\uiB]#vV&,# TˡRO8Jf6{?co5j[h!Z{!r^.{G(_{N#Tb(vv [ F)D4 `MkLQfe 8mS`VLkȆV*v\wT-pHVX-TTMd6%%kMS2KtSgIB3bN($s'*pX]jiy^$;Ir#}=CGXҢ=P&MʾބS؊k١MNBR'6 jAYNlnkYpgɕr*JDhnQ\]|6N+BDL7e4M|,8M@_Y7q8wUj<·@z6yr" W~:ǪE{Ţ J·-U*yMa3PD4M9tnfaxrѯEFED$F+U4=6ZyRʠWomYaCͪbj3s0pj́b,L_ [&UaЊZ꘥!``(i[BځJ+Ve60SGGdUX7#PCVl^IxdPr@;躾xl/1`~(E:d:['rJ$8% C >h\&-i#|VZU(mzQ8\fye-`iQEEHhZPG?-yLucXPAVELHԤDRɠ XHeQfy~-}=7u%._/ ϵl5T*@d0U@h$ ,HOzr\hC*Gڔv8S!T{ÏEb=1^Жm@mK,Kȭ!j#|*a:v=yݻM2U\m+֒ϡ ɗJβN ƽܺk]m] :cnakFOHR_!41@Ox=9ɧzl]m] 0֌=F-qcv+FzLsب@^6zl㼔^wwt5uPmg]aݵg5@p*;Î;rs2x g, TGO,a:j]m7] :bxdh qb6S "}ȒݻHsuѨ.@vњѡgh㪮d_ldqE\%b|D؄P5v߽"3Z{V[:rCW;߹..yY f:t )e8}aU8azr,pW=.cXxr[))8w0aP^V>4+ꮚݬ : ֌Ah?NjR |4^n!#6p?ӕNwWFij ScK8mD `tj_!~lc``GG0l[No/g=NIC}cuAYL !.P4R8*=%by@;KbJl(THJ!JS|m{#Vr{ ,˝ٻ+W4`;uXEit zBNyC42c)Tߜ dL׹U(^ea0Q -yм+bSX[l]J{ FHhlq.n\ZùH|ݖzPd}WoR:pQ>dž[0Ь܇& |)&8,a7=1Pbac&COɈRy\(buf;M-.@} ό*)|{fGeR4 cȔ (5Zz?mn;#?p 8HW~A7Ņ翣=|*?2Pk_gg(,gh mjBX\ĖIA̋e(!fP.$UzrEJR((;1-2JqT@9 ^wLRȵic0*2IRV .GPP^'RF:/'[tD@o ;Aq!/g#Ba#&:48q_J NI]Ґ cǎv ^aNk`RH*>8)фb QHI8*ΡŔ(NhD/ ~F/ctB"T@ XPh S8&3BBEXNg0EN"'W_DNfMXʣŀz)"vͪ< 䔋䌰4.%a j4Q"J"7cҴz!=&%]D3;OJ~))gu'֖-Պ˛|KIjP,yB)7D#$.)4*CפY*0F'Nz er($Y.M\4tQvna!.x/Ue ",q5%  Feubj~cJ#ĸƐe\-KAD4rxA jngS%q xc%*BȎEkS 7˶k׏:呂/ )jI ,GT;<ǟqhTR:CC]A(!0Ss}5_›B}Qes;jd:Z`Ԑ av)[`^V2~dְv7ObVU5aG9= R2XΚ`\sZjʔ>囄83bnIZpmDX{ 8XE*i`ΖR糵ﯘ58U0 ƚuuK{3:9q|)Ӹ q, syD8٨&8 S׳Ҥܠ$uZ<~U(*|FIHj_0 FRgDrj:pRf~ av T]LIzOB7n(J*LszQS% ƌ|cfe6|#I\u JT4!6ӄ\]Ր.ꭦXKq  $JV&.MX S I/aԅ *Ԧ͊k\Ar2S(t=~*FQJ n4U)ܨAp#FTǺtxZl;H~k; ga| (^摓@XT )`⇪(e'pTUaen+ 6#X1l7, -mB*0  Cō*L00Z0EuQD"i,sA'QW(SQTxarx*L9 $U߽픖GZ=T$NiZU!IHĦមIt|*WkJOm!h;0ZZ6/SИ)ە7u$/(ouRx4p1{ֽ|yS*"请kՔ@KU2_cY,оpl(Bk^ߕ[hr\spW&ZpxS2l\]]ښ)X~bKjA%tWJfmAfy)b6 Mh[Ա{Xֵr]QRJcJA'ZR.a,h 0 ZxZL$:=؊hjL'0:bBTK41T0&&1-J8a\ʢZlhKHQ!HNź/!˄WG-V&LXJVy}ԠڭfwWnn%Qq# uVtHACp{4¥ 8QrhH~XSӺ/.)D ]d^ĔJ|[iɨ054_X~g _ tW# e/m4NmTAɃB T6RF^~MJnIRV)7*sx_l-"bSuû)LLPL+آ>FhJ+8IT}( IvF'; lC F ڼHWo5z73aetBC[ QHjŢs` _5`'`na >$KeHÞCzTPЦPN=`BFӚϳH¢ 9WV|'Qj!hYJBE2ظF7Sd#H60tfA7N`2`4eSYyDqmVRjLTzy,S-WO|T1ŜTpS>N#MJդ%3leLX嬳6 bL|nlJ^\(bɄ}B[!^˰nB(vx &\Ht12O+*eF~dg䀤B+ br&4/nC"- 7ِy3bßT9p?tvwx`f"`15􎁼c ;ώxyX+9 sM+M '[¾k'{'7V(Ƣ>x~~Q1Z@:XKss6m>:t,Dtz^}yFz}jU ܋E"@x ^/‹E"@,Q X DʋŁ@xq 8nGEcAp{!B㻚@sZG{ ]Cx:` g-tn ؾY'jPpn˘Ved\IrY.b*ƥyH;1]DZÜT 9?xnğa!<ѣ Q$2wh\dۄf[@M2هCh,A %hIeJ*S/Vu:K g Y^@Bx PF)Kݺ`Xz1:/v >g"܋ֺ4?WR+#B{+0Xp5Q#drT>/Yx`C(Z.~K_:wAK_8v-qdաG<ݗ{-b1v/[nkmþJEB*\T[ ،E&wtGh^Ɉǿ)[QB]|Ղxh( 5?)0T\I8C98ٿ“FUW8 4n`ԴG Q䴳g~aq־ H`e }xև,k Zqlm5nއRm3٦bA,lC(bnn(p[Mx0~MdiueJ(W=uX%= pMlW4=DiA*Ie~AJMnQ}ܱSQs?~?ԽɏmU"ҲeBe|HNe?=(W$[(v$3·ϡU2sЫp񝧦d֢+b\ o6fE,uU6&S*wcoi2lLr ]XAˡ`69q#%u- ."]ZtϨR 6Tk⟥5Lil2g? Gd=Nj >A?WO%C=:^0s!8{'PZq_ǵ)QkOv5`kx,RE.­g2p7IG༇p_9mzƇxW1&"qGIn&u\y }T +iLRl[Nʭά-~gw~|l =4\S{*JS 6t)+܏bsx9f EpЭl<9QT?Y R+<]Y p ʀѠ+$b] , اj^GmgOt9,ͦ%@"A5qT@ҐhܟbX}>|ցs&i4C3iaQ B#(cm Eds09sH`2A5A*$Dm$;4į0/@2XwWPy8S{iDyD"m1x6C{<5xpD $8ёDzFD4>9R҉]*f>laa h׭mm|26Yҳ WDYSGZ3`h j(G9jịj tZ׭ "ZN>3;B[hF" ȼ"e`]‘:AHVI'bEyGѾƪ[<)"X UJ <?ޭ F4J+IX7.eb} k39kwö,sR{41-$:ZL؜%>3@zZ-$ef5 Z2R\˔s-U`""WT4[Bf[F`o#ܢg:p-Nц?HY_X6OsV5݀THY!.Ala܈\ n)/#3X9pDNQpQ>SqC W"GWF*;\K╍́Ĝ)JWK Ǔ[?x7\ F|ۈM0tAs{`ocY7" \I]Al"=.VD%?yjL/*9A??;8'XaD{3_uI15|[䨀_$*v>.'')YDUV'@)Ŵl7&,rjf\^*fx)6EpiB B):@b'sɬ#߅vxY.+F% %Pڲ@[8a-l"H'<#YŁY{Yi6k} 6 `$ubT(bx{G@~[euSK!Ofļ# w/  {;p}bq= ~ 2[zcm\޼7և}zs}?{xw?u˷mqI8y7m{ߴ>vcC.Ƀ24>!:0=׫7Oo|1#Noțz__W|Oy?|}棷+uҭo?$_/X:y緾CMM⿫'|߅+76z;/k_N{ %?`b/{«{˟_o}{.y~q|S욹Sx{z/ 3:đ瑯^_é;u}; OK_7=ND"[[Z[~Gⅻoٳ>vZzw^om[[={z]zz[|{q:%OEv=r+O>ݻw_v?pǖmyG|=|wg7ߠХFw/dK_x9OxrƖw>+8zYdi3?~~op oؚw>Wc_:?}EuKso]9BHl=Ͽpa c}O OnB߇z o֧.:[~zOt[9\r'}K.j+4:ه&=ͯ}7>m#\t?;+~Uw?rׯi'n]|g'xiO?5^|˦_:sه/쥇_s1g۞\i_ bM8>nqe}?9Ƿ\ot\}?u~?|շ]swn=m݉g'I|yS~>|OU7}kݕG.[}sݽ{qaf؎#^9_>q5V=M3g?:?=Iߞy+K_{e]vIr|_smO`hg&OM^~ݱ{{K?.zӫo8Ⴧ`-=g#áo Wul}x׻|ozO=4s&meW̝߽ϿnN]o=?Og&yدz-+޼= cgį~_{=ϙ[G33y_yn@_7'9y}%]wM/';{.zoN+\pG}OF3\{~ O'ڻ甯LGSSS/'nY/F>ާ>wnB3?~Oޕ__xO~ຓ_;L0im{YeOytr׽3z/%;oߓ9)z|t?y}K𪛟|(goFG_/-SR%pߎ??}ґ>u~%׌|CN{*dlZ1M{9MG^9Q|»?mY엿M<.Z Ξ.7w}|W^{[/g?ecwQ>w'wAӯAyGEC/\~v '?NOo'n~:߯zv)?o?裎[%_)FiY~ξ|=9^1wm;gޞq7^S3Ց3o&?_zG M\sޗ];zpťk /xKri}.oNL§>xnSx򍧼묣_r_]qmv)7=M=2_W|<{V p[37}@eǡ~eùo|wڅ؋_|oy~hcZv%]Zzm2{s}S}:E T~ʏ_፧Ϥ_?_RȝG>Bg'??֑~צbU?䧛oNth"gD׽ RSAQc,IH)"Xbb== (SĂ`9Ez7CyNy7o~BNA} cj_W|ރ0IUwɩfO~XsYt}6 T[ޘ'4{~QaƯ5wgCcыJrJcRo;<5|X۵n?rZ}!pI1~(kk^+hIU #*nG`AxP>cs{tDZ?09zb~56䑵`jϮO,0Dj7ڊD] ;JaBd{%c~>J.Hs."xٹ{m`=m=]?uܺO{t6{_~EM]w񙣦&$u]0[1kl^wrJےo;Y?#Uj妫g,vA8:&ur9^o7!s]ۡ^G3;Hmc4*sa5UwtU7_}ӧOu{3]KBS3NQ:!~_>̇sn‚ktR !?^e]mUّn]n/=$i6+^4|F5q՗Y}{hTdƄE.!(r.W> 2F{{8ikI]XO{;=Gϝ_Mye]t~A~,Zw0䊢^Z1h:2#a[ߦ?)[>o&Ǒ!c;Tu$WއMކ RO4[.gy{ٙO?q6}'{ȗ8 SWm7{⦭'\YlpwF\?Np"gcvCÉ[m;=/ue,Ϧj\\>in[yםX4c!/En%֭K.0sȂEg+C=/cJ 2XYSvd3-Z'՞g{<)˔Lã xB&IHSἏWǕ:g͓4%;nS9%$=u?vFlLx^g*3h'%:sZTŻZ:}j[׮غNVo_ZU}oxO@vh$aNޕG6[Gk?}1%ʖ_+s7[/>!NN!1xT֣_:m qe'.. :$oZ5+v,0?%8ksأhY%p?{9\v;,(aCn[SpM̋OGbW&Qv}x}n5AL }ڰ;Gs&>IȈ ܨ8IFf;SzM;v(ɹ|cN.!]wG<ˆAl29{v,d_jZ A+Gh: gx_oii%;+3gV?vG3Z$2CƼx}`xZǂ?r ݐܥ jm٭󭫣_,=T| ݺ|?cѭTck*** +]9gnؤg]Uy,ik:9dm~s嘮n>>)E{W1b%i3>]w(۴4UxRſϮJ9[SWMΒG_AX5-7q<աnCPAQӌ)ic}a'o9s{ q>o zEH?7ݏ1VIo9 E/}j|z %{}URL R1a};>0dP.Z.iݐzƺdCjΜ*'Gfj!JìQ'Փ2Nݻ;t%?Ggyxb9GW':K$XO%:|~%K(]iEoRN%?iKfߎ( bdq}GÜݬSÝ}Nr7[qKKO>8^wË|Y`ɮWΘb&ot0Dkꬢ +E)RvhsvӮWO\& zlK]徤'9 !juIR7%:ʒC?3Nq G,٦;Y'n1NQ;_=}hz]i~o0[{UdmgG+\v&Cc߲ēwߚ>wLo/WXcۛQ^]z5ZoՌN,祠3fxwz^2:?=h{gKK>LXܵŝŠ2τ]]]\[fī[P.|mufm)~Ł k6n]m?.tw37(,+WԱy/^elSQv=vs6-E>6YGe6t׹)S v+Y-;(q"X Aw/-r'zacxBϪu?$γ ]4 [V1R(o/%-N>!AkIelGgl~!O$T{‘#6ٿE@&%/,xΈ82$7 ePaNp2<5O$doz璛7'8 N#lVŹCuZhHpt9~e_n8Ruk=oƺ8qSugfk3Bf \7"4̕ˋVVĮ. ?E.F9v 7e=G)E{ Z`%4tg-/3j[_l/̾N_O*wֶ7į{p DTpb4u %;#2ϳ(/ubұ]#i-ɟ֊1ݍ:m#{/8{"mw&$v:G| H'D;$&5G{Z\;4׍Wqd}G/mӎW4Y\rs]xu8&g2߼;>PR5u t=w?2JHsjL=K}sk<>r`[q_r#EM}YXdV+k~ҽGK'~Osy^1ۿ)eRc3qv[,unTξ[Jݼ?n鸗suttz򒗾;oq#g$Cc:÷3nY}g<0ܰ_3g.EcIaǂw"[;yr"ʶf7q~p=|fR#qcUDRd&mh(nƩ[eK*<_TS嚧^^GYhwIχ^flWӸf'Yuj攖;l q[a0`;%"xG+`nʢ-E6/a<cɺY]W26M^wWN˞[+6lxǎ.O^kaE8/h_vhȗIXq+'hL*or?9ǦƏD!5"3@@"QD6G8xEb!u=[4)*&sBy|!JXcE`Phx} ėU >Rh=mwm!"AC*qHe(eqcNCb`=UL?Ǝ`+<_="\ї-4 "2K,@zZ|OK I@,A*p( Xw' T B4`i4S@=;V2DRi*,q@)@r$Zʃ1^rTJ` N%5^<^n B" 1+N^ "cL!+ ~EcY:Q@)jP. xύú_B8YH (PӾbB^McBJ Ab#*'oV2fb$!!0v<1|4Tf1a(l'&q0#]%( y,+yc8 SDLb g)Ai* BZ9[5K3YLo% IDq@iŁ`Z;8dՒd+Ox 7a L“fLW +9mR&ٵ:0(  PRUd5MhPC &F07O"p@;"){YDNs/SPT<&W‰,N4aX|. pPN/3ITl,bⲃTl~`YPQ$S(^q],ȣ4XG@ 1CP@D,!G vD4oSrB4TȗFyJ͑/z O `q,U eB\TIJ3 0C!Hi>xS00$CC$\n}K[PxIBq<<4_b6zŁ8;9ڃq^0pGp'@ 2mA T,7kAtfc\l\KA02&L !"\."]pX7pWg Bb PDƋ!D""Օ>ĸyG1 .Nia:1̈́nf,+&nh܋<E%''H VN wOJalnkeق.t񔂈P H`&PǠa}@K |XnH[JH?CoM^ƊQflUضf,߻>o/8 \Z.Xp L$hȡ[]] B.ji'Z 6N93Hab~tAKJp`2/|g>9RB$­+MʔՅ.,xpcM@Zq(/#0"`8pl@_ l ٢a>C)zl (  vn̦M*P>R6ϬL q`Xa0{=OIh(t=h_l^` ZHcIJw*cd0OV2` HO2¦X֋Ar9ӻj|K CVY|!$cVReQ)F\X4i4wc\c{zَqPhsr,9Q+' )I/b~OH<54ҭh94&BJ'\OP%z *IzFRtt44"DK,G`7&%|'[U~f%-g˙>_= ڊ񅞢ᓺ6b8⺳-q=km8&[Q?1p1&׾z--hY>_,[/+eČjԜ|`Vզzv^2@*3 44s! iQ?V墲4CDvzNh+~Oȫy"ynVWlJo މd 2CB)`{3`[4&6 &X0P'"dž\N*ArhԔ>2U I$"J߅#vʽ~ nkJku٤Ӧ< Oi`£ WJFR:$*uSRo'mrY?*'I4)h0rSσ r[ 먎ukTǺUǺǺ,o!h _K5/k)Dv>z  M mY_T#aRǗM e C\"6IiIr-Q Reu2?% D@0B &1d:¶Ew3 3S뷸;T5cV(Ш$JwWI0);2P1H@{fJ>a]ZnblE[D})TbAQT|;Uos}!'ߩ4&46Wo'}vߋ@/=7r; 4\>EA&/HA@~z)LƎдȧs+&r +%FLlID(Zۄg44ª7;U{7ߣxb`rX2!Bh7/}Bxd$[O0Es ΁~<&W4i UT ._Z$,ALEe7 1i<čOP*aKL=F]{d+sĂAz.3¶/'(E @pߊMz7;Vraj򨀬d!0&8Qpgh!m(͊ vPe4\"1Ð0 dBFbШ A⅟$ó8s%P̩4KSA.<biw#Α))?MH3??M3*HeRfv}B7UʼJW)_EWoIgp wCT|AξewZ8鿙O9|19ѵ !øT#\`Y9ԍ *8}v|An"v%!^2(~P88@ &th66~Bx"(wpUB ~<ўޕ5qtqNш"m""PAA HIH"EVۊJmz"b[?vv7pk"ogg{s$N!NmX"@pBbg Ϛ".G.~VL-$2'8'Xui࡛}єa+ `AREANOj'rSnC C. ƁJ`6o *6~(6dWir7W 0LPNb(pYhI9@B M On0rl{Fº<3V9R:ˍ;+/kOGBSX~7.& HJ4M9^zB6l6qxB0613kB_?Cb11u&6 kcp=680xIЯ(mfPU5}kW"'l^ X%*w%,T; g'@\O6CK~wfwk׿,z@fS)p:gS鞔&':]QT[*FiR$P4{ zC -%ȜpWG b8k39 V@d D_Cyӱ"2`D1x0 5Hā'- A " c1N4 >c#j0"QȨ3&Sc55nX(̓bq0pW<w U+$aB*D|UW h4d(!x}1GM]u` N]M1`ˈ ꠀ8Kdb /@((U؝@ 2 3!^SC4M;4^p/uƗaiNdސW7iYYjn {5jqm !ozlk|9O6W<󊩚daTB^"x-yĀNݲ/[A~IΏ;j ̞-K@|MƷ, H5`bΦS `1 @e+@o ((jv!hTi7F C7lB1oI!fAP?h9`Mnoͮ?{מjQڲA;p}Md++^E!3glR} Hxv0UiRzpi;~#FLx?E+m6t+=.8'AQ'eD8:xL8{>6YaD'Rom$URY`Lu1[&LřdabѾZ1X B1b^ɾ,oyTyFAo7mR(hCSi[ā_i1V!w$ibYtT&4(uF ةR:"!{77'(aΨ!+<#:Ya;GxȰBQ5Nri{ l®74߳iuj׽H}nԪJ;lg*_bG9T~%l􌙐))V앬<}'; v68Ѭy.z̞i--3+l+F [mc[&0t1ɐQ{ $ꊒKrt.,;'iHq4lS+Ǻp$w2s/೔f~ B 9"z&~ UOxї|~߀«ѐg, K /\6cG;cë\9O14~(a7=+(2/qpml*A)Iܻ~K:.,]+ :Ux<=|aҚ_Gd=n(닀9s f I|M_ooMW9U-̾%17&=Ӡ5k\_ܷ9åv(O_eyI̡T~~!rX>HcU6řЋgg3_h\Iz<55ի8Hǥ駓SP&.~|t*ȴ"C2`3t(H%l5}IxgLvoiVcrߵAbS{UOm{Yc9|ݗP9z?us1f9o |#9zۏ9%ɉY(9D9n C Wf3tIR,W]Й٭"_5g/yQ63i -9zOtgGv}SG՟90mC+?5./r#6/<6lذ83\ݨ8ϟ7_Gkw5{ey}c+k.]ZL/]WƓُ"ғE5s2C%HO9̂c^}qk…._w¡͊n.m2 3\Ŏ,O')4p"s#w|$ͧ_oxj_MLyɓӷޓw">ޘCFu7]Ϯ9}$''ǍM:N30 S8 *߰1X.Mpv=nҀ 3xz!̤|ckAq[fZ|qC%3ccV|9h;ɥojš>1V}ំ}Wc4:F^p>TԊկ5"eg[x۳iPHct啥kgWw 2,-9أv]E&c.3Mزu?f5 JDx'<9iǗUVVB1̗;q)#ܤ!݃2%IOl<,mvfXQn܀~ݺ.k 6ЪK.JI]{P٭W=%UC ,WȯӯC/iSlNDp0{9Mx-+'_(~UIWÿŌ:^~?;p^"7 'pwx]3ffd.ONx0 y[G <~i*7Ʊnٰ>H.xw d٬n?f3g߁>RV)']зonJ"[M|,jG˷r\z|EÃDJM{|}͵W;+~,0yVY=4s+2u]׊zV~WbȒ-N%e4~I[%^ hiS ._r^Rd}~|?ϩOL-T%˺ҎA|_p2z=-L\\t?g{&*^:`_P̅B;ON?Z)e9V7_H3JzG{utw+p}@@?8ACA\ hޗGHgp5](d7UadT!Zo6_ !NϘ2!@rv7^G:%]~a B))w8࣪Ɯ?WީskYjyZy`S[Y< "hCNo:AeW FDssI'YgI+_OISKL)oZb3-)\n(]>)54͓n76S>t9?׳gd_ϥ7TVJ````e09yMEb^R18IN MW yM (>S[gua>3WHH榋:sS|&LJ \ϥo HΧ(b.{3孫_9З)GTj2:Ho[KKgnR]$Jċ3w/;LI4h89VGG|q*xjR!fťRI&yRs E~+[$T% ԪgҔjqj g<7V"ǛEo19 *%*:N@Ѐ)  _v( +6X hAab-:dre; 'M0ePSSA!^ L)br %siJ"ZjD^% nRVAP? ( yaAJpmF`ҎI 0YO}h^2r$ύYnpHaOX4 Qm^+eQ S10e zUhuBuy`,݋S1xQA貹iF+ R‡/^%xd"^^eRqKP⥂WvM&^Sn |x?JurVJ.l5vG-dx+ ^ᗂWzY_A! W$hd(:nJ_Я&+Ԁ{aOм}j#A0`UĪG .;`IP\%F + 犘mQSYՏXzdLZHtMϺ."tuz*9>lfvc14#!;Gy8ϛMaE9$c3ő_]1s9yw+Wx1WGS!ssGti&W)!8œcQe%dIf<$` 5}*Nm6GR1*MJm\蕙 Q_DF &TY(T3Aٱ#, ^9lc `,j8%Զad5T$YXY7k8EF.#'hR(@M][T)>3vi9ANP+d.)19&ZL}ʋF.=D~YNLWdܩ&qzxXF8b;E,W -hG>|bb:٬q+59tᣘĆW0 .D;tFNwO\♂I d1j2`PMPeE0rE,?HgfA'CKち)˄Kk[0b[8U߯ ?ى>d Em9'_32('`bZU(YO&/ddsBzvѓq0 @XI"J%qzC1*WvP|nIԙÃ;x6 8f-8**S fBŢE**j$^ ԬGs.UѬ޼DgH5z_Lp4w!\"7 r}O;rI)XCCi\*N{ >1hsrBX!w QťJ]uqv9]s;zizpAg;cM .2(2(2(2(2(2(2(2(2(2(2 7d:tb"c|S85_s}s7UJd aABo|&Kg![XZ/f F,|ƄKd-ZXr fQA*CC~`sрx%p:`{;+%>v*Z&kbz  0HcY_-XTI.iX͙E`F- 6 uqq) fo\dNl>ja1 ̼M, N/QUNQ9V-qKHGѴ~t7D6EG 8fWӟ*g~}܍7?" pn 1Pi m4P:d WƠJE8>",u j? ia8Oov ͧ9DžC(y([Ij ozל7vBk̊ ֘烦KIDKӵeDy@?IɉO|<!yrreﰕ5C=z%'&KNJG ict&wPV|{5o_s᫕鞜g^ wZr[ղ-YpENf ,?d5G^Vgy6X<ީW,]ީ7&z3'~MxZᵼ nǦ99-oQ-Qڱp\Y+ ߜlu~|ė/>ņ|sٔ~;9ǜ=h4VY߻w[vk2eڣ-|{J ={ˁ'O|~Y/lm9usooX_zr [Nn1ɽg}[eWWs5RdAGݻvήvԞāNzએg||+ÚqY[/7lvx]+q R^nNtm'};] -~5-wX͉jm_O]?ؚ O:o.\8[M.7coԭsl:XYOLsڗ&Iu'Dǚ1;;9Ɍ}qQ{Veny̎yǝ-GWX۷?8fŖ>k +YZgys o<ɭ;#[Iyk^?"o;}m@}lϛOvH݆g~HY;.WvN^1St?\ s{4NX]EG>{跕۶oy֠3)ϲno5Kq8s ڼ1|Ffy&95?`Emgn.L=2tsα+[߰cΟ~ĕG^?^zx֌3|XLVwj 9:̣:0zK WcwHxp"]SN>mu]T^xǸ#oLXn4OQc2[j__قӬcJ+r==4L|z7vȱ?w9hIb@癭}C3>·l9祛f{,]ڏɏΜbS߮к1+ih?z5o6UD^gֿ.Xqgm^~Ļ5u'G䤤w~<۱:7Oߍoo_]_wLfĩ?'ik׿ѿ{!>U?6<зnjM۶=$ĺg{wѲ|{No]}bȣ[cܹW9&i{˻KMo<s|@7=v,pz+o{^d~֙^u^;޺꟏s9֞ڶ$xр:e/r{D!JQi*[f=kYX`0b)BC%ک,+E.i$% ;}gƒս_a99>qи&(SzdY HOZ)jPY6vEVUVdFk`6j7m~ k%G {){MGMMMK+V fjyhD/\*$[Gdpx+etOinutwc۬Dˆ@cFT=M)Z'Hv/9җ_P ޫ$*F~87 gmS,q/gOwO_|ke`T=OSN\W _=T}oos\s[m>_%mj7f웒 wO89^6%s9Ծ>*Mo>}#L HfW]gSvz!7nSd&/7^ʁɓ'73"u˳eM=)or{+8v%ҲI4VAưhY6Gi J,e>*-JI +8|_'ݚ:SbOWSJ+>ɩYRI9(Uz?ˢ6{Km3Bb_+M{4S7սSXdg ;q8ۘ뭵f!q"n[/ڄL_JT㋘͕ؼ3FMM ~ҧ9?Vy^fɁMwt5iy0R*vGKƞ;hoBȄ/qg -)KvĹzl۳,>'&_VU <_q`>1͔Y .)`g_v-{`Шƚ?= VOWײv_7^TzGh'T4֥QIVr4}H{XТb9\~A7h_wʯ὾}7=y}{WzQuyyL6uoV#ڿ\^lK" :e]drdٳgZݢcV͒`ʇZzt-] +~yR0"G7.nq-=n9ۈaUU<)&L$ޕ ֳDKSs iQz͏S|D|J#o.~rYDEb¿FNv~?T|~ I8[:˔we}z:^G㭧^L:ͷKHP,;n|oc1m)yGi?EsڛyOQI6M}%)a#M FmIەe1l̓fեlvg'=lod/b-mϤ5Y6ghosEcʒ'{\-Jx,LmpK 54Mh%` H,L LSYBLzG[K}Ә zO.b[IlagB f"'6z]ۼ){ΟeW.qvav?6.XGA>}pXNZ}vc.%XUnkZ;.|:y666}Ƅs&@gݳ>wq{O'ַye;67nZt+3fn8JcxsJZO$N1krKsHӍ>ں!BxO{ENPnNx2ecl]@$jsw뽒E6YT$Y䇱Vac q=}dHCԽ 'lXTi~'g fT|PdG֛Res&is[ΏQ۝n+wTkZƤO *>ܚ]Jx4NHb{'ɵvLp5?{R#rEY'Si?Gnh~쏞ΏkXw^^TOht"B&$YR Yj'*6 @PN[Ę9JӲ< 0 05ݱPi•P&,_(ngičVpKReӧ-ٔiPFzѭeS*cz#B7^+ən?we>ni(#ឹYusNXQH x{[2~$!٦u6T|sCH)wpy. iHx<Ƶ| ͌ S{^"\ܝOW <Ҝ.󥥋==`b' "R*cRE مՋ;.u:%WԆ;]mSnl7dEM+xhr z_.氦{wXnZx?FF-sv_ySapb={~)+౸L!gN8V^:RY H,O藩wt;GRV!4ISĥ|?M.z _)nqhQ%w|9v& *zTNRO&~f4dJ7cX?cz5q[D;72S _K\HZ-怘?ߢO8B?z_G3Dq]AxFN%հ)M[=ZŠ:ysmm"S7&\2Qpe)8yE=OfnRqO/88^izy᫇7> uL n6<+ʢd$q^U^ _tm`SKjݑG,sִIPnXyIظiLt%JRzف{[ɽ(x=l+8cO @s-O t~^kf,li1=j1\9%?] 3ɕ+S*2vѷqق } 9rUe)>/>V-~5T~/șOl;WfAYmW!DmzNH|`5$J/C?;%y[Z()uGVs_G\g>8k!\|PZ+CJ:r63B|9oibҥ78®~[,մǺt\ fT\X'ssk ̞pw-[T\Xs'NbXxęXʉ+#K,IGK\~86#F9s>DH`Rh>^b8ؕ&;yͪ'khrAc[h/,YSrbo]W4#_s3Go5rmqKv8' 5qC"ng ǯ]UVvw.97+J?ezD'6~ݽ͒ x7`p )tG5oeegϮFTZi"}?O}~LU])bmܘGI\j:3!BiS|*{xֲzWYoU=prɚZAҕ$TE&M"2)B$gm-4!l ^Tƙ9VnUsqSpU,w\M+ޡ~\݆5lwtp$ `*ZFGG75ئގ%,;s@3>JIR4ӲǽQ4;7̕~9w7SC'n)ou{+(XBK'|$O9;j,\I<Ȩu<`tɮrq@vs^}JIQ>MhQ.]M+X~vwg>?\5w?z:jJ}{_;f!`HhȺyfF`C5?轷ڊu-nώhLx;wy{MhW+_ڥC4?5ҴJhO-qF3_"wӖٔt;s̭ EGɌHҜ4Ld|ި|3K7 5<Ӯܲi_Niy?H|FL{nYMeO/鑕\@~y1ǎ%ƣג[N?:y|k޵?f?OwգmǷ=aܓ^{c</4Was+ƥ3g;lǓYG/ ,sI3&>|-7)QM2*#Ѿ^*W])tiaɺeW?j~yړ]/B}JxBjG"3OM*׏TwXY̠a& >:$W-))ZKIzʲQqJ{r]S&_̞9G\E .(HUP5o 4o}I-启v]$>AG DHϗQe 3i" zkM *=?dVق}R`m$]Z,P^:s`-.˳˶u;YZs0$zjS]ZD J $)*X9ѹ'(M9ö5ZCsz7q{O^gTSyG_>.9)uխ%Ӌՙۤ[HKwLP>ypc3?/1j,R <^{ƤiK-y2d]4uw+d{9==v~3qtzvk:sw%4;<(zl%SL^טx̭ (.SL{bz>;agтWWU<)J%2z| y&c\Ns&ǍW}|xF=B:)7ϐ?5440l3) 3T ?U_z߿C &AeϿ<Q;:U^U؆Dnkd*H 3$(T0Cbax_6-Oc PX^lui}8Ds:HiZCPI!9=$4M@gӀ*8FEMGUMphZތAQ10$5^4@;UgKe2|qt6 ϊ`hA4U4_C0b__yp)|0/t[;xFowV~b} ]~.`4k$1;b5@zp:f79"y^Zq[C8'ZpthAWլ>#*{48@oSs|GFp8D*N2;8B0@ Xan7p9>_UD.c;kD[]4ᠲS cKJѧEb9s+>@6A!59`@cNHoƀ!qr|c#B唠w{r(4"Yvoz8r!b0.WpRCݾ(Y9xs2e tG3pyٔCxG\DfƉI o dZA!J(( 1FAcJW|!T9UYcrP? ?eI1U"K uBf"JhRʋTZ& s@2u#+ &ԉ"=Go Q}s`ϭ܈51BW "&"dXrm Q8 F| K8bܛ4DRVJB8wh.*':1JpZhÕVC3!4$6n JT_ Ţ ?Uxml!gc@(8i>: HUM/ FT) '׫ yiRh@8 sv+xOl`kڀl^rddLg!'r{i u?ջ6!? w\u5C{Ok  k ?gvֿXvQ1.7Q`x@7.</#p*:-]524ՠ`) 0feu9ǣKHu^ƛ;?@/]j#6C #j5ЈhD _oycFp'`ıCE>CQ~D_Y~`F'ܛ99Ix$@Nd~RnAfFdFd~L=T3p@6x.:q{RjH8,Co+}Magt p92r Mޅ4Έĥrn}/o}܀+l(!؆/ƹ)ͮw3snɹJ7|A:?KUvw9~)"AJ5;zp :jjO4G J01tn0(Hd+ HĘA$t@ F :޳˛ 2aeY`G #[D9Y;9Zblp+^ؕd*̍2~ E3d]j%'/ Z@!>+Q ɀN7>to" ۇC/C"8 7t#)CAߖo8 ]$qI?<#u}@H1? >e*q2 %Pp>s$ _0+PdB"0SnWF x9]~40`@JІGW~ 2%0PZȱdB8F:Ef= S Fd,x`s@gD% "9o@CA8H 3b{!_O[ Z@++Hiԡ0 ޿b5[-l(aښƕU,^Krܯ6Dm`ZU,͘\rş$ovѰt Z ++7cBh?(p Tg/4ldZYP ǓpD]LP{zo `:J71f==N$u6VՏGQ܅| f;Dí kU{] &                                                                                              x?ͣcVaw)m?;?28ov:l}P]PLz>w'pp=k@)Lݨ|y~Ĝ]KG Ed;| #ab(c=M˽7-c N+_M% n-/8P jxMW܊{ .4)[{uxvog ?_7'~f'LHL"S`kn~Zfy(&a.OL4Xmr egP?H +1/GkX3"*+NJET մ)= R=U4--_ɹ+@W@;3/ !%X1z>^hT ac<{f}6=gQ2p!A,kY)bҘ4?%>ImƳyl~]2` *+TՍb\YkIՉkfo^EWšU]!DZ5hƆ o'"V5\܌eߪu\_ӷ%7%?0[zt-Ieq sAv__$MEL|t%) .0 f%V:luGݣS `g?B]1 &fD A 7=N$9!\pXQ֦4I/m>vBH ,.,IiW)#`G ddwL[` e  ʃ)خ3ؑJUrqdj0\(HBc1$c&Ql̅Y\-Y]l6\>Em)jquK-Rv|@oFBt&Wspt$g2xک*'+&g*[ZRoڙb@z4UV4y9f 9]{:q3 ݢ;HDA-i_=٠T5f``Э&fz@[)"aƆcp{ շBfq "K&3h ]7[͔zJ $kIn/3P3K] ng>+YKg4QCߊpjP*U}\5 KٖqeXPKzfԓ8N[\&a6i59:##*ۀ0 zLFnƔM87Om4IZak <Qϕw|I(%@ owZ> $͏ױFܝ:(lv Sejɲ EzQ.V22p50}7,!elmlwek?U6*:ܮցR*߱?7s$0]bT~+Q.ͭ*A>+ m Y_*zukVr+n|?Wci ȽU xF(NLBV<1|>Sŭ18z DEpF9A`zQ 熎ER n]߳#ܦ2`XҫvkևvQCm;ׁCǎh7j=aRi^4ꛬX(Y?$[/X\+U#[_Xa`!2ĕ#j_+mUkdsgܟ]ϰ\Vs=|:5Zpr]enkK<֎Ȇچ<ڴ-R2wB3G <?9(y0j,މCi墐yM׽6̉Y{JK^ |/⊚xVbw##^ɍtXH(Zy$Ftyyi\dN]B\a sUfVNZݦ) v_ v|B+ύQw E:!S,}?`hX5 KxmZwJ@eRx8\(ݼaTy&wx ծkWT{ ykg_NIUiÊ+E|7ݼM krV> K#+߶YFZ-hbۆ19vC͒$6 |ؘfض˱/=(kg&qaMmplOO`ݑű(94 =0Ľp-)Bɞ{P`Xz-ou}vZrnvg8£x_՜|{0P|'Skd#]R69?Sr=u<.8v֒=cGg^7IEo<B]jPG,>SP/z|r۽6$R"GdtO=^g`Ze2lYxC`փ<ܑVg# 95,f9ϚZ8p1~:RUErJ-ڡeb9z"tL~ / mY~I2g |[VC/[iϢj%kARCwmj8\n8O$T2y57[>{lQ5/?fĴb%1bk:t`[z 96CiƐ{X`nM}ft#=fC?jpwg+z)J:c#_KԫPdz=C'ChBp7:>GLݺSujJ|in:Ae:yWi+>]?(Z|"@KRӞYbhvtv]l9 -{njn\) t#eɦNʥC؏Bnl,`3 a!^Pt!{=qfULƧ1m6m67 G %WCĕ 2pq|M%`s{ )j#(Pu;@)%G0PI !auTލۏG{iTĜGʷq䃔Ȣ9ek+^lxuZVs3і4JOӲIQˮt#E|5T"7:M.F;j6u5⩢-n2Ji?;γ^ Ak}+*swq5/5K֪0wO kRXf_hP'b$͌_oen; ?/.W7;go·ݟO~$.R5ņN?``zÝEB]`8_ #IX"˷c.| X LYֻ> f ^]QO?{'YQ bZ Q>rG7t,ӳAN޾y ~gB"B#jhE"9=}{vgwG=N:SNd\B>'?z.*sP(K@/cYo8A}A@ҽt!Ep :NB+SVq_^qw :[HbG:÷mGdd 1EO5f"rY-x+ri7ܶDl{MhQ ?,HnNUf0B7P8)W2KW2aUGi0ȻPa.dd4 Ʌ'?:Z1V&[~XUk\ʨefdC`\Vf[f8_whع3v3nqBɳ@">_xbi~Nń gAGy$2wnE1ʸ>(F2yLM*s襁ܣXnx`7{U%<_$T$]& &KWn WLWu=z[Q2ݳzuup+{`7zѝg-rn=#->z;O“WvύPQy^ɭW[ UP]]Q3U11HR,j9VFy v;4! "H}Uqu+0(&= Pu jX P&EA H5:C"6[TAj#׀'&[ q\t(A)>[t)fh }8zWRndEd9CZ)Xj괺E8YTWXEvOC Cueȳ2&4)KY݊ mmeQyagI}kwj͔jFC42NF sVh[2W>y1YM&OjR n<+Y-z5J q|c+jR8v=]Y1R | A>DO MKMNڽ@$Z *8wӃDSQe44 (%! vcI֚hP}B >ƒ gDY:q|/(nؕb.%yCy9oO5%S,w;oEз,"  #q?3=./hXQ+ y! L2XdP+碸s۽Iv>=Ě*U bS٪+T?ϫ\SkAKA+ PeB8S5[R` ok=?RIG-jgPJ!%|wv`3菓MFUJmz٦e@w6e+qDP [8OAQ'-e$t tXV+Mf带Z8O3Cu+S ggKخ ^;A\8>U-_1FK4YlUCϜ[x2 qAYTcEY]쟪X¢.KcSdV͹/|!|ytX;k%\b4Pߎ3~WY,$ AR쾌44׏=іe +m> ?:Dջ2EQvu%Hw(6jh6ewa"Fnǩ'1q[5Km ù ÿZ&yhSԷL9[9GWy[rc3Lܚճz-Nk.tD넍,H [cP7d>z!$oY%S3K-sO&S+jPzf I01y0ѯ1lȨХj? BЃY۩z%&z싍ۤ36<[tġؐ)8Z#2S MocUuA!|ZwzUWqC_N^izFϒwoxKYpŜR(ʹU[/ڕHMazNF,IR8g"wL]0`!:fO]Pޙ: *FW[0 - =EG;N7jmƔ-z-' ƽ7sfЙ>)㸵l>꼴6{)5(@bfg-= x( gK!zޥ GuEXSҮF 0%{lv-Ns*Ы~KK"x*!<+@{L w;y=V+56(3sN% d?ZǛ͕-7o˶_޼9.UU䌓 vc%Je" W)K(3ۺ:&uu0$mrM9?FH_]:#SBpTJJ Q)s82%tyٳnJd&W^BKBpdJ(J Q)p8*%G! -2=FL[%$k uD,;{+ ;Wcf-ĵ!.kQ)qm82% Gĵᨔ6%qmgMI e ruObN"6!Y=3C~1 ]A#S"pTJJQ)t82%yZ8.YfIu['(V_5E][rDUh%&o<RbpTJLLC^9&h_DgN?P}xw7z#1+>.֜iC`;gi8%#SpTJ3 ktPs WPث͓hJ?*x&ofkJݜWгt}+1t[kH_KdJ LQ)1tKb0nI!QV-$'J QO4~zև>Y[$ wI\DĵȔ6׆$ NoRErLQıdž$ Gıᨔ86džRpdJ:q,igRԌ7͙(J_@W;m{jOܭެ'^Qooj QtV d'=\t&=vI@{ kL Ñ)v8*%wIvBaer]0܇ر6,sI`\jf' ?pUZX/@ C^~RpdJL Q)wK0]joXNl.3SdǼ\jc.lKpTJ4LfÑ)l8*% wI4v5[Q3f$l`3lRpTJJ 6Ñ)f0%[(ؔҶggR5RpTJJ^Ñ)k0@hf6CvL͐؎ac8ݕ!f( mlw_ut-C\R Kz1F,h6-#ً76+eR[P-4P GAZNɼiyutΤ$Qw82%GDᨔ;u#Sa."L[Ps+pnDn!vUb+-,"![C)!r8*%DGᨔ9"h3gKt,2*94+XxX[$0wI`DȔ8$0 ;9U ]|Xj0Ty Oƚ,pm&<o naSj$| އ%Xo`} kL Ñ)z8*%XwI A5JFF34Ό޾{ qyc{xp䊍[LHfg#e=a~{y~(HaT$wIDDȔ(:E$ [@љɝãdhrhXymkFAWȑ HT tJS}PYK8;g#SpdJJ]gwq؞Q&gǦGj MΎdVG,uA5lmQu#q E$H ~N3(µvFR>\2H٤i  fbmbJdyxf4o3U#^RD3j Z6kYe?warC8wiޘxoxMY7^V~>uL6%9 G#S|‘)g>ᨔ3pHsIf kL`‘)L8*% wd`[D0.`֐Ȕ&R"p?wVKKE Z_J DRz{*ORM$gzft۳m-IB۶v1=a^m|!81CO<31+҃l!mHZ`,SџW|]^խ]%%׌ --ooCYꢪjIbe#t2ߝJvڴ 2?.aӰ +ȰYZ7#]P aV fpf R Fu _dyƾR[׌rw ٚM-U%9_^•ot 3*saKgwώG&ޡ ](_Ru KP *eheRɩVY g̮Trf]˩Ph=(CetBUH*B^09>e%hZb0۴4x?+PB@*»FʲKA%|3<.*sP(K@^-md)<Ȃ|AL+R%!Ep hvVZ1Ȯىq2gK4ZJVg@]ڜX+QIh-.}R6V, :n*m]}=V ٥Hd\Vr y͈ s #06ܢb}YErs7RY6Čr2ԌyXjiR,*vw7>@\ީ4g7XQ 8O. vɻdfn"@&vV$1(^G 5OI8/UA-x ox[~*땦oe^V+d^x=/2ܹ؍^EtnYzx$}ɛ :$."w DZ_VpӢaAF[?4*p4~Vw ϬAgny궲Όd7<D$>(4S~zhomQq4jg@ۺCi'ojXm]' G #~ E!/]xZ5u?NB,{d;kBaS hV02 tƂs' ]aAVłPdQSFc2$!|7?a'3asON-7WeAtHqM`Ҿᚺr"Vnh-:w,Q7ٸ1ˣA x|$ ٶR$>U%0nVl(_tqbxuJQ7SWݍ5!o<15x 0O9ۀrDo ؤRp=kӊD9MTGFݷX-U25;NJ8[+T2'hi`0|y;qw 3z Q1N}yej0&3x7Tұgah`eYxP0>'Qu?\S9V;4jg5*& C6y3a:7ϨIHfbg[Z|:YzaAEiN-p*H%P!EWn͂Sh@pĚgNuABme٩\ hAT-edz`0f93f1NVZbXg:#Fona- XK]~Qs*]`ρ7E fQlqQTwT wf`7I'oњVZV77r kM3*T6Vߐ2i+:ĻS}Z)g e:ۤ(VpZD E ?xa5Q̂"qs繏 $:m=3@vϼ/=I+8Co)C-G.yU^EwrswUjSQ(/$E%c; ͊],{]c/dGa3/RmT5A#TBt֒aDx8:C9pd'؅5dVh ަQ_bip{~2峨u1`k;G+]E >-b.6b"ng0mzuvd :S Q ;Rƿu!{E{8H6>+2d5aJ. Qlq6P{۠l+($q=l)9uD}GH* X&X1{ tGz?BA]jT5?YSUKZmGºô!',M۰g8- x ZTlQ={08 xu:):bȨ}0De(TS#dPY]vfF #z##Vx Jڽ=_' BH{=H.T r~lw׶0U"u ULe㵁*?L]oD&h++" -Ԫai ~h IERlʟlzI{uCvQA9|"Vn{ }FpbO? QUWVVqꖱ2Cvj"Kp a} : W2,uUգ7I6xf4IF# 2l,")1YD}BUq%E)ZUݺ*{+ziAɲD z2K=:*RoLqz ,a/jWʺahh-dZ7k4JOM(@w29DuId 7K9EE[ֳ*N 2Z 4f XnRnA8ʊl;LE2BFT%Y:IԪR9IB:`7 Ԭq!7yEWXԕuir!M VistQ*"{;m0{|TA/LC!OFfUw?^|ugW栏k 8G&q_V]YhQX]+Qր "]&sBn:KS]_VR 3ѥ)D#DcB֬yʜEg`$aV x&̟;(V } d2R !yt'060ߵ2rEEQv+%BDaܤ^׼sbIeӳFʓtuuCG U : PQ+#Ԋj Vݬ[m &ez :>\/rek41أZ+q(dE'U,Й ^ s{Ww. M4s>q&.ү n)|]w/ҕD tL_r^]w5Ք 3`J2[/$!h4v\pۈZ GBgK&.^<@[הf\0. O^NJBM.&QgCo]lsH"*P-uH`@TcQLS+t[)}*t* Z*>'t5,kuAq1SΎ]&_TW(nԺçVTóa{)[CDt;  "2dSrY^ImTmgVF7(ɮbi"/!gYeXtMՠ-j6ްn6;oLF޼ҡ`x?B=m^5٬V5@0*.vÁEls'O!Lv}mH^;ahH!oDg[V Vrt75wͫ 9dTa 4 ~ Uk/a׹N SCs>:,]Г=X/?Y !{4c0N缅;tQcyͩS}kNkp8wh6 \86SF&[MAHjc"5  M%Ϧ>z@6ϐB ||Kii^k#3`6"A!= fQ\37gw&ҽg=Ƒn!Y[u(P 0oDil}3fݪ 1) {M3+s0 ߔM%RdXŢfY'D΄&͂x+אs{R;xt[ZD-5t,q&$b {ꄤˑQTo7X}d_wN&;L ޛu& RǢd|6Usła |6Kk'pشY ʠ7lp '^U=#ᙱٱIM:" ~(LDXՀ"P# P_Q% uz^Ql4(-1C{glO Х 2]t&s8(*TMX I}B`s>dNjq d\TѿMF+ T[, }Wkb\jCC;\ 假 0-ꂫS[p6^۷gx;FB& O'@'\֙ t254iV̈0h-L.U m[$ N6yZƽC3c;G)$N/Kk {\{@)vO Mw%"~LV(a21-^zKx\VϚ P?YtD$Y4 􀤁1=Bi;,-CZT`h °+U8ܮXe Bp#f51#;G{2I?LDDE_1WEziùFؙ-_FqAܱ)N"_ p}F3V:J/p.+^@"UYqMy9^\r*eVJ9GgAtK$!9|Մ$`QB|ro)$Q(h{ٚ(-SZ1iFs&HU{ -g)N4{=$ {1qc $|*f}&|'3Ŝ {ۙLrf gsteY2q%[)\IG\̣z5rE׶"Gn=3c9`hOH5ߏSi_qO%u¥GΓR{Up KQnU[͌ 5 \|n>\X7խtɍH3El|?-Not[@dC?hHF&å7+h >d-u|-b$>'R&b B-%{^$<&L#%)2g n==] {zKtovO_nȗhŬm?Ct}N-nf`ϓqkAS,tc[S݆PALv&(H7uuRm[zXZ-c@`}k4TEoJ$zXmwܐ g4) 3["0vzӸlaQ5c 'nv[4xj4yh0+XZ>++0qKZr;. V!eϮmLSrj}1qn`>}1g6Gό9og+lz`PO}ECv %aX|힄. |syWPL̉#/3۳['hg/.=tw] T`0Bg]A@#hjΤMchE,ukWӻA,uqyBS-u Z?4E.[E5ŴDC5 u¼KDD!!&,;FXik 45܇-q QtΈ4H^ ` O(92!i1{f$$< ,[6m5i`=Et*𫛝`6X̵*gԞkx$\+kWrR"8J{ӏ!4F{Th+6v%fZQHU\5P X&^>x*@[>3j.nGZrs YiD0`XpEb6xmv[)[]MxO \O±.A>>dse@B8Vԓ|F*̓MeXap4pbp2C;G0wm5:|Nu *2ЧB^&]5L3e7bcգ:nd'dW1w}h0i9H=4 рgѵMW n^Ph>3|oUŶ岬Kƀ؂ɇ4 & ,Xـ.Hi3xJv8j*&Ga!אVZ̟5$Z5L[3XbѬ*[`d(Ô X[E}@򉦩s|Jm(@b\6&U N=í':"tƁjt߀Px&=XHTst!]GCOZRׁ{y6ph)үՔ#Aٹ r$LB*{.0=k0rE."dުA@ ànJc=b9 XCܴ,+c+6g rCIcYGk,|e6m,H"=p# ۹;+LqќoZi׹3H[$s/nTxgO߰YZ#"hQ]5@ Bz*\5p%fv4sNPgwώG&yyf^Ru gU Mlo%HE 3&mY{$PχZЮ ueZEzxQsIc_@8ns ~ 8PA/y@^md)<1J}8dq% LU<s^<M򜢚_v_ WB~%_ WB~%_ WB~%:x@P?@s3:CnJ'K3j>;NW@&:ߩZ^ɝ+veҗ_?/;gQ>9<61zw9S^/G{~Kʯܭ7/c{7֗{z7ֻ췟囖]鸝qߋ~WoƏ=o?? ~鬯<}˞XzϾ}{}Inu+O淽sw^9+_W]zWLeoefo~ٛ_>0⻾0[=~M4=ow|_~/ӆٷ'}'nO˯}ܝ3?⋎n-_z#߾ ?y{oy{ۮ^?xw7_k%#=̇ww?9˿8S;O_yc#~]7\~} ϸœG a}?_*Ol2|v7z[/z_/n_=#]3ʾL=3~s?Ż~S}8n}k_uy{-gve_O+wϽO_ĕc7s%T/[/=遾w= k~7F/\f{yc*lx.?:c/77u]GO}7.<ɗEn<Ӷ=f_xr5|<1W=[G/yѿ_]?3>5SNy-?uI~;w0ҽo|ħ~w#4S۾x|goiG8BW^:gfv%F'}˃qg?}7}wtJ^|ʥ/>trxx3ߺ?yǷ=}\u/pCٻ~|䁫θ7|<goóO_~?XW Z~_-__ԣd'^O_8BOJN쒣?3rō_|[om9}ם_7{՝{c{>nk_;ɻ?†~WG_sr_;vۯ^M?vG~xEş7w>tkq7A䘣'o6?us}|}#gssM{ҷ~-{' _џ/_W!R*oTH][/_gs>{?~Go9o1g`=z+p?w v5|SSw{ީv˟o/})ō#pO>|׍s1WsOs=w_%ͦ~?#v^Ǿu޲ćwc/sOvwӯxǿ?y'3oij{䆯 iӋidV}7d`I"ITBZOT$ꑒVsaT^~~?5ν=|~7{.:[|G^7k 5kmcߜy/Dӱh^Z|1j6˫<,vut_?)hʸhb] k҆'Z= >v57.t՟7ٝ܇͔KLh;*"XZ<κ:/Dx0 ߽`UIO+Q'kܲbON{G i㮖U>}̅D~pcBU1a#W.5;(J}v-dK}uz-ٷpVΜ*((V뻚k .1)'\{J*-=ܯEܬj~3p1e}>Nܳ@SW[Ksya|,R^G̕'\2rqvǎ>LtPr|a#Z1?#:)kJL|ݥn{?x9&u7R0>>'pڵ5sMթAoM v჉%ӛ;Rf9AUzN-žv_D\}k[UW26/qd Wp Iw.#D8jhSvE-ӓQ3ߌ=[b ^hY-sin"qai8ׂ:)}/ns{?{jS~VFIFe2mGuN^Axݍ5rx,GmBn7M-ߴlUힴ{Bgac{;SӴe?gєZӱ?gobagNXnG붮:\:qoES<=k(xXK3xxj" qحHsϸi$1"ⲰզA=;G\,ՖޑHOTOjӮ?\>I wIѫE/(͕,>[[0(?-zi&yBDžf7H EFi-u9:뢫x3UiP~P멿Sk;X)DPo4sy/䫶Զ6^B{ջ6݉k,:/T |,K[IDqoQ~Lz%SrzLq_߬ 䞅']H-*h&oSJ;ęe]geWff)qF.q`%m}zmjk-SRRկjhm.g6I՛mzcm^a 'wrVvlLjWpVN/O&fv.,-fʑ BB){ncs[.;+!P`\jǂ>~1s{':v ܙ℟> GBp A>fX]LzGBf6\B `MLuMJ-֯mrP޶_%\ʋ="tu$`[##01֡W*n)ۅ󙎼|rjG¥yK}͹+׽yڼܤ}K{I$3 |g jV[rݏH7-.zqg٘\듎웫IOD\\h^Igw.?RvT䊾u9Ѧ^T ǿL +Yt8uIzېj AОv ^]Fڶ7MJ[RKޔٵ+7@A:;TϹNQEx3a㔒)`eWwk0|uÍ*kL}o0;5&gQkt}kV1[6;-RQQYVeE_C)&f|˴ ((EVUh T~ɥQ;-2O: |PV|I~M[ljh'N.]^+w zsҞna_r1ZòR r0{h‚S\O8;&OjqbMdؗ[OZuVF 'Of4_w]cnmM(Ĝ/,oI^ן.JK|Ge 9* 4Jطc.՚$믐[_xzzkcnܸxo>,n9sؖ 2lv&rٽG-#xY E{CWvfbu__閊҇nn מͣ4r=.%i ~^yYwjol,_Ԋ/HyyJKKShDщ|[xΗKU tŽmk?nPQH.)TE)3殩ESb]gyu1w]g 9VH#Xk`˾/U'-QIhb䘈#~|6^;U^zKb% *[{OLRmQ)/Z+gf -T䨠 bޱW*)X|ʿ]&-rٱ榺l'Cd3%і7upR(jklzl-@uB8w=o513MR砍K9ϣl?vcO#C@m )oa\.\('pL7z:+6lU`6aqw̍K7ϙQ]W[:uo,z. rqRwIIɱu&3[#aQ//OXߴ7֓ۥ$<x6@_^^_!Qd OevH.Uwyy1U޹ew`pf[,>:o$S$Nj-k&129M 5W|J7h*Lgw¥tֻ1u++_\֙K^5:]ɠ*mT%[ZZLiM .10V=!0>~r;Nb -"w8̚03]PMUS X[?T%7;**1gԪԔdd^\I?`mf&7y1I;-͈Vw~gj*ʜzޙ}('/ν[)!h-}te>Q-ADJǫdUm7ePD Ovin6Vm~V(Kgf+߰m^ 8aaթ1gsKʻc`;e=l_فhWC8bRp!uμT;Iܺqx*=M1#WtJ=XS(?KU^dۣ nnnBRNwRXlsqe0.}c(k5MBiJO{ܫhj;MLYS^QcEσZgs͛ȿM$;$xbBlG+|ridYIi=ˬ=rA%eitM銢VhZw_.~#T׺޽eu'̼3,}iނS&TǍeD^9~PbSl֍%oxR6^+Lji4i۪ 5ᱶ؛㩗<|RiW*lZ“#%77Wdx1K[}TtM8DedUoqоf2c'Xл}`궁V3IMЧZFW8lnk7DK>ϏW诠h9߿!g?d㿰F{iO¿(uC XnNܠg>Xo,OTSR *Jha09Jw)Y 6F ߿zOF^^**~ dΟN5egHo;|.g pG-tQ ݿj>P\>Q-<5G FTBZ CwQw7<)1t ŋR dZ!&[No-7qF?7 )b땐@tsɆDHlTl@JWiؔ%Fwa (x1+ܐ9;5} l YB FIP0T/:A b<gʇBZvhyTHoѽϠqLuED!0f3 uS7i<UshDJrX1w31  -\KDl tG&vFdEX~B^ "L i~4a< $ ljOHrfXޗK~^dׂuF(w$3ˈB3űPaT:kiwp0O4#_T\U x?׺FB 3Mb׬+ilص NEy,nt'nhl;Ƅ`JKY'lOi1*p it6 ϻA/ ߺHS3ga~ȫ'}Z+zߩg >Ŀ׾BφPeih}e _ttY)e)QJV](bUaP9j0QZxX.U0F?|:aҏ|2e?=#/~%KYC }D>aaueԾSX/CCOO0a~r`QȢ?PeMAVPh7G er8B-L(,  5aBAQAAau rvhO?_ctC??l P5B@A5~D%;^ DhI_ux6!6TWC=z6߳F_0*̔ 曷(# {>°g#gՙU)AA'j@YYHʐe#7p9s62BAэz N1~JmḄk_l8Xb,?G9SrÇ#EX"F#ȼcMD{-q`4$mzsǭT7O>:-@ 6Q_aDc cN Xy,ް z2ʍ%$POd X j 9@JEB_ťTRWT Ā=pzf=t;{~| KnRb¥:7%f b3Tqf-}=DP0h-^ގQDfWİa/f@] eYpò kqqeH[+|5C&\H mK&]AEW$:Tޘ̢L]]!,h;UOiQOJByF(K(NHFmrdXo`.,_f_.?qAƭ8'N> N!CBIL]'TjpD
E=#ma|~d ߇ 6O+m tDV#lqz/pv¸.'zΞDӡ#puEx*)ObCO1IvG~0 a/r!8ܐ46B0!IlC x@v| &;VHb֛4qXt 14_Frf9hSf0h 8< J> +RCx' &w OP@9ZW~1= iwtՄ|H_Gf6c$kHćL%8?`K1>zX@!C$A,I1aJ TlE.p\5c.P+ "_5#LbYLT VوLYe#}/F?.[t4nnf٭A3э>Q @Bd~f=