Package: mosdef Version: 1.7.0 Maintainer: Federico Marini MaintainerEmail: marinif at uni-mainz.de git_url: https://git.bioconductor.org/packages/mosdef git_branch: devel git_last_commit: 9ba0438 git_last_commit_date: 2025-10-29 11:29:58 -0500 (Wed, 29 Oct 2025)