Back to Long Tests report for BioC 3.23

This page was generated on 2025-11-08 23:55 -0500 (Sat, 08 Nov 2025).

HostnameOSArch (*)R versionInstalled pkgs
nebbiolo1Linux (Ubuntu 24.04.3 LTS)x86_64R Under development (unstable) (2025-10-20 r88955) -- "Unsuffered Consequences" 4821
Click on any hostname to see more info about the system (e.g. compilers)      (*) as reported by 'uname -p', except on Windows and Mac OS X

All results for package midasHLA


To the developers/maintainers of the midasHLA package:
- Use the following Renviron settings to reproduce errors and warnings.
- If 'R CMD check' started to fail recently on the Linux builder(s) over a missing dependency, add the missing dependency to 'Suggests:' in your DESCRIPTION file. See Renviron.bioc for more information.

raw results

Package 20/27HostnameOS / ArchCHECK
midasHLA 1.19.0  (landing page)
Maciej MigdaƂ
Snapshot Date: 2025-11-08 09:55 -0500 (Sat, 08 Nov 2025)
git_url: https://git.bioconductor.org/packages/midasHLA
git_branch: devel
git_last_commit: f95a648
git_last_commit_date: 2025-10-29 11:06:38 -0500 (Wed, 29 Oct 2025)
nebbiolo1Linux (Ubuntu 24.04.3 LTS) / x86_64  ERROR