Package: ginmappeR Version: 1.7.0 Maintainer: Fernando Sola MaintainerEmail: fsola at us.es git_url: https://git.bioconductor.org/packages/ginmappeR git_branch: devel git_last_commit: 78c4175 git_last_commit_date: 2025-10-29 11:28:37 -0500 (Wed, 29 Oct 2025)