Package: cBioPortalData Version: 2.23.2 Maintainer: Marcel Ramos MaintainerEmail: marcel.ramos at sph.cuny.edu git_url: https://git.bioconductor.org/packages/cBioPortalData git_branch: devel git_last_commit: 0773368 git_last_commit_date: 2025-11-07 13:23:07 -0500 (Fri, 07 Nov 2025)