Package: biodbChebi Version: 1.17.0 Maintainer: Pierrick Roger MaintainerEmail: pierrick.roger at cea.fr git_url: https://git.bioconductor.org/packages/biodbChebi git_branch: devel git_last_commit: 80ee611 git_last_commit_date: 2025-10-29 11:12:25 -0500 (Wed, 29 Oct 2025)