Package: biodb Version: 1.19.0 Maintainer: Pierrick Roger MaintainerEmail: pierrick.roger at cea.fr git_url: https://git.bioconductor.org/packages/biodb git_branch: devel git_last_commit: 8a361b3 git_last_commit_date: 2025-10-29 11:09:05 -0500 (Wed, 29 Oct 2025)