Package: autonomics Version: 1.19.0 Maintainer: Aditya Bhagwat MaintainerEmail: aditya.bhagwat at uni-marburg.de git_url: https://git.bioconductor.org/packages/autonomics git_branch: devel git_last_commit: 9fc1276 git_last_commit_date: 2025-10-29 11:06:51 -0500 (Wed, 29 Oct 2025)