Package: SimBu Version: 1.13.0 Maintainer: Alexander Dietrich MaintainerEmail: alex.dietrich at tum.de git_url: https://git.bioconductor.org/packages/SimBu git_branch: devel git_last_commit: fc87678 git_last_commit_date: 2025-10-29 11:18:10 -0500 (Wed, 29 Oct 2025)