Package: MungeSumstats Version: 1.19.1 Maintainer: Alan Murphy MaintainerEmail: alanmurph94 at hotmail.com git_url: https://git.bioconductor.org/packages/MungeSumstats git_branch: devel git_last_commit: d2204ce git_last_commit_date: 2025-11-06 13:53:48 -0500 (Thu, 06 Nov 2025)