Package: GenomicFeatures Version: 1.63.1 Command: /home/biocbuild/bbs-3.23-bioc/R/bin/R CMD check --test-dir=longtests --no-stop-on-test-error --no-codoc --no-examples --no-manual --ignore-vignettes --check-subdirs=no GenomicFeatures_1.63.1.tar.gz StartedAt: 2025-11-08 16:22:10 -0500 (Sat, 08 Nov 2025) EndedAt: 2025-11-08 16:25:19 -0500 (Sat, 08 Nov 2025) EllapsedTime: 189.0 seconds RetCode: 0 Status: WARNINGS CheckDir: GenomicFeatures.Rcheck Warnings: 1