Package: EpiMix Version: 1.13.0 Maintainer: Yuanning Zheng MaintainerEmail: eric2021 at stanford.edu git_url: https://git.bioconductor.org/packages/EpiMix git_branch: devel git_last_commit: 5408436 git_last_commit_date: 2025-10-29 11:17:43 -0500 (Wed, 29 Oct 2025)