Package: DropletUtils Version: 1.31.0 Maintainer: Jonathan Griffiths MaintainerEmail: jonathan.griffiths.94 at gmail.com git_url: https://git.bioconductor.org/packages/DropletUtils git_branch: devel git_last_commit: 92de364 git_last_commit_date: 2025-10-29 10:42:43 -0500 (Wed, 29 Oct 2025)