Package: DelayedMatrixStats Version: 1.33.0 Command: /home/biocbuild/bbs-3.23-bioc/R/bin/R CMD check --test-dir=longtests --no-stop-on-test-error --no-codoc --no-examples --no-manual --ignore-vignettes --check-subdirs=no DelayedMatrixStats_1.33.0.tar.gz StartedAt: 2025-11-08 16:08:44 -0500 (Sat, 08 Nov 2025) EndedAt: 2025-11-08 16:10:22 -0500 (Sat, 08 Nov 2025) EllapsedTime: 98.0 seconds RetCode: 0 Status: OK CheckDir: DelayedMatrixStats.Rcheck Warnings: 0