Package: DelayedMatrixStats Version: 1.33.0 Command: /Library/Frameworks/R.framework/Resources/bin/R CMD check --test-dir=longtests --no-stop-on-test-error --no-codoc --no-examples --no-manual --ignore-vignettes --check-subdirs=no DelayedMatrixStats_1.33.0.tar.gz StartedAt: 2025-11-22 16:02:20 -0500 (Sat, 22 Nov 2025) EndedAt: 2025-11-22 16:03:44 -0500 (Sat, 22 Nov 2025) EllapsedTime: 83.2 seconds RetCode: 0 Status: OK CheckDir: DelayedMatrixStats.Rcheck Warnings: 0