Package: ChromSCape Version: 1.21.0 Command: /home/biocbuild/bbs-3.23-bioc/R/bin/R CMD check --test-dir=longtests --no-stop-on-test-error --no-codoc --no-examples --no-manual --ignore-vignettes --check-subdirs=no ChromSCape_1.21.0.tar.gz StartedAt: 2025-11-08 16:02:14 -0500 (Sat, 08 Nov 2025) EndedAt: 2025-11-08 16:08:44 -0500 (Sat, 08 Nov 2025) EllapsedTime: 390.2 seconds RetCode: 1 Status: ERROR CheckDir: ChromSCape.Rcheck Warnings: NA