Package: ChromSCape Version: 1.21.0 Maintainer: Pacome Prompsy MaintainerEmail: pacome.pr at gmail.com git_url: https://git.bioconductor.org/packages/ChromSCape git_branch: devel git_last_commit: 47d0ff7 git_last_commit_date: 2025-10-29 11:02:56 -0500 (Wed, 29 Oct 2025)