Package: CRISPRball Version: 1.7.0 Maintainer: Jared Andrews MaintainerEmail: jared.andrews07 at gmail.com git_url: https://git.bioconductor.org/packages/CRISPRball git_branch: devel git_last_commit: 43680fe git_last_commit_date: 2025-10-29 11:27:09 -0500 (Wed, 29 Oct 2025)