Package: zitools Version: 1.5.0 Command: /Library/Frameworks/R.framework/Resources/bin/R CMD build --keep-empty-dirs --no-resave-data zitools StartedAt: 2025-11-13 18:11:20 -0500 (Thu, 13 Nov 2025) EndedAt: 2025-11-13 18:12:09 -0500 (Thu, 13 Nov 2025) EllapsedTime: 49.6 seconds RetCode: 0 Status: OK PackageFile: zitools_1.5.0.tar.gz PackageFileSize: 251.5 KiB