Package: zitools Version: 1.5.0 Maintainer: Carlotta Meyring MaintainerEmail: carlotta.meyring at uniklinik-freiburg.de git_url: https://git.bioconductor.org/packages/zitools git_branch: devel git_last_commit: 822919b git_last_commit_date: 2025-10-29 11:30:43 -0500 (Wed, 29 Oct 2025)