Package: zinbwave Version: 1.33.0 Command: /Library/Frameworks/R.framework/Resources/bin/R CMD build --keep-empty-dirs --no-resave-data zinbwave StartedAt: 2025-11-13 18:11:15 -0500 (Thu, 13 Nov 2025) EndedAt: 2025-11-13 18:12:09 -0500 (Thu, 13 Nov 2025) EllapsedTime: 54.5 seconds RetCode: 0 Status: OK PackageFile: zinbwave_1.33.0.tar.gz PackageFileSize: 588.7 KiB