Package: zinbwave Version: 1.33.0 Command: rm -rf zinbwave.buildbin-libdir && mkdir zinbwave.buildbin-libdir && /Users/biocbuild/BBS/utils/build-universal.sh zinbwave_1.33.0.tar.gz /Library/Frameworks/R.framework/Resources/bin/R zinbwave.buildbin-libdir StartedAt: 2025-11-14 00:01:47 -0500 (Fri, 14 Nov 2025) EndedAt: 2025-11-14 00:02:02 -0500 (Fri, 14 Nov 2025) EllapsedTime: 15.7 seconds RetCode: 0 Status: OK PackageFile: zinbwave_1.33.0.tgz PackageFileSize: 1.019 MiB