Package: zenith Version: 1.13.0 Command: /home/biocbuild/bbs-3.23-bioc/R/bin/R CMD INSTALL zenith StartedAt: 2025-11-16 16:00:00 -0500 (Sun, 16 Nov 2025) EndedAt: 2025-11-16 16:00:36 -0500 (Sun, 16 Nov 2025) EllapsedTime: 35.6 seconds RetCode: 0 Status: OK