Package: zenith Version: 1.13.0 Command: /home/biocbuild/bbs-3.23-bioc/R/bin/R CMD build --keep-empty-dirs --no-resave-data zenith StartedAt: 2025-11-16 20:53:23 -0500 (Sun, 16 Nov 2025) EndedAt: 2025-11-16 20:54:57 -0500 (Sun, 16 Nov 2025) EllapsedTime: 94.2 seconds RetCode: 0 Status: OK PackageFile: zenith_1.13.0.tar.gz PackageFileSize: 665.9 KiB