Package: zenith Version: 1.13.0 Command: /Library/Frameworks/R.framework/Resources/bin/R CMD INSTALL zenith StartedAt: 2025-11-12 15:45:33 -0500 (Wed, 12 Nov 2025) EndedAt: 2025-11-12 15:45:34 -0500 (Wed, 12 Nov 2025) EllapsedTime: 1.1 seconds RetCode: 1 Status: ERROR