Package: zenith Version: 1.13.0 Maintainer: Gabriel Hoffman MaintainerEmail: gabriel.hoffman at mssm.edu git_url: https://git.bioconductor.org/packages/zenith git_branch: devel git_last_commit: d8b9255 git_last_commit_date: 2025-10-29 11:18:08 -0500 (Wed, 29 Oct 2025)